BEGIN:VCALENDAR
VERSION:2.0
PRODID:-//Web Ayuntamiento de Alpedrete - ECPv6.9.0//NONSGML v1.0//EN
CALSCALE:GREGORIAN
METHOD:PUBLISH
X-ORIGINAL-URL:https://preproduccion.alpedrete.es
X-WR-CALDESC:Eventos para Web Ayuntamiento de Alpedrete
REFRESH-INTERVAL;VALUE=DURATION:PT1H
X-Robots-Tag:noindex
X-PUBLISHED-TTL:PT1H
BEGIN:VTIMEZONE
TZID:Europe/Madrid
BEGIN:DAYLIGHT
TZOFFSETFROM:+0100
TZOFFSETTO:+0200
TZNAME:CEST
DTSTART:20170326T010000
END:DAYLIGHT
BEGIN:STANDARD
TZOFFSETFROM:+0200
TZOFFSETTO:+0100
TZNAME:CET
DTSTART:20171029T010000
END:STANDARD
END:VTIMEZONE
BEGIN:VEVENT
DTSTART;TZID=Europe/Madrid:20170528T110000
DTEND;TZID=Europe/Madrid:20170528T120000
DTSTAMP:20260425T055927
CREATED:20170524T092814Z
LAST-MODIFIED:20170524T092814Z
UID:14691-1495969200-1495972800@preproduccion.alpedrete.es
SUMMARY:Charla: "Un café con energía"
DESCRIPTION:Evento programado dentro de la celebración de la II Feria de la Energía Renovable y la Eficiencia Energética\, una cita para divulgar la necesidad de un cambio de modelo energético y mostrar las posibilidades tecnológicas que existen para conseguirlo. En la charla se tratarán aspectos como: ¿Qué son los certificados energéticos? ¿Para qué sirven las etiquetas energéticas? \nMás información: II Feria de la Energía Renovable y la Eficiencia Energética
URL:https://preproduccion.alpedrete.es/evento/charla-cafe-energia/
LOCATION:Plaza de la Villa\, Plaza de la Villa\, Alpedrete\, 28430 \, España
CATEGORIES:Charla
ATTACH;FMTTYPE=image/jpeg:https://preproduccion.alpedrete.es/wp-content/uploads/2017/05/eventos-energia-renovable-fin-semana.jpg
GEO:40.6589274;-4.0239866
X-APPLE-STRUCTURED-LOCATION;VALUE=URI;X-ADDRESS=Plaza de la Villa Plaza de la Villa Alpedrete 28430  España;X-APPLE-RADIUS=500;X-TITLE=Plaza de la Villa:geo:-4.0239866,40.6589274
END:VEVENT
END:VCALENDAR