BEGIN:VCALENDAR
VERSION:2.0
PRODID:-//Web Ayuntamiento de Alpedrete - ECPv6.9.0//NONSGML v1.0//EN
CALSCALE:GREGORIAN
METHOD:PUBLISH
X-ORIGINAL-URL:https://preproduccion.alpedrete.es
X-WR-CALDESC:Eventos para Web Ayuntamiento de Alpedrete
REFRESH-INTERVAL;VALUE=DURATION:PT1H
X-Robots-Tag:noindex
X-PUBLISHED-TTL:PT1H
BEGIN:VTIMEZONE
TZID:Europe/Madrid
BEGIN:DAYLIGHT
TZOFFSETFROM:+0100
TZOFFSETTO:+0200
TZNAME:CEST
DTSTART:20180325T010000
END:DAYLIGHT
BEGIN:STANDARD
TZOFFSETFROM:+0200
TZOFFSETTO:+0100
TZNAME:CET
DTSTART:20181028T010000
END:STANDARD
END:VTIMEZONE
BEGIN:VEVENT
DTSTART;TZID=Europe/Madrid:20180414T110000
DTEND;TZID=Europe/Madrid:20180414T130000
DTSTAMP:20260421T032604
CREATED:20180413T115644Z
LAST-MODIFIED:20180413T115644Z
UID:20423-1523703600-1523710800@preproduccion.alpedrete.es
SUMMARY:20ª Semana del Cortometraje de la Comunidad de Madrid
DESCRIPTION:Sábado 14 de abril en la Casa de Cultura Asunción Balaguer. Entrada gratuita hasta completar aforo. \n11:00 horas. SESIÓN INFANTIL 1 \n\nEl hombrecillo de papel. Elena del Moral. 13 minutos. 2017. Todos los públicos. En un día lluvioso\, Ana está aburrida porque no puede ir a ir al parque con sus amigos\, así que decide jugar con unos periódicos viejos. Recorta un hombrecillo de papel. Mágicamente\, el hombrecillo cobra vida.\nS.O.S. Manuel Sirgo. 6 minutos. Todos los públicos. Una llamada de atención sobre el peligro de desaparición de los osos de la cordillera cantábrica. Una madre osa cuenta a sus hijos como los humanos destruyen el mundo donde habitan. Y si nadie lo impide… morirán.\nAtención al cliente. Marcos Valín\, David Alonso. 7 minutos. 2007. Todos los públicos. En un futuro frío y hostil\, una abuelita se verá obligada a saltarse las normas para conseguir algo que echar al estómago de su escuálido perro.\nSísifo. Cristina Guisado (Artchi). 6 minutos. 2017. Todos los públicos. Un pequeño escarabajo empuja subola de estiércol. Lucha centímetro a centímetro por coronar la gran montaña que domina su árido mundo. ¿Merecerá la pena?\n\n12:00 horas. 20 AÑOS NO ES NADA – DE LA SEMANA AL GOYA 1 \n\nToni Bestard. 10 minutos. Madrid en Corto 2007. Todos los públicos. Terminal de recogida de equipajes de un aeropuerto.\nDesaliñada. Gustavo Salmerón. 25 minutos. 2001. Todos los públicos. Una ensalada y un pescado se conocen en la antesala de la muerte: la cámara frigorífica de un restaurante. En esas circunstancias\, deciden formar un único plato que les conduzca a un amor eterno.\nAbstenerse agencias. Gaizka Urresti. 15 minutos. 2012. Todos los públicos. Laura y Guillermo\, una pareja joven que busca piso\, visitan la casa de Amparo\, una anciana viuda que vive sola. Es el día de Nochebuena\, y la anciana parece más interesada en saber de sus vidas que en venderles la casa…\nEl hombre feliz. Lucina Gil. 14 minutos. Madrid en Corto 2007. Todos los públicos. ¿Existe El Hombre Feliz?\n\n 
URL:https://preproduccion.alpedrete.es/evento/20a-semana-del-cortometraje-la-comunidad-madrid/
LOCATION:Casa de Cultura Asunción Balaguer\, Plaza Francisco Rabal\, 2\, Alpedrete\, Madrid\, 28430 \, España
CATEGORIES:Cine
ATTACH;FMTTYPE=image/jpeg:https://preproduccion.alpedrete.es/wp-content/uploads/2018/04/CORTOS.jpg
GEO:40.6621635;-4.031169
X-APPLE-STRUCTURED-LOCATION;VALUE=URI;X-ADDRESS=Casa de Cultura Asunción Balaguer Plaza Francisco Rabal 2 Alpedrete Madrid 28430  España;X-APPLE-RADIUS=500;X-TITLE=Plaza Francisco Rabal\, 2:geo:-4.031169,40.6621635
END:VEVENT
END:VCALENDAR