BEGIN:VCALENDAR
VERSION:2.0
PRODID:-//Web Ayuntamiento de Alpedrete - ECPv6.9.0//NONSGML v1.0//EN
CALSCALE:GREGORIAN
METHOD:PUBLISH
X-ORIGINAL-URL:https://preproduccion.alpedrete.es
X-WR-CALDESC:Eventos para Web Ayuntamiento de Alpedrete
REFRESH-INTERVAL;VALUE=DURATION:PT1H
X-Robots-Tag:noindex
X-PUBLISHED-TTL:PT1H
BEGIN:VTIMEZONE
TZID:Europe/Madrid
BEGIN:DAYLIGHT
TZOFFSETFROM:+0100
TZOFFSETTO:+0200
TZNAME:CEST
DTSTART:20200329T010000
END:DAYLIGHT
BEGIN:STANDARD
TZOFFSETFROM:+0200
TZOFFSETTO:+0100
TZNAME:CET
DTSTART:20201025T010000
END:STANDARD
END:VTIMEZONE
BEGIN:VEVENT
DTSTART;TZID=Europe/Madrid:20201107T110000
DTEND;TZID=Europe/Madrid:20201107T150000
DTSTAMP:20260426T061853
CREATED:20201103T080005Z
LAST-MODIFIED:20201030T175237Z
UID:32915-1604746800-1604761200@preproduccion.alpedrete.es
SUMMARY:Comercios Mágicos
DESCRIPTION:Alpedrete se suma a la VI Edición de «Comercios Mágicos»\, en la que ya han participado más de 4.300 pequeños comercios de 84 municipios de la Comunidad de Madrid. \nEn la Plaza de la Villa asistiremos a un novedoso espectáculo de circo\, juegos y animación: juegos interactivos y talleres guiados por personajes venidos del futuro\, utilizando energías renovables y desarrollando tu creatividad. \n\n\n\n\n\nMás información https://preproduccion.alpedrete.es/alpedrete-se-suma-a-la-vi-edicion-de-comercios-magicos-de-la-comunidad-de-madrid/
URL:https://preproduccion.alpedrete.es/evento/comercios-magicos/
LOCATION:Plaza de la Villa\, Plaza de la Villa\, Alpedrete\, 28430 \, España
CATEGORIES:Espectáculo
ATTACH;FMTTYPE=image/jpeg:https://preproduccion.alpedrete.es/wp-content/uploads/2020/10/cartel-dias-magicos-alpedrete.jpg
GEO:40.6589274;-4.0239866
X-APPLE-STRUCTURED-LOCATION;VALUE=URI;X-ADDRESS=Plaza de la Villa Plaza de la Villa Alpedrete 28430  España;X-APPLE-RADIUS=500;X-TITLE=Plaza de la Villa:geo:-4.0239866,40.6589274
END:VEVENT
END:VCALENDAR