BEGIN:VCALENDAR
VERSION:2.0
PRODID:-//Web Ayuntamiento de Alpedrete - ECPv6.9.0//NONSGML v1.0//EN
CALSCALE:GREGORIAN
METHOD:PUBLISH
X-WR-CALNAME:Web Ayuntamiento de Alpedrete
X-ORIGINAL-URL:https://preproduccion.alpedrete.es
X-WR-CALDESC:Eventos para Web Ayuntamiento de Alpedrete
REFRESH-INTERVAL;VALUE=DURATION:PT1H
X-Robots-Tag:noindex
X-PUBLISHED-TTL:PT1H
BEGIN:VTIMEZONE
TZID:Europe/Madrid
BEGIN:DAYLIGHT
TZOFFSETFROM:+0100
TZOFFSETTO:+0200
TZNAME:CEST
DTSTART:20170326T010000
END:DAYLIGHT
BEGIN:STANDARD
TZOFFSETFROM:+0200
TZOFFSETTO:+0100
TZNAME:CET
DTSTART:20171029T010000
END:STANDARD
END:VTIMEZONE
BEGIN:VEVENT
DTSTART;TZID=Europe/Madrid:20170602T200000
DTEND;TZID=Europe/Madrid:20170602T223000
DTSTAMP:20260426T060814
CREATED:20170530T093854Z
LAST-MODIFIED:20170530T114346Z
UID:14962-1496433600-1496442600@preproduccion.alpedrete.es
SUMMARY:Festival Stone\, tercer concierto
DESCRIPTION:La III Edición del Festival Stone 2017 llega al tercer concierto\, que se celebrará el viernes 2 de junio a partir de las 20:00 de la tarde en “Peñalbar”\, en el parque Peñalba de Collado Villalba. En este concierto tocarán Varonas\, Keisan y Nuwanda. Estas tres bandas aspiran a ser elegidas para actuar en el concierto final del Festival Stone que se celebrará el 2 de septiembre. Junto a ellas\, como artista invitado\, se subirá al escenario Pobre Diablo. \nEsta es la primera vez\, desde que en 2015 se puso en marcha\, que el Festival Stone sale de Alpedrete. La apuesta es ofrecer conciertos en municipios cercanos para extender lo más posible una experiencia musical que afronta su tercer año de vida.
URL:https://preproduccion.alpedrete.es/evento/festival-stone-tercer-concierto/
LOCATION:Parque Peñalba\, Collado Vivalba
CATEGORIES:Música
ATTACH;FMTTYPE=image/jpeg:https://preproduccion.alpedrete.es/wp-content/uploads/2017/05/A.jpg
END:VEVENT
BEGIN:VEVENT
DTSTART;TZID=Europe/Madrid:20170617T180000
DTEND;TZID=Europe/Madrid:20170617T190000
DTSTAMP:20260426T060814
CREATED:20170602T094717Z
LAST-MODIFIED:20170602T094717Z
UID:15207-1497722400-1497726000@preproduccion.alpedrete.es
SUMMARY:Festival fin de curso música moderna y guitarras
DESCRIPTION:En esta ocasión el grupo de guitarras y de música moderna de la EMMD de Alpedrete\, dirigidos por Luis Barroso y David Jarabo\, estarán acompañados en su fin de curso por el grupo de guitarras de la EMMD de Buitrago del Lozoya\, dirigidos por Sonia Blázquez. Nos ofrecerán entre otras\, piezas de Sting\, The Beatles o Luis Barroso. Entrada libre hasta completar aforo.
URL:https://preproduccion.alpedrete.es/evento/festival-fin-curso-musica-moderna-guitarras/
LOCATION:Casa de Cultura Asunción Balaguer\, Plaza Francisco Rabal\, 2\, Alpedrete\, Madrid\, 28430 \, España
CATEGORIES:Música
ATTACH;FMTTYPE=image/jpeg:https://preproduccion.alpedrete.es/wp-content/uploads/2017/06/guitarra-clasica.jpg
GEO:40.6621635;-4.031169
X-APPLE-STRUCTURED-LOCATION;VALUE=URI;X-ADDRESS=Casa de Cultura Asunción Balaguer Plaza Francisco Rabal 2 Alpedrete Madrid 28430  España;X-APPLE-RADIUS=500;X-TITLE=Plaza Francisco Rabal\, 2:geo:-4.031169,40.6621635
END:VEVENT
BEGIN:VEVENT
DTSTART;TZID=Europe/Madrid:20170618T190000
DTEND;TZID=Europe/Madrid:20170618T200000
DTSTAMP:20260426T060814
CREATED:20170605T124725Z
LAST-MODIFIED:20170605T124725Z
UID:15289-1497812400-1497816000@preproduccion.alpedrete.es
SUMMARY:Cuarto concierto Festival Stone
DESCRIPTION:La III Edición del Festival Stone 2017 llega al cuarto concierto\, que se celebrará el domingo 18 de junio a partir de las 19:00 de la tarde en “El Límite”\, en Collado Villalba. En este concierto tocarán Los Jangri\, El Hombre Fliplante y los Replicantes\, y Krazak. Estas tres bandas aspiran a ser elegidas para actuar en el concierto final del Festival Stone que se celebrará el 2 de septiembre. \nEsta es la segunda vez\, desde que en 2015 se puso en marcha\, que el Festival Stone sale de Alpedrete. La apuesta es ofrecer conciertos en municipios cercanos para extender lo más posible una experiencia musical que afronta su tercer año de vida. El último se celebró el viernes 2 de junio en “Peñalbar”\, en Collado Villalba. Participaron Varonas\, Keisan y Nuwanda.
URL:https://preproduccion.alpedrete.es/evento/cuarto-concierto-festival-stone/
LOCATION:El Límite\, Calle Cervantes\, 7\, Collado Villalba\, 28400\, España
CATEGORIES:Concierto
ATTACH;FMTTYPE=image/jpeg:https://preproduccion.alpedrete.es/wp-content/uploads/2017/05/FS.jpg
GEO:40.6291256;-4.010669
X-APPLE-STRUCTURED-LOCATION;VALUE=URI;X-ADDRESS=El Límite Calle Cervantes 7 Collado Villalba 28400 España;X-APPLE-RADIUS=500;X-TITLE=Calle Cervantes\, 7:geo:-4.010669,40.6291256
END:VEVENT
BEGIN:VEVENT
DTSTART;TZID=Europe/Madrid:20170625T190000
DTEND;TZID=Europe/Madrid:20170625T210000
DTSTAMP:20260426T060814
CREATED:20170619T104506Z
LAST-MODIFIED:20170623T073345Z
UID:15786-1498417200-1498424400@preproduccion.alpedrete.es
SUMMARY:Quinto concierto del Festival Stone
DESCRIPTION:La III Edición del Festival Stone 2017 entra en la recta final de los conciertos previos a la cita del próximo 2 de septiembre en la Dehesa Municipal. El quinto concierto tendrá lugar el domingo 25 de junio a las 19:00 de la tarde en la sala El Límite Live de Collado Villalba. Inicialmente estaba previsto en Peñalbar (en el parque Peñalba de Collado Villalba)\, pero las previsiones meteorológicas indican que el evento al aire libre no va a ser posible\, de ahí el cambio de ubicación. \nLas cuatro bandas que entrarán en concurso ese día serán Rodillas Rasgadas\, 3n\, The Grandes y Glazecrab. \nMás información: Quinto concierto del Festival Stone
URL:https://preproduccion.alpedrete.es/evento/quinto-concierto-del-festival-stone/
LOCATION:El Límite Live\, Calle Cervantes\, 7\, Collado Villalba\, Madrid\, 28400\, España
CATEGORIES:Concierto
ATTACH;FMTTYPE=image/jpeg:https://preproduccion.alpedrete.es/wp-content/uploads/2017/05/FS.jpg
GEO:40.6291256;-4.010669
X-APPLE-STRUCTURED-LOCATION;VALUE=URI;X-ADDRESS=El Límite Live Calle Cervantes 7 Collado Villalba Madrid 28400 España;X-APPLE-RADIUS=500;X-TITLE=Calle Cervantes\, 7:geo:-4.010669,40.6291256
END:VEVENT
BEGIN:VEVENT
DTSTART;TZID=Europe/Madrid:20170630T210000
DTEND;TZID=Europe/Madrid:20170630T220000
DTSTAMP:20260426T060814
CREATED:20170625T120736Z
LAST-MODIFIED:20170626T192647Z
UID:15930-1498856400-1498860000@preproduccion.alpedrete.es
SUMMARY:XXX Festival de Música Clásicos en Verano
DESCRIPTION:Con este festival el Ayuntamiento de Alpedrete inaugura el Verano Cultural 2017. Este año nuestro municipio acogerá cuatro conciertos de música clásica en la Parroquias de la Asunción de Nuestra Señora y en Nuestra Señora del Carmen de Los Negrales\, entornos históricos ideales para escuchar los conciertos de música de cámara. \nLa entrada es libre hasta completar aforo. \n\nConcierto «Stravaganza»\n\nA cargo de Sara Águeda (Arpa) y Javier Núñez (Clave). Viernes 30 de Junio a las 21:00 h\, en la Parroquia Nuestra Señora del Carmen\, de los Negrales. \n\nConcierto «Los Dos Reinos»\n\nA cargo de Sara Águeda (Arpa) y Javier Núñez (Clave). Sábado 1 de julio a a las 21:00 h\, en la Parroquia de la Asunción de Nuestra Señora\, en Alpedrete. \n\nConcierto «Puertas Antiguas»\n\nA cargo de Ander Tellería (acordeón). Viernes 7 de julio a las 21:00 en la Parroquia Nuestra Señora del Carmen\, de los Negrales\, y sábado 8 de julio\, a las 21:00 h en la Parroquia de la Asunción de Nuestra Señora\, en Alpedrete. \n \n  \n  \n  \n  \n 
URL:https://preproduccion.alpedrete.es/evento/xxx-festival-musica-clasicos-verano/2017-06-30/
LOCATION:Madrid
CATEGORIES:Concierto
ATTACH;FMTTYPE=image/jpeg:https://preproduccion.alpedrete.es/wp-content/uploads/2017/06/música-clásica.jpg
END:VEVENT
END:VCALENDAR