BEGIN:VCALENDAR
VERSION:2.0
PRODID:-//Web Ayuntamiento de Alpedrete - ECPv6.9.0//NONSGML v1.0//EN
CALSCALE:GREGORIAN
METHOD:PUBLISH
X-ORIGINAL-URL:https://preproduccion.alpedrete.es
X-WR-CALDESC:Eventos para Web Ayuntamiento de Alpedrete
REFRESH-INTERVAL;VALUE=DURATION:PT1H
X-Robots-Tag:noindex
X-PUBLISHED-TTL:PT1H
BEGIN:VTIMEZONE
TZID:Europe/Madrid
BEGIN:DAYLIGHT
TZOFFSETFROM:+0100
TZOFFSETTO:+0200
TZNAME:CEST
DTSTART:20190331T010000
END:DAYLIGHT
BEGIN:STANDARD
TZOFFSETFROM:+0200
TZOFFSETTO:+0100
TZNAME:CET
DTSTART:20191027T010000
END:STANDARD
END:VTIMEZONE
BEGIN:VEVENT
DTSTART;TZID=Europe/Madrid:20190520T183000
DTEND;TZID=Europe/Madrid:20190520T193000
DTSTAMP:20260424T075514
CREATED:20190514T130455Z
LAST-MODIFIED:20190514T130835Z
UID:26392-1558377000-1558380600@preproduccion.alpedrete.es
SUMMARY:Humor amarillo
DESCRIPTION:El Centro de Juventud de Alpedrete ha comenzado a recoger las inscripciones de las personas y equipos que quieran participar en la actividad de humor amarillo que se celebrará durante las fiestas patronales en honor de Santa Quiteria 2019. \nHumor amarillo se celebrará el lunes 20 de mayo a las 18:30 de la tarde en la plaza de toros instalada junto a la rotonda de El Cantero. Las inscripciones se tienen que realizar en el Centro de Juventud\, en la calle Félix Díaz nº3\, antes del día 17 de mayo\, en horario de lunes a viernes de 17:00 a 20:00 horas. La edad mínima para participar es de 16 años (nacidos en 2003). Se darán cita en el ruedo entre 4 y 6 equipos\, de 4 y 6 personas cada uno (siempre par). En caso de haber más grupos inscritos\, se realizará un sorteo o prueba eliminatoria. (Consultar las bases y fichas de inscripción en el documento adjunto). \n\n Normas e información humor amarillo 2019
URL:https://preproduccion.alpedrete.es/evento/humor-amarillo/
LOCATION:Alpedrete\, Alpedrete\, Madrid\, 28430\, España
CATEGORIES:Fiestas patronales
ATTACH;FMTTYPE=image/jpeg:https://preproduccion.alpedrete.es/wp-content/uploads/2019/05/humor-amarillo-600x400.jpg
END:VEVENT
END:VCALENDAR