BEGIN:VCALENDAR
VERSION:2.0
PRODID:-//Web Ayuntamiento de Alpedrete - ECPv6.9.0//NONSGML v1.0//EN
CALSCALE:GREGORIAN
METHOD:PUBLISH
X-ORIGINAL-URL:https://preproduccion.alpedrete.es
X-WR-CALDESC:Eventos para Web Ayuntamiento de Alpedrete
REFRESH-INTERVAL;VALUE=DURATION:PT1H
X-Robots-Tag:noindex
X-PUBLISHED-TTL:PT1H
BEGIN:VTIMEZONE
TZID:Europe/Madrid
BEGIN:DAYLIGHT
TZOFFSETFROM:+0100
TZOFFSETTO:+0200
TZNAME:CEST
DTSTART:20190331T010000
END:DAYLIGHT
BEGIN:STANDARD
TZOFFSETFROM:+0200
TZOFFSETTO:+0100
TZNAME:CET
DTSTART:20191027T010000
END:STANDARD
BEGIN:DAYLIGHT
TZOFFSETFROM:+0100
TZOFFSETTO:+0200
TZNAME:CEST
DTSTART:20200329T010000
END:DAYLIGHT
BEGIN:STANDARD
TZOFFSETFROM:+0200
TZOFFSETTO:+0100
TZNAME:CET
DTSTART:20201025T010000
END:STANDARD
END:VTIMEZONE
BEGIN:VEVENT
DTSTART;VALUE=DATE:20191220
DTEND;VALUE=DATE:20200109
DTSTAMP:20260421T221736
CREATED:20191217T125300Z
LAST-MODIFIED:20191217T134249Z
UID:28754-1576800000-1578527999@preproduccion.alpedrete.es
SUMMARY:V Concurso de cuentos navideños
DESCRIPTION:La Biblioteca Municipal de Alpedrete convoca la V edición de su tradicional concurso de cuentos navideños infantiles. Podrán participar niños y niñas de edades comprendidas entre 1 y 12 años. Deberán estar empadronados en Alpedrete y estar en posesión del carné de la Biblioteca Municipal. \nLos cuentos se pueden presentar en la Biblioteca Municipal de Alpedrete\, desde el viernes 20 de diciembre hasta el miércoles 8 de enero de 2010. \nMás información en el siguiente enlace: https://preproduccion.alpedrete.es/v-concurso-de-cuentos-navidenos/
URL:https://preproduccion.alpedrete.es/evento/v-concurso-de-cuentos-navidenos/
LOCATION:Biblioteca Municipal de Alpedrete\, Plaza Francisco Rabal\, 2\, Alpedrete\, 28430 \, España
CATEGORIES:Navidad
ATTACH;FMTTYPE=image/jpeg:https://preproduccion.alpedrete.es/wp-content/uploads/2018/11/escribiendo-en-Navidad.jpg
GEO:40.6621635;-4.031169
X-APPLE-STRUCTURED-LOCATION;VALUE=URI;X-ADDRESS=Biblioteca Municipal de Alpedrete Plaza Francisco Rabal 2 Alpedrete 28430  España;X-APPLE-RADIUS=500;X-TITLE=Plaza Francisco Rabal\, 2:geo:-4.031169,40.6621635
END:VEVENT
END:VCALENDAR