BEGIN:VCALENDAR
VERSION:2.0
PRODID:-//Web Ayuntamiento de Alpedrete - ECPv6.9.0//NONSGML v1.0//EN
CALSCALE:GREGORIAN
METHOD:PUBLISH
X-WR-CALNAME:Web Ayuntamiento de Alpedrete
X-ORIGINAL-URL:https://preproduccion.alpedrete.es
X-WR-CALDESC:Eventos para Web Ayuntamiento de Alpedrete
REFRESH-INTERVAL;VALUE=DURATION:PT1H
X-Robots-Tag:noindex
X-PUBLISHED-TTL:PT1H
BEGIN:VTIMEZONE
TZID:Europe/Madrid
BEGIN:DAYLIGHT
TZOFFSETFROM:+0100
TZOFFSETTO:+0200
TZNAME:CEST
DTSTART:20160327T010000
END:DAYLIGHT
BEGIN:STANDARD
TZOFFSETFROM:+0200
TZOFFSETTO:+0100
TZNAME:CET
DTSTART:20161030T010000
END:STANDARD
END:VTIMEZONE
BEGIN:VEVENT
DTSTART;TZID=Europe/Madrid:20160922T220000
DTEND;TZID=Europe/Madrid:20161002T170000
DTSTAMP:20260420T022416
CREATED:20160922T121020Z
LAST-MODIFIED:20160922T121020Z
UID:9402-1474581600-1475427600@preproduccion.alpedrete.es
SUMMARY:La cigüeña negra en el Día de las Aves
DESCRIPTION:La cigüeña negra protagoniza en Alpedrete el Día de las Aves\, que se celebra durante el primer fin de semana de octubre. Para conmemorarlo\, el Ayuntamiento de Alpedrete ha programado una exposición sobre la cigüeña negra desde el 22 de septiembre al 2 de octubre en el Centro de Mayores Los Canteros. Además\, el domingo 2 de octubre a las 11:00 de la mañana Chema Traverso\, miembro ADENAMA\, pronunciará una conferencia sobre el tema.
URL:https://preproduccion.alpedrete.es/evento/la-ciguena-negra-dia-las-aves/
LOCATION:Centro de Mayores Los Canteros de Alpedrete\, Plaza de la Constitución\, s/n\, Alpedrete\, España
ATTACH;FMTTYPE=image/jpeg:https://preproduccion.alpedrete.es/wp-content/uploads/2016/09/Cigüeña.jpg
GEO:40.6602075;-4.0254104
X-APPLE-STRUCTURED-LOCATION;VALUE=URI;X-ADDRESS=Centro de Mayores Los Canteros de Alpedrete Plaza de la Constitución s/n Alpedrete España;X-APPLE-RADIUS=500;X-TITLE=Plaza de la Constitución\, s/n:geo:-4.0254104,40.6602075
END:VEVENT
BEGIN:VEVENT
DTSTART;TZID=Europe/Madrid:20160928T090000
DTEND;TZID=Europe/Madrid:20160928T140000
DTSTAMP:20260420T022416
CREATED:20160923T105326Z
LAST-MODIFIED:20160923T105714Z
UID:9414-1475053200-1475071200@preproduccion.alpedrete.es
SUMMARY:Dale marcha a tu corazón
DESCRIPTION:Con este lema el Hospital General de Villalba celebra el miércoles 28 de septiembre la segunda jornada del corazón. Las actividades programadas se realizarán entre las 09:30 de la mañana y las 14:00 de la tarde. Mesas informativas\, talleres\, conferencias y actividades físicas forman parte del contenido propuesto.
URL:https://preproduccion.alpedrete.es/evento/dale-marcha-corazon/
LOCATION:Hospital General de Villalba\, Carretera de Alpedrete a Moralzarzal M-608 Km 41\, Collado Villalba
CATEGORIES:Salud,Taller
ATTACH;FMTTYPE=image/jpeg:https://preproduccion.alpedrete.es/wp-content/uploads/2016/09/corazón2.jpg
GEO:40.6486469;-3.9967485
X-APPLE-STRUCTURED-LOCATION;VALUE=URI;X-ADDRESS=Hospital General de Villalba Carretera de Alpedrete a Moralzarzal M-608 Km 41 Collado Villalba;X-APPLE-RADIUS=500;X-TITLE=Carretera de Alpedrete a Moralzarzal M-608 Km 41:geo:-3.9967485,40.6486469
END:VEVENT
END:VCALENDAR