BEGIN:VCALENDAR
VERSION:2.0
PRODID:-//Web Ayuntamiento de Alpedrete - ECPv6.9.0//NONSGML v1.0//EN
CALSCALE:GREGORIAN
METHOD:PUBLISH
X-WR-CALNAME:Web Ayuntamiento de Alpedrete
X-ORIGINAL-URL:https://preproduccion.alpedrete.es
X-WR-CALDESC:Eventos para Web Ayuntamiento de Alpedrete
REFRESH-INTERVAL;VALUE=DURATION:PT1H
X-Robots-Tag:noindex
X-PUBLISHED-TTL:PT1H
BEGIN:VTIMEZONE
TZID:Europe/Madrid
BEGIN:DAYLIGHT
TZOFFSETFROM:+0100
TZOFFSETTO:+0200
TZNAME:CEST
DTSTART:20200329T010000
END:DAYLIGHT
BEGIN:STANDARD
TZOFFSETFROM:+0200
TZOFFSETTO:+0100
TZNAME:CET
DTSTART:20201025T010000
END:STANDARD
END:VTIMEZONE
BEGIN:VEVENT
DTSTART;TZID=Europe/Madrid:20200919T120000
DTEND;TZID=Europe/Madrid:20200919T130000
DTSTAMP:20260425T172352
CREATED:20200909T093834Z
LAST-MODIFIED:20200911T075929Z
UID:32313-1600516800-1600520400@preproduccion.alpedrete.es
SUMMARY:Cuentacuentos en inglés "Around the world"
DESCRIPTION:Seguimos con la programación cultural en casa. Hoy os proponemos disfrutar con Chamaleon Theatre y nuestro querido Mike Schaupp de este cuentacuentos en inglés. \nDurante 45 minutos toda la familia podrá disfrutar de las increíbles historias de aventuras del entrañable Phileas Fogg.  Corre el año 1984 y junto a su amigo Passepartout decide emprender la vuelta al mundo en 80 días. Visitarán los lugares más icónicos del planeta. \nEl enlace para disfrutar de esta aventura podrá encontrarse en las redes sociales municipales de Facebook\, Twitter e Instagram a partir de las 12:00 h.
URL:https://preproduccion.alpedrete.es/evento/cuentacuentos-en-ingles-around-the-world/
CATEGORIES:Cuentacuentos
ATTACH;FMTTYPE=image/jpeg:https://preproduccion.alpedrete.es/wp-content/uploads/2020/09/cuentacuentos-19-septiembre.jpg
END:VEVENT
END:VCALENDAR