BEGIN:VCALENDAR
VERSION:2.0
PRODID:-//Web Ayuntamiento de Alpedrete - ECPv6.9.0//NONSGML v1.0//EN
CALSCALE:GREGORIAN
METHOD:PUBLISH
X-ORIGINAL-URL:https://preproduccion.alpedrete.es
X-WR-CALDESC:Eventos para Web Ayuntamiento de Alpedrete
REFRESH-INTERVAL;VALUE=DURATION:PT1H
X-Robots-Tag:noindex
X-PUBLISHED-TTL:PT1H
BEGIN:VTIMEZONE
TZID:Europe/Madrid
BEGIN:DAYLIGHT
TZOFFSETFROM:+0100
TZOFFSETTO:+0200
TZNAME:CEST
DTSTART:20160327T010000
END:DAYLIGHT
BEGIN:STANDARD
TZOFFSETFROM:+0200
TZOFFSETTO:+0100
TZNAME:CET
DTSTART:20161030T010000
END:STANDARD
END:VTIMEZONE
BEGIN:VEVENT
DTSTART;TZID=Europe/Madrid:20160507T110000
DTEND;TZID=Europe/Madrid:20160507T130000
DTSTAMP:20260420T072706
CREATED:20160418T101507Z
LAST-MODIFIED:20160418T101507Z
UID:6571-1462618800-1462626000@preproduccion.alpedrete.es
SUMMARY:IV Seremer cross de Alpedrete
DESCRIPTION:La IV Copa de Cross para Cuerpos y Fuerzas de Seguridad del Estado y Servicios de Emergencia de Madrid se celebra el 7 de mayo en la Dehesa Municipal de Alpedrete sobre un recorrido de 8 kilómetros. La prueba saldrá a las 11:00 de la mañana desde la calle Camino de la Dehesa. \nPara participar es necesario inscribirse. La solicitud se puede cumplimentar pinchando este enlace. El precio es que cada corredor done 2 kilos de alimentos no perecederos que irán destinados al Banco de Alimentos de Madrid.
URL:https://preproduccion.alpedrete.es/evento/seremercross/
CATEGORIES:Deportes
ATTACH;FMTTYPE=image/jpeg:https://preproduccion.alpedrete.es/wp-content/uploads/2016/04/SEREMER-2015-2-copia.jpg
END:VEVENT
BEGIN:VEVENT
DTSTART;TZID=Europe/Madrid:20160521T103000
DTEND;TZID=Europe/Madrid:20160521T123000
DTSTAMP:20260420T072706
CREATED:20160519T091717Z
LAST-MODIFIED:20160519T091717Z
UID:7367-1463826600-1463833800@preproduccion.alpedrete.es
SUMMARY:Máster Class de Zumba y Bodycombat
DESCRIPTION:El programa de fiestas de Santa Quiteria 2016 incluye las actividades deportivas solidarias que cada mes organiza el Ayuntamiento de Alpedrete. El sábado 21 de mayo se celebrarán dos de ellas en la carpa instalada en la Plaza de la Villa. El precio por participar en ambas es de 5 euros. El dinero recaudado se destinará a ATELMA\, Asociación del Trastorno Específico del Lenguaje de Madrid. \nEl sudor solidario comenzará a las 10:30 de la mañana con un máster class de Zumba\, una disciplina de fitness que combina el baile con rutinas aeróbicas para desarrollar\, fortalecer y dar flexibilidad al cuerpo. Una hora después se iniciará una sesión de Bodycombact\, un entrenamiento de tipo cardiovascular que consiste en realizar movimientos inspirados en diferentes artes marciales al ritmo de la música.
URL:https://preproduccion.alpedrete.es/evento/master-class-zumba-bodycombat/
LOCATION:Plaza de la Villa\, Plaza de la Villa\, Alpedrete\, 28430 \, España
CATEGORIES:Deportes
ATTACH;FMTTYPE=image/jpeg:https://preproduccion.alpedrete.es/wp-content/uploads/2016/05/Máster-class.jpg
GEO:40.6589274;-4.0239866
X-APPLE-STRUCTURED-LOCATION;VALUE=URI;X-ADDRESS=Plaza de la Villa Plaza de la Villa Alpedrete 28430  España;X-APPLE-RADIUS=500;X-TITLE=Plaza de la Villa:geo:-4.0239866,40.6589274
END:VEVENT
END:VCALENDAR