BEGIN:VCALENDAR
VERSION:2.0
PRODID:-//Web Ayuntamiento de Alpedrete - ECPv6.9.0//NONSGML v1.0//EN
CALSCALE:GREGORIAN
METHOD:PUBLISH
X-ORIGINAL-URL:https://preproduccion.alpedrete.es
X-WR-CALDESC:Eventos para Web Ayuntamiento de Alpedrete
REFRESH-INTERVAL;VALUE=DURATION:PT1H
X-Robots-Tag:noindex
X-PUBLISHED-TTL:PT1H
BEGIN:VTIMEZONE
TZID:Europe/Madrid
BEGIN:DAYLIGHT
TZOFFSETFROM:+0100
TZOFFSETTO:+0200
TZNAME:CEST
DTSTART:20160327T010000
END:DAYLIGHT
BEGIN:STANDARD
TZOFFSETFROM:+0200
TZOFFSETTO:+0100
TZNAME:CET
DTSTART:20161030T010000
END:STANDARD
END:VTIMEZONE
BEGIN:VEVENT
DTSTART;TZID=Europe/Madrid:20160423T170000
DTEND;TZID=Europe/Madrid:20160423T170000
DTSTAMP:20260424T000220
CREATED:20160308T141823Z
LAST-MODIFIED:20160310T114626Z
UID:5900-1461430800-1461430800@preproduccion.alpedrete.es
SUMMARY:XXIII Duathlon Popular de Alpedrete
DESCRIPTION:Plazo de inscripción: hasta el 22 de abril a las 18:00 h o el mismo día de la carrera hasta las 16:00 h en la zona de transición\, en caso de no haber cubierto el cupo máximo de 350 participantes. \n  \nMás información e inscripciones: \nhttp://duatlondealpedrete.blogspot.com.es/
URL:https://preproduccion.alpedrete.es/evento/xxiii-duathlon-popular-de-alpedrete/
LOCATION:Madrid
CATEGORIES:Deportes
ATTACH;FMTTYPE=image/jpeg:https://preproduccion.alpedrete.es/wp-content/uploads/2016/03/Duathlon.jpg
END:VEVENT
END:VCALENDAR