BEGIN:VCALENDAR
VERSION:2.0
PRODID:-//Web Ayuntamiento de Alpedrete - ECPv6.9.0//NONSGML v1.0//EN
CALSCALE:GREGORIAN
METHOD:PUBLISH
X-WR-CALNAME:Web Ayuntamiento de Alpedrete
X-ORIGINAL-URL:https://preproduccion.alpedrete.es
X-WR-CALDESC:Eventos para Web Ayuntamiento de Alpedrete
REFRESH-INTERVAL;VALUE=DURATION:PT1H
X-Robots-Tag:noindex
X-PUBLISHED-TTL:PT1H
BEGIN:VTIMEZONE
TZID:Europe/Madrid
BEGIN:DAYLIGHT
TZOFFSETFROM:+0100
TZOFFSETTO:+0200
TZNAME:CEST
DTSTART:20200329T010000
END:DAYLIGHT
BEGIN:STANDARD
TZOFFSETFROM:+0200
TZOFFSETTO:+0100
TZNAME:CET
DTSTART:20201025T010000
END:STANDARD
END:VTIMEZONE
BEGIN:VEVENT
DTSTART;VALUE=DATE:20200429
DTEND;VALUE=DATE:20200430
DTSTAMP:20260425T184135
CREATED:20200427T103902Z
LAST-MODIFIED:20200429T162906Z
UID:30604-1588118400-1588204799@preproduccion.alpedrete.es
SUMMARY:Día Mundial de la Danza
DESCRIPTION:Los alumnos de danza de la Escuela Municipal de Música y Danza de Alpedrete han preparado esta coreografía tan especial desde sus casas para celebrar el Día Mundial de la Danza. \nHan participado 79 alumnos de entre 4 y 80 años ¡Esperamos que os guste! \nMúsica: Claro de luna – Gustavo Montesano – Álbum Fantasía Flamenca.
URL:https://preproduccion.alpedrete.es/evento/dia-mundial-de-la-danza/
CATEGORIES:Baile/Danza
ATTACH;FMTTYPE=image/jpeg:https://preproduccion.alpedrete.es/wp-content/uploads/2020/04/captura-alumnos-EMMD.jpg
END:VEVENT
END:VCALENDAR