BEGIN:VCALENDAR
VERSION:2.0
PRODID:-//Web Ayuntamiento de Alpedrete - ECPv6.9.0//NONSGML v1.0//EN
CALSCALE:GREGORIAN
METHOD:PUBLISH
X-ORIGINAL-URL:https://preproduccion.alpedrete.es
X-WR-CALDESC:Eventos para Web Ayuntamiento de Alpedrete
REFRESH-INTERVAL;VALUE=DURATION:PT1H
X-Robots-Tag:noindex
X-PUBLISHED-TTL:PT1H
BEGIN:VTIMEZONE
TZID:Europe/Madrid
BEGIN:DAYLIGHT
TZOFFSETFROM:+0100
TZOFFSETTO:+0200
TZNAME:CEST
DTSTART:20190331T010000
END:DAYLIGHT
BEGIN:STANDARD
TZOFFSETFROM:+0200
TZOFFSETTO:+0100
TZNAME:CET
DTSTART:20191027T010000
END:STANDARD
END:VTIMEZONE
BEGIN:VEVENT
DTSTART;TZID=Europe/Madrid:20190906T100000
DTEND;TZID=Europe/Madrid:20190906T120000
DTSTAMP:20260424T000036
CREATED:20190903T124141Z
LAST-MODIFIED:20190903T124141Z
UID:27548-1567764000-1567771200@preproduccion.alpedrete.es
SUMMARY:Mesa de Discapacidad
DESCRIPTION:El viernes 6 de septiembre\, el Ayuntamiento de Alpedrete celebra la primera Mesa de Discapacidad del mandato actual\, y lo hace en colaboración las organizaciones Adisgua\, Pita López\, Semed\, Apascovi\, Adisa\, Asmifal\, Grupo 5\, Residencia de los Llanos y Afalpe\, las cuales trabajan diariamente en la inclusión social\, laboral y económica de personas discapacitadas. La Mesa se celebrará a las 10.00 de la mañana en el edificio Polivalente situado en la Plaza de la Constitución. \nEs una jornada abierta a la participación con el objetivo de dar a conocer los proyectos de nuestro municipio\, que de forma privada o con aportación del Ayuntamiento\, ayudan a las personas en estas circunstancias a la mejora de su calidad de vida y sus familias. \nLa ejecución de dichos proyectos está prevista antes del 31 de octubre de este mismo año.
URL:https://preproduccion.alpedrete.es/evento/mesa-de-discapacidad/
LOCATION:Edificio Polivalente\, Plaza de la Constitución\, 6\, Alpedrete\, Madrid\, 28430\, España
CATEGORIES:Jornadas
ATTACH;FMTTYPE=image/jpeg:https://preproduccion.alpedrete.es/wp-content/uploads/2019/09/DISCAPACIDAD-BANNER.jpg
GEO:40.6604232;-4.0256288
X-APPLE-STRUCTURED-LOCATION;VALUE=URI;X-ADDRESS=Edificio Polivalente Plaza de la Constitución 6 Alpedrete Madrid 28430 España;X-APPLE-RADIUS=500;X-TITLE=Plaza de la Constitución\, 6:geo:-4.0256288,40.6604232
END:VEVENT
END:VCALENDAR