BEGIN:VCALENDAR
VERSION:2.0
PRODID:-//Web Ayuntamiento de Alpedrete - ECPv6.9.0//NONSGML v1.0//EN
CALSCALE:GREGORIAN
METHOD:PUBLISH
X-WR-CALNAME:Web Ayuntamiento de Alpedrete
X-ORIGINAL-URL:https://preproduccion.alpedrete.es
X-WR-CALDESC:Eventos para Web Ayuntamiento de Alpedrete
REFRESH-INTERVAL;VALUE=DURATION:PT1H
X-Robots-Tag:noindex
X-PUBLISHED-TTL:PT1H
BEGIN:VTIMEZONE
TZID:Europe/Madrid
BEGIN:DAYLIGHT
TZOFFSETFROM:+0100
TZOFFSETTO:+0200
TZNAME:CEST
DTSTART:20190331T010000
END:DAYLIGHT
BEGIN:STANDARD
TZOFFSETFROM:+0200
TZOFFSETTO:+0100
TZNAME:CET
DTSTART:20191027T010000
END:STANDARD
END:VTIMEZONE
BEGIN:VEVENT
DTSTART;TZID=Europe/Madrid:20191011T100000
DTEND;TZID=Europe/Madrid:20191011T120000
DTSTAMP:20260422T235546
CREATED:20191010T113835Z
LAST-MODIFIED:20191010T113835Z
UID:27939-1570788000-1570795200@preproduccion.alpedrete.es
SUMMARY:Junta de la Discapacidad
DESCRIPTION:El viernes 11 de octubre se celebra una nueva reunión de la Junta de la Discapacidad\, con objeto de programar las diferentes actividades a realizar en el Día Internacional de las Personas con Discapacidad  3 de diciembre. Los colegios públicos del municipio colaborarán en dicha jornada.
URL:https://preproduccion.alpedrete.es/evento/junta-de-la-discapacidad/
LOCATION:Edificio Polivalente\, Plaza de la Constitución\, 6\, Alpedrete\, Madrid\, 28430\, España
CATEGORIES:Salud
ATTACH;FMTTYPE=image/jpeg:https://preproduccion.alpedrete.es/wp-content/uploads/2019/10/mesa-de-discapacidad.jpeg
GEO:40.6604232;-4.0256288
X-APPLE-STRUCTURED-LOCATION;VALUE=URI;X-ADDRESS=Edificio Polivalente Plaza de la Constitución 6 Alpedrete Madrid 28430 España;X-APPLE-RADIUS=500;X-TITLE=Plaza de la Constitución\, 6:geo:-4.0256288,40.6604232
END:VEVENT
BEGIN:VEVENT
DTSTART;TZID=Europe/Madrid:20191017T170000
DTEND;TZID=Europe/Madrid:20191017T190000
DTSTAMP:20260422T235546
CREATED:20191011T135053Z
LAST-MODIFIED:20191017T081540Z
UID:27996-1571331600-1571338800@preproduccion.alpedrete.es
SUMMARY:Fiesta y taller creativo "Los talentosos". Fundación APASCOVI
DESCRIPTION:El jueves 17 de octubre\, Correos\, la Fundación TALENTO-MCR y la Fundación APASCOVI celebran una fiesta-taller gratuita \, en horario de 17:00 a 19:00 h en la Casa de Cultura Asunción Balaguer. La entrada es libre hasta competar aforo. \nLa iniciativa forma parte del programa de Responsabilidad Social Corporativa que la entidad postal y de paquetería mantiene desde 1999 con entidades sin ánimo de lucro\, recorriendo 23 ciudades de toda la geografía española con el objetivo de favorecer y mejorar la calidad de vida de 5.000 niños hospitalizados o sometidos a tratamientos de larga duración\, así como la de otros colectivos de especial vulnerabilidad\, con discapacidad\, en acogida o situación penitenciaria. \n \n  \n 
URL:https://preproduccion.alpedrete.es/evento/fiesta-taller-de-apascovi/
LOCATION:Casa de Cultura Asunción Balaguer\, Plaza Francisco Rabal\, 2\, Alpedrete\, Madrid\, 28430 \, España
CATEGORIES:Taller
ATTACH;FMTTYPE=image/jpeg:https://preproduccion.alpedrete.es/wp-content/uploads/2019/10/Cartel-Apascovi-768x1086-correos-fiesta.jpg
GEO:40.6621635;-4.031169
X-APPLE-STRUCTURED-LOCATION;VALUE=URI;X-ADDRESS=Casa de Cultura Asunción Balaguer Plaza Francisco Rabal 2 Alpedrete Madrid 28430  España;X-APPLE-RADIUS=500;X-TITLE=Plaza Francisco Rabal\, 2:geo:-4.031169,40.6621635
END:VEVENT
BEGIN:VEVENT
DTSTART;TZID=Europe/Madrid:20191020T110000
DTEND;TZID=Europe/Madrid:20191020T130000
DTSTAMP:20260422T235546
CREATED:20191008T130257Z
LAST-MODIFIED:20191008T130257Z
UID:27953-1571569200-1571576400@preproduccion.alpedrete.es
SUMMARY:VII Milla Intergeneracional Siempre Vital
DESCRIPTION:Un año más\, el Ayuntamiento de Alpedrete participa en la organización de la Milla Intergeneracional Siempre Vital Los Llanos\, que celebrará su VII edición el próximo 20 de octubre a las a las 11:00 de la mañana en la residencia “Los Llanos Vital”. El objetivo de esta milla es la inclusión a través de la participación de todos. \nEn esta edición la Milla Intergeneracional vuelve a confirmar su compromiso con la investigación científica a través de la recaudación de fondos. Será una carrera solidaria en la que las aportaciones económicas se realizará a través de PRECIPITA\, una plataforma especializada en promover la financiación de proyectos científicos a través de la recaudación popular. Serán los mayores quienes decidan a qué proyecto se destina el dinero obtenido. \nParticipar en la Milla Intergeneracional cuesta un máximo de 8 euros\, dependiendo de la modalidad del inscrito.Las inscripciones se cuentan abiertas hasta el 18 de octubre a las 20:00 h. Para quienes no pueden o no desean correr\, pero sí quieren apoyar la investigación científica existe el “dorsal cero” como manera de donación directa. A los dorsales cero se sumará el 50% del dinero obtenido a través de las inscripciones y de la venta de algunos productos durante el día de la celebración de la Milla. \nLa residencia y centro de día Los Llanos Vital forma parte de la Mesa de Discapacidad de Alpedrete y ha colaborado con las otras asociaciones que forman esa mesa: ADISGUA\, APASCOVI\, ASMIFAL\, AFALPE\, ADISA y GRUPO 5\, que también estarán presentes en la carrera. \nLas normas de la prueba se pueden consultar accediendo a este enlace.
URL:https://preproduccion.alpedrete.es/evento/vii-milla-intergeneracional-siempre-vital/
LOCATION:Residencia los Llanos Vital\, Calle Miguel de Cervantes\, 2\, Alpedrete\, Madrid\, 28430\, España
CATEGORIES:Mayores
ATTACH;FMTTYPE=image/jpeg:https://preproduccion.alpedrete.es/wp-content/uploads/2019/10/banner-3-milla.jpg
GEO:40.64682;-4.02259
X-APPLE-STRUCTURED-LOCATION;VALUE=URI;X-ADDRESS=Residencia los Llanos Vital Calle Miguel de Cervantes 2 Alpedrete Madrid 28430 España;X-APPLE-RADIUS=500;X-TITLE=Calle Miguel de Cervantes\, 2:geo:-4.02259,40.64682
END:VEVENT
END:VCALENDAR