BEGIN:VCALENDAR
VERSION:2.0
PRODID:-//Web Ayuntamiento de Alpedrete - ECPv6.9.0//NONSGML v1.0//EN
CALSCALE:GREGORIAN
METHOD:PUBLISH
X-WR-CALNAME:Web Ayuntamiento de Alpedrete
X-ORIGINAL-URL:https://preproduccion.alpedrete.es
X-WR-CALDESC:Eventos para Web Ayuntamiento de Alpedrete
REFRESH-INTERVAL;VALUE=DURATION:PT1H
X-Robots-Tag:noindex
X-PUBLISHED-TTL:PT1H
BEGIN:VTIMEZONE
TZID:Europe/Madrid
BEGIN:DAYLIGHT
TZOFFSETFROM:+0100
TZOFFSETTO:+0200
TZNAME:CEST
DTSTART:20180325T010000
END:DAYLIGHT
BEGIN:STANDARD
TZOFFSETFROM:+0200
TZOFFSETTO:+0100
TZNAME:CET
DTSTART:20181028T010000
END:STANDARD
END:VTIMEZONE
BEGIN:VEVENT
DTSTART;TZID=Europe/Madrid:20180421T100000
DTEND;TZID=Europe/Madrid:20180421T130000
DTSTAMP:20260425T144935
CREATED:20180417T132409Z
LAST-MODIFIED:20180417T132907Z
UID:20514-1524304800-1524315600@preproduccion.alpedrete.es
SUMMARY:Libros viajeros
DESCRIPTION:Este proyecto consiste en fomentar la lectura al mismo tiempo que se teje una funda de un libro\, que envolverá un libro que será liberado para que cualquiera que lo encuentre pueda disfrutar de la lectura y conocer el proyecto. Se busca además una causa ambiental\, para dotar de contenido al tejer: en la caseta de la asociación de labores solidarias IAIA\, se tejerá para proteger a las abejas. Los libros para liberar estarán a disposición de todo aquel que quiera participar\, pudiendo elegir qué libro se libera. Estos libros estarán dados de alta en el movimiento Bookcrossing. Asistencia libre. \nMás información sobre la Semana Cultural y Feria del Libro 2018 \n 
URL:https://preproduccion.alpedrete.es/evento/libros-viajeros/
LOCATION:Alpedrete\, Madrid\, 28430\, España
CATEGORIES:Literatura
ATTACH;FMTTYPE=image/jpeg:https://preproduccion.alpedrete.es/wp-content/uploads/2018/04/libros.jpg
GEO:40.6716505;-4.013361
END:VEVENT
BEGIN:VEVENT
DTSTART;TZID=Europe/Madrid:20180421T100000
DTEND;TZID=Europe/Madrid:20180421T200000
DTSTAMP:20260425T144935
CREATED:20180417T130511Z
LAST-MODIFIED:20180417T130511Z
UID:20509-1524304800-1524340800@preproduccion.alpedrete.es
SUMMARY:Apertura de casetas. Feria del Libro 2018
DESCRIPTION:Apertura de las casetas de la Feria del Libro. Sábado 21 de abril De 10:00 a 20:00 h Plaza de Francisco Rabal. \nPor las compras en libros realizadas en la feria se obsequiará con rosas y chucherías\, y se participará en el sorteo de una Tablet.
URL:https://preproduccion.alpedrete.es/evento/apertura-casetas-feria-del-libro-2018/
LOCATION:Plaza de Francisco Rabal\, Plaza de Francisco Rabal s/n\, Alpedrete\, Madrid\, 28430\, España
CATEGORIES:Cultura
ATTACH;FMTTYPE=image/png:https://preproduccion.alpedrete.es/wp-content/uploads/2018/04/1.png
GEO:40.6621635;-4.031169
X-APPLE-STRUCTURED-LOCATION;VALUE=URI;X-ADDRESS=Plaza de Francisco Rabal Plaza de Francisco Rabal s/n Alpedrete Madrid 28430 España;X-APPLE-RADIUS=500;X-TITLE=Plaza de Francisco Rabal s/n:geo:-4.031169,40.6621635
END:VEVENT
BEGIN:VEVENT
DTSTART;TZID=Europe/Madrid:20180421T110000
DTEND;TZID=Europe/Madrid:20180421T140000
DTSTAMP:20260425T144935
CREATED:20180417T131608Z
LAST-MODIFIED:20180417T132927Z
UID:20511-1524308400-1524319200@preproduccion.alpedrete.es
SUMMARY:Encuentros con autores\, II edición
DESCRIPTION:Nueve escritores presentarán sus novelas en un acto conjunto. Después hablarán de ellas con los lectores y firmarán ejemplares. Los autores son: Marisa Fernández Marcote\, Manuel de la Iglesia-Caruncho\, Almudena Torres López\, Marga G. Pacios\, Lamberto del Álamo\, Guzmán García\, Alberto Blanco Rubio\, Claribel Aránega y Sara Bernala Sastre. \nMás información sobre la Semana Cultural y Feria del Libro 2018
URL:https://preproduccion.alpedrete.es/evento/encuentros-autores-ii-edicion/
LOCATION:Plaza de Francisco Rabal\, Plaza de Francisco Rabal s/n\, Alpedrete\, Madrid\, 28430\, España
CATEGORIES:Literatura
ATTACH;FMTTYPE=image/jpeg:https://preproduccion.alpedrete.es/wp-content/uploads/2018/04/encuentrosautores.jpg
GEO:40.6621635;-4.031169
X-APPLE-STRUCTURED-LOCATION;VALUE=URI;X-ADDRESS=Plaza de Francisco Rabal Plaza de Francisco Rabal s/n Alpedrete Madrid 28430 España;X-APPLE-RADIUS=500;X-TITLE=Plaza de Francisco Rabal s/n:geo:-4.031169,40.6621635
END:VEVENT
END:VCALENDAR