BEGIN:VCALENDAR
VERSION:2.0
PRODID:-//Web Ayuntamiento de Alpedrete - ECPv6.9.0//NONSGML v1.0//EN
CALSCALE:GREGORIAN
METHOD:PUBLISH
X-WR-CALNAME:Web Ayuntamiento de Alpedrete
X-ORIGINAL-URL:https://preproduccion.alpedrete.es
X-WR-CALDESC:Eventos para Web Ayuntamiento de Alpedrete
REFRESH-INTERVAL;VALUE=DURATION:PT1H
X-Robots-Tag:noindex
X-PUBLISHED-TTL:PT1H
BEGIN:VTIMEZONE
TZID:Europe/Madrid
BEGIN:DAYLIGHT
TZOFFSETFROM:+0100
TZOFFSETTO:+0200
TZNAME:CEST
DTSTART:20160327T010000
END:DAYLIGHT
BEGIN:STANDARD
TZOFFSETFROM:+0200
TZOFFSETTO:+0100
TZNAME:CET
DTSTART:20161030T010000
END:STANDARD
END:VTIMEZONE
BEGIN:VEVENT
DTSTART;TZID=Europe/Madrid:20161216T190000
DTEND;TZID=Europe/Madrid:20161216T220000
DTSTAMP:20260421T002545
CREATED:20161202T120949Z
LAST-MODIFIED:20161212T100023Z
UID:10630-1481914800-1481925600@preproduccion.alpedrete.es
SUMMARY:Noche de espectáculo en el Centro de Juventud
DESCRIPTION:Show en directo de los jóvenes de la sierra. Habrá barra\, discoteca\, picoteo y baile. Viernes 16 de diciembre de 19 a 22 h. \n 
URL:https://preproduccion.alpedrete.es/evento/noche-espectaculo-centro-juventud/
LOCATION:Centro de Juventud\, Félix Díaz\, 5\, Alpedrete\, España
CATEGORIES:Juventud
ATTACH;FMTTYPE=image/jpeg:https://preproduccion.alpedrete.es/wp-content/uploads/2016/12/noche-de-espectaculo.jpg
GEO:40.6602847;-4.0252745
X-APPLE-STRUCTURED-LOCATION;VALUE=URI;X-ADDRESS=Centro de Juventud Félix Díaz 5 Alpedrete España;X-APPLE-RADIUS=500;X-TITLE=Félix Díaz\, 5:geo:-4.0252745,40.6602847
END:VEVENT
BEGIN:VEVENT
DTSTART;TZID=Europe/Madrid:20161227T173000
DTEND;TZID=Europe/Madrid:20161229T203000
DTSTAMP:20260421T002545
CREATED:20161215T131322Z
LAST-MODIFIED:20161215T131322Z
UID:10961-1482859800-1483043400@preproduccion.alpedrete.es
SUMMARY:Espacio Joven en el Centro de Juventud. Especial Navidad
DESCRIPTION:Del 27 al 29 de diciembre\, te esperamos de 17:30 a 20:30 h. Talleres de maquillaje\, estilos\, bailes\, juegos… diseña tu imagen para la fiesta de treinta-vieja. Ven y diviértete con tus amigos haciendo lo que te apetezca: campeonatos de wii\, futbolín\, pin- pon\, karaoke\, gymkhanas…
URL:https://preproduccion.alpedrete.es/evento/espacio-joven-centro-juventud-especial-navidad/
LOCATION:Centro de Juventud\, Félix Díaz\, 5\, Alpedrete\, España
CATEGORIES:Juventud
ATTACH;FMTTYPE=image/jpeg:https://preproduccion.alpedrete.es/wp-content/uploads/2016/12/football-587968_1920.jpg
GEO:40.6602847;-4.0252745
X-APPLE-STRUCTURED-LOCATION;VALUE=URI;X-ADDRESS=Centro de Juventud Félix Díaz 5 Alpedrete España;X-APPLE-RADIUS=500;X-TITLE=Félix Díaz\, 5:geo:-4.0252745,40.6602847
END:VEVENT
BEGIN:VEVENT
DTSTART;TZID=Europe/Madrid:20161230T200000
DTEND;TZID=Europe/Madrid:20161230T200000
DTSTAMP:20260421T002545
CREATED:20161215T120047Z
LAST-MODIFIED:20161215T120047Z
UID:10951-1483128000-1483128000@preproduccion.alpedrete.es
SUMMARY:Gran fiesta "Treinta-Vieja"
DESCRIPTION:Celebra la Noche Vieja de forma anticipada en nuestra gran fiesta «Treinta-Vieja». Exclusivo para jóvenes de entre 11 y 17 años. ¡Ponte elegante y baila hasta las doce campanadas en las que tomaremos las uvas (gominolas). Cena con tus amigos\, habrá menús jóvenes adaptados a tu gusto y bolsillo. \nViernes 30 de diciembre de 20:00 – 00:00 h\, en la Carpa de Navidad. \n 
URL:https://preproduccion.alpedrete.es/evento/gran-fiesta-treinta-vieja/
LOCATION:Plaza de Francisco Rabal\, Plaza de Francisco Rabal s/n\, Alpedrete\, Madrid\, 28430\, España
CATEGORIES:Fiesta
ATTACH;FMTTYPE=image/jpeg:https://preproduccion.alpedrete.es/wp-content/uploads/2016/12/clock-1829498_1920.jpg
GEO:40.6621635;-4.031169
X-APPLE-STRUCTURED-LOCATION;VALUE=URI;X-ADDRESS=Plaza de Francisco Rabal Plaza de Francisco Rabal s/n Alpedrete Madrid 28430 España;X-APPLE-RADIUS=500;X-TITLE=Plaza de Francisco Rabal s/n:geo:-4.031169,40.6621635
END:VEVENT
END:VCALENDAR