BEGIN:VCALENDAR
VERSION:2.0
PRODID:-//Web Ayuntamiento de Alpedrete - ECPv6.9.0//NONSGML v1.0//EN
CALSCALE:GREGORIAN
METHOD:PUBLISH
X-ORIGINAL-URL:https://preproduccion.alpedrete.es
X-WR-CALDESC:Eventos para Web Ayuntamiento de Alpedrete
REFRESH-INTERVAL;VALUE=DURATION:PT1H
X-Robots-Tag:noindex
X-PUBLISHED-TTL:PT1H
BEGIN:VTIMEZONE
TZID:Europe/Madrid
BEGIN:DAYLIGHT
TZOFFSETFROM:+0100
TZOFFSETTO:+0200
TZNAME:CEST
DTSTART:20160327T010000
END:DAYLIGHT
BEGIN:STANDARD
TZOFFSETFROM:+0200
TZOFFSETTO:+0100
TZNAME:CET
DTSTART:20161030T010000
END:STANDARD
END:VTIMEZONE
BEGIN:VEVENT
DTSTART;TZID=Europe/Madrid:20161230T200000
DTEND;TZID=Europe/Madrid:20161230T200000
DTSTAMP:20260420T201631
CREATED:20161215T120047Z
LAST-MODIFIED:20161215T120047Z
UID:10951-1483128000-1483128000@preproduccion.alpedrete.es
SUMMARY:Gran fiesta "Treinta-Vieja"
DESCRIPTION:Celebra la Noche Vieja de forma anticipada en nuestra gran fiesta «Treinta-Vieja». Exclusivo para jóvenes de entre 11 y 17 años. ¡Ponte elegante y baila hasta las doce campanadas en las que tomaremos las uvas (gominolas). Cena con tus amigos\, habrá menús jóvenes adaptados a tu gusto y bolsillo. \nViernes 30 de diciembre de 20:00 – 00:00 h\, en la Carpa de Navidad. \n 
URL:https://preproduccion.alpedrete.es/evento/gran-fiesta-treinta-vieja/
LOCATION:Plaza de Francisco Rabal\, Plaza de Francisco Rabal s/n\, Alpedrete\, Madrid\, 28430\, España
CATEGORIES:Fiesta
ATTACH;FMTTYPE=image/jpeg:https://preproduccion.alpedrete.es/wp-content/uploads/2016/12/clock-1829498_1920.jpg
GEO:40.6621635;-4.031169
X-APPLE-STRUCTURED-LOCATION;VALUE=URI;X-ADDRESS=Plaza de Francisco Rabal Plaza de Francisco Rabal s/n Alpedrete Madrid 28430 España;X-APPLE-RADIUS=500;X-TITLE=Plaza de Francisco Rabal s/n:geo:-4.031169,40.6621635
END:VEVENT
END:VCALENDAR