BEGIN:VCALENDAR
VERSION:2.0
PRODID:-//Web Ayuntamiento de Alpedrete - ECPv6.9.0//NONSGML v1.0//EN
CALSCALE:GREGORIAN
METHOD:PUBLISH
X-ORIGINAL-URL:https://preproduccion.alpedrete.es
X-WR-CALDESC:Eventos para Web Ayuntamiento de Alpedrete
REFRESH-INTERVAL;VALUE=DURATION:PT1H
X-Robots-Tag:noindex
X-PUBLISHED-TTL:PT1H
BEGIN:VTIMEZONE
TZID:Europe/Madrid
BEGIN:DAYLIGHT
TZOFFSETFROM:+0100
TZOFFSETTO:+0200
TZNAME:CEST
DTSTART:20200329T010000
END:DAYLIGHT
BEGIN:STANDARD
TZOFFSETFROM:+0200
TZOFFSETTO:+0100
TZNAME:CET
DTSTART:20201025T010000
END:STANDARD
END:VTIMEZONE
BEGIN:VEVENT
DTSTART;VALUE=DATE:20201024
DTEND;VALUE=DATE:20201025
DTSTAMP:20260424T132743
CREATED:20201023T161051Z
LAST-MODIFIED:20201023T161350Z
UID:32817-1603497600-1603583999@preproduccion.alpedrete.es
SUMMARY:Día de las Bibliotecas
DESCRIPTION:La Dirección General del Libro y Fomento de la Lectura\, a través de la Subdirección General de Coordinación Bibliotecaria\, impulsa la celebración del Día de las Bibliotecas este 24 de octubre de 2020. \nEste año\, el lema utilizado es ‘Bibliotecas\, siempre a tu lado’ que se centra en destacar el papel de las bibliotecas en cualquier circunstancia y lugar queriendo dar especial visibilidad a las bibliotecas de zonas rurales. \nPor ello\, la Biblioteca Municipal de Alpedrete quiere en este día especial dar a conocer su fondo local. Se agradece a todas las personas que colaboran en este fondo tan singular donando obras de Alpedrete y a los mismos autores que comparten su obra con la biblioteca formando una colección que es patrimonio del municipio. \nEl fondo local es la colección que tiene como temática Alpedrete: su cultura\, historia\, costumbres\, así como\, libros de autores del/o con relación del municipio. \nEsta colección puede consultarse en el catálogo de la biblioteca y pueden pedirse en préstamo a domicilio a través del 918579211 en el horario de la biblioteca (L-V de 9:00 a 22:00 horas o sábados de 9:30 a 14:30 horas). \nPara dar visibilidad a este fondo\, la Biblioteca Municipal ha elaborado este boletín con las últimas 24 incorporaciones catalogadas. Algunos de estos libros han sido presentados en la biblioteca en los años 2018 y 2019 o en La Feria del Libro del 2019. \nSe desea reseñar especialmente: \n\nVestidos de imaginación (ejercicios prácticos y obras infantiles de teatro) de Saskia Sánchez Agüero\, profesora de teatro en la “Casa de Cultura Asunción Balaguer” de Alpedrete. Una obra práctica y metodológica para aprender y conectar con el arte del teatro a través de la experiencia que comparte Saskia en este libro lleno de sensibilidad.\nLos lápices de Blanca\, libro escrito y publicado por los alumnos del taller de escritura de la Biblioteca Municipal y de su profesora Blanca Castillo Martínez en el curso 2018-2019.\nLos libros de poesía de Juan Barreno Villar: “Retornos de lo adormecido” “4 eses”\, “Cien alas” y “Tránsito”. Autor de Alpedrete que colabora compartiendo sus obras con la biblioteca desde hace años.\n\n \n 
URL:https://preproduccion.alpedrete.es/evento/dia-de-las-bibliotecas/
LOCATION:Alpedrete\, Alpedrete\, Madrid\, 28430\, España
CATEGORIES:Literatura
ATTACH;FMTTYPE=image/jpeg:https://preproduccion.alpedrete.es/wp-content/uploads/2020/10/dia-de-las-bibliotecas-instagram-1080-x-1080.jpg
END:VEVENT
END:VCALENDAR