BEGIN:VCALENDAR
VERSION:2.0
PRODID:-//Web Ayuntamiento de Alpedrete - ECPv6.9.0//NONSGML v1.0//EN
CALSCALE:GREGORIAN
METHOD:PUBLISH
X-WR-CALNAME:Web Ayuntamiento de Alpedrete
X-ORIGINAL-URL:https://preproduccion.alpedrete.es
X-WR-CALDESC:Eventos para Web Ayuntamiento de Alpedrete
REFRESH-INTERVAL;VALUE=DURATION:PT1H
X-Robots-Tag:noindex
X-PUBLISHED-TTL:PT1H
BEGIN:VTIMEZONE
TZID:Europe/Madrid
BEGIN:DAYLIGHT
TZOFFSETFROM:+0100
TZOFFSETTO:+0200
TZNAME:CEST
DTSTART:20200329T010000
END:DAYLIGHT
BEGIN:STANDARD
TZOFFSETFROM:+0200
TZOFFSETTO:+0100
TZNAME:CET
DTSTART:20201025T010000
END:STANDARD
END:VTIMEZONE
BEGIN:VEVENT
DTSTART;TZID=Europe/Madrid:20201103T173000
DTEND;TZID=Europe/Madrid:20201103T193000
DTSTAMP:20260425T180445
CREATED:20201030T153232Z
LAST-MODIFIED:20201030T153232Z
UID:32874-1604424600-1604431800@preproduccion.alpedrete.es
SUMMARY:Viviendo el duelo: cómo afrontamos las pérdidas
DESCRIPTION:Desde el Ayuntamiento de Alpedrete y la Mancomunidad de Servicios Sociales THAM\, retomamos las sesiones de «Espacio para familias»\, en torno a temas de interés relacionados con la educación de los menores y la convivencia familiar. \n  \nViviendo el duelo: cómo afrontamos las pérdidas \nEl duelo por la pérdida de un ser querido siempre es un proceso difícil que si no se afronta adecuadamente puede complicarse\, llegando a generar problemas en nuestra vida. La situación especial vivida durante la pandemia y la dificultad (o imposibilidad a veces) de la despedida\, hace especialmente difícil el duelo en estos momentos. \nPor ello ahora es especialmente importante conocer cómo es el proceso de duelo\, en qué punto nos encontramos y con qué recursos contamos para afrontarlo. \nSesión a cargo de Raquel López Vergara\, psicóloga\, formadora y coach del Grupo Crece. \n  \nDebido a la situación actual las sesiones se impartirán en un doble formato: presencial\, con limitación de aforo\, y simultáneamente on line para el resto de personas interesadas\, a través de la plataforma Zoom. Para asistir será imprescindible inscribirse previamente por teléfono o correo electrónico: thamfamilia@mancomunidad-tham.org – 918508080. \nPor el momento\, este curso no habrá servicio de cuidados infantiles para quienes opten por participar de manera presencial. \nActividades de Espacio para familias 2020-2021. Todas las sesiones son gratuitas
URL:https://preproduccion.alpedrete.es/evento/viviendo-el-duelo-como-afrontamos-las-perdidas/
LOCATION:Alpedrete\, Alpedrete\, Madrid\, 28430\, España
CATEGORIES:Taller
ATTACH;FMTTYPE=image/jpeg:https://preproduccion.alpedrete.es/wp-content/uploads/2020/10/dolor-tristeza.jpg
END:VEVENT
BEGIN:VEVENT
DTSTART;TZID=Europe/Madrid:20201105T170000
DTEND;TZID=Europe/Madrid:20201105T190000
DTSTAMP:20260425T180445
CREATED:20201103T142352Z
LAST-MODIFIED:20201103T142352Z
UID:32891-1604595600-1604602800@preproduccion.alpedrete.es
SUMMARY:Taller Sexualidad femenina
DESCRIPTION:Jueves 5 de noviembre de 17 a 19 horas. \nTaller ofrecido desde el área de Igualdad de la Mancomunidad de Servicios Sociales THAM. \nDurante las dos horas de duración del taller hablaremos de la sexualidad femenina como parte de nuestro proceso vital: plantearemos preguntas para romper algunos mitos\, conoceremos la anatomía sexual femenina (especialmente nuestro suelo pélvico)\, cómo funciona la respuesta sexual y cómo potenciarla\, así como algunas pautas y ejercicios que nos ayudarán a aumentar el placer y disfrutar de una sexualidad sana. \nLas inscripciones pueden realizarse en el teléfono 918508080 o en el correo electrónico thamigualdad@mancomunidad-tham.org\, indicando tu nombre y apellidos\, municipio\, teléfono\, correo electrónico y actividad que te interesa.
URL:https://preproduccion.alpedrete.es/evento/taller-sexualidad-femenina/
CATEGORIES:Taller
ATTACH;FMTTYPE=image/jpeg:https://preproduccion.alpedrete.es/wp-content/uploads/2020/11/taller-sexualidad-fememnina.jpg
END:VEVENT
BEGIN:VEVENT
DTSTART;TZID=Europe/Madrid:20201112T173000
DTEND;TZID=Europe/Madrid:20201112T193000
DTSTAMP:20260425T180445
CREATED:20201110T090037Z
LAST-MODIFIED:20201110T204956Z
UID:32877-1605202200-1605209400@preproduccion.alpedrete.es
SUMMARY:Prevenir en familia para evitar dolores de cabeza
DESCRIPTION:Desde el Ayuntamiento de Alpedrete y la Mancomunidad de Servicios Sociales THAM\, se ofrece este taller dentro del programa «Espacio para familias»\, en torno a temas de interés relacionados con la educación de los menores y la convivencia familiar. \nLa familia tiene una amplia capacidad de influencia sobre los menores para poder prevenir conductas de riesgo\, entre ellas\, la del consumo de drogas. \nCelebraremos cuatro sesiones con el título «Prevenir en familia para evitar dolores de cabeza» con el objetivo de que las familias tomen conciencia de la gran capacidad de influencia que tienen sobre sus hijos en la prevención de conductas de riesgo\, entre ellas\, la del consumo de drogas. Queremos mostrar todos los recursos que tienen disponibles para que sus hijos e hijas estén protegidos frente a los consumos y otros riesgos\, empezando por la adopción de actitudes y la adquisición de habilidades relacionadas con un adecuado clima afectivo y de comunicación en la familia. \nSesiones a cargo de profesionales del programa En familia. Educar para la vida\, de la Fad (Fundación de Ayuda contra la Drogadicción). \nDebido a la situación actual las sesiones se impartirán en un doble formato: presencial\, con limitación de aforo\, y simultáneamente on line para el resto de personas interesadas\, a través de la plataforma Zoom. Para asistir será imprescindible inscribirse previamente por teléfono o correo electrónico: thamfamilia@mancomunidad-tham.org – 918508080. \nPor el momento\, este curso no habrá servicio de cuidados infantiles para quienes opten por participar de manera presencial. \nJueves 12\, 19 y 26 de noviembre y 3 de diciembre de 17:30 a 19:30
URL:https://preproduccion.alpedrete.es/evento/prevenir-en-familia-para-evitar-dolores-de-cabeza/
LOCATION:Mancomunidad THAM. Sede central Torrelodones\, Avenida de la Dehesa\, 63\, Torrelodones\, España
CATEGORIES:Escuela de Familia
ATTACH;FMTTYPE=image/jpeg:https://preproduccion.alpedrete.es/wp-content/uploads/2020/11/padre-hijo-adolescente.jpg
GEO:40.5811519;-3.9292476
X-APPLE-STRUCTURED-LOCATION;VALUE=URI;X-ADDRESS=Mancomunidad THAM. Sede central Torrelodones Avenida de la Dehesa 63 Torrelodones España;X-APPLE-RADIUS=500;X-TITLE=Avenida de la Dehesa\, 63:geo:-3.9292476,40.5811519
END:VEVENT
BEGIN:VEVENT
DTSTART;TZID=Europe/Madrid:20201119T173000
DTEND;TZID=Europe/Madrid:20201119T193000
DTSTAMP:20260425T180445
CREATED:20201110T090027Z
LAST-MODIFIED:20201110T205046Z
UID:33044-1605807000-1605814200@preproduccion.alpedrete.es
SUMMARY:Prevenir en familia para evitar dolores de cabeza
DESCRIPTION:Desde el Ayuntamiento de Alpedrete y la Mancomunidad de Servicios Sociales THAM\, se ofrece este taller dentro del programa «Espacio para familias»\, en torno a temas de interés relacionados con la educación de los menores y la convivencia familiar. \nLa familia tiene una amplia capacidad de influencia sobre los menores para poder prevenir conductas de riesgo\, entre ellas\, la del consumo de drogas. \nCelebraremos cuatro sesiones con el título «Prevenir en familia para evitar dolores de cabeza» con el objetivo de que las familias tomen conciencia de la gran capacidad de influencia que tienen sobre sus hijos en la prevención de conductas de riesgo\, entre ellas\, la del consumo de drogas. Queremos mostrar todos los recursos que tienen disponibles para que sus hijos e hijas estén protegidos frente a los consumos y otros riesgos\, empezando por la adopción de actitudes y la adquisición de habilidades relacionadas con un adecuado clima afectivo y de comunicación en la familia. \nSesiones a cargo de profesionales del programa En familia. Educar para la vida\, de la Fad (Fundación de Ayuda contra la Drogadicción). \nDebido a la situación actual las sesiones se impartirán en un doble formato: presencial\, con limitación de aforo\, y simultáneamente on line para el resto de personas interesadas\, a través de la plataforma Zoom. Para asistir será imprescindible inscribirse previamente por teléfono o correo electrónico: thamfamilia@mancomunidad-tham.org – 918508080. \nPor el momento\, este curso no habrá servicio de cuidados infantiles para quienes opten por participar de manera presencial. \nJueves 12\, 19 y 26 de noviembre y 3 de diciembre de 17:30 a 19:30
URL:https://preproduccion.alpedrete.es/evento/prevenir-en-familia-para-evitar-dolores-de-cabeza-2/
CATEGORIES:Escuela de Familia
ATTACH;FMTTYPE=image/jpeg:https://preproduccion.alpedrete.es/wp-content/uploads/2020/11/padre-hijo-adolescente.jpg
END:VEVENT
BEGIN:VEVENT
DTSTART;TZID=Europe/Madrid:20201124T180000
DTEND;TZID=Europe/Madrid:20201124T193000
DTSTAMP:20260425T180445
CREATED:20201124T091033Z
LAST-MODIFIED:20201124T091033Z
UID:32894-1606240800-1606246200@preproduccion.alpedrete.es
SUMMARY:La sexualidad en la adolescencia a través de la pornografía
DESCRIPTION:El martes 24 de noviembre a las 18 horas reflexionaremos sobre la situación en la que se encuentra la educación integral en sexualidad y el acceso a material pornográfico. \nCon esta sesión queremos dar información\, estrategias y habilidades a toda la población (especialmente a las familias con hijos e hijas y a los profesionales que trabajen con menores) para que puedan conversar\, educar\, informar\, ayudar\, acompañar a los y las más jóvenes en su desarrollo sexual\, protegiéndoles de relaciones de riesgo\, violentas y abusivas. \nEsta sesión\, gratuita y dirigida a toda la población adulta\, se impartirá a través de la plataforma zoom. Para participar solo debes inscribirte por teléfono (918508080) o por correo electrónico (thamigualdad@mancomunidad-tham.org)\, indicando tu nombre y apellidos\, municipio\, teléfono\, correo electrónico y la actividad que te interesan
URL:https://preproduccion.alpedrete.es/evento/la-sexualidad-en-la-adolescencia-a-traves-de-la-pornografia/
LOCATION:Alpedrete
CATEGORIES:Taller
ATTACH;FMTTYPE=image/jpeg:https://preproduccion.alpedrete.es/wp-content/uploads/2020/11/Cartel-Sex-on.jpg
END:VEVENT
BEGIN:VEVENT
DTSTART;TZID=Europe/Madrid:20201126T173000
DTEND;TZID=Europe/Madrid:20201126T193000
DTSTAMP:20260425T180445
CREATED:20201110T090051Z
LAST-MODIFIED:20201126T141931Z
UID:33047-1606411800-1606419000@preproduccion.alpedrete.es
SUMMARY:Prevenir en familia para evitar dolores de cabeza
DESCRIPTION:Desde el Ayuntamiento de Alpedrete y la Mancomunidad de Servicios Sociales THAM\, se ofrece este taller dentro del programa «Espacio para familias»\, en torno a temas de interés relacionados con la educación de los menores y la convivencia familiar. \nLa familia tiene una amplia capacidad de influencia sobre los menores para poder prevenir conductas de riesgo\, entre ellas\, la del consumo de drogas. \nCelebraremos cuatro sesiones con el título «Prevenir en familia para evitar dolores de cabeza» con el objetivo de que las familias tomen conciencia de la gran capacidad de influencia que tienen sobre sus hijos en la prevención de conductas de riesgo\, entre ellas\, la del consumo de drogas. Queremos mostrar todos los recursos que tienen disponibles para que sus hijos e hijas estén protegidos frente a los consumos y otros riesgos\, empezando por la adopción de actitudes y la adquisición de habilidades relacionadas con un adecuado clima afectivo y de comunicación en la familia. \nSesiones a cargo de profesionales del programa En familia. Educar para la vida\, de la Fad (Fundación de Ayuda contra la Drogadicción). \nDebido a la situación actual las sesiones se impartirán en un doble formato: presencial\, con limitación de aforo\, y simultáneamente on line para el resto de personas interesadas\, a través de la plataforma Zoom. Para asistir será imprescindible inscribirse previamente por teléfono o correo electrónico: thamfamilia@mancomunidad-tham.org – 918508080. \nPor el momento\, este curso no habrá servicio de cuidados infantiles para quienes opten por participar de manera presencial. \nJueves 12\, 19 y 26 de noviembre y 3 de diciembre de 17:30 a 19:30 \nLas sesiones son independientes\, aunque relacionadas\, por lo que no es necesario participar en todas ellas. \nDurante las dos primeras sesiones (12 y 19 de noviembre)\, se ha abordado la prevención familiar (la influencia de las pautas familiares en la reducción de los factores de riesgo y en la potenciación de los factores de protección para evitar conductas de riesgo) y un acercamiento a las drogas (información sobre las sustancias\, consecuencias de su consumo y cómo dialogar sobre ellas). \nLas próximas sesiones se realizarán los jueves 26 de noviembre y 3 de diciembre de 17:30 a 19 horas con los siguientes contenidos: \n\nNosotr@s\, madres y padres: parentalidad positiva y responsable \, respuesta a las necesidades de la sociedad actual\, inteligencia emocional en el ámbito familiar\, cómo comunicarnos\, mindfulness o atención plena.\nEscuela de comunicación: cómo propiciar espacios de comunicación en la familia y comunicación positiva.\n\nSesiones a cargo de profesionales del programa En familia. Educar para la vida\, de la Fad (Fundación de Ayuda contra la Drogadicción).
URL:https://preproduccion.alpedrete.es/evento/prevenir-en-familia-para-evitar-dolores-de-cabeza-3/
LOCATION:Mancomunidad THAM. Sede central Torrelodones\, Avenida de la Dehesa\, 63\, Torrelodones\, España
ATTACH;FMTTYPE=image/jpeg:https://preproduccion.alpedrete.es/wp-content/uploads/2020/11/padre-hijo-adolescente.jpg
GEO:40.5811519;-3.9292476
X-APPLE-STRUCTURED-LOCATION;VALUE=URI;X-ADDRESS=Mancomunidad THAM. Sede central Torrelodones Avenida de la Dehesa 63 Torrelodones España;X-APPLE-RADIUS=500;X-TITLE=Avenida de la Dehesa\, 63:geo:-3.9292476,40.5811519
END:VEVENT
BEGIN:VEVENT
DTSTART;TZID=Europe/Madrid:20201128T183000
DTEND;TZID=Europe/Madrid:20201128T194500
DTSTAMP:20260425T180445
CREATED:20201127T191233Z
LAST-MODIFIED:20201127T191233Z
UID:33228-1606588200-1606592700@preproduccion.alpedrete.es
SUMMARY:Video conferencia: Juana La Loca
DESCRIPTION:Debido a la situación actual\, las actividad se realiza en formato on line\, a través de la plataforma Zoom. Para participar\, solo tienes que inscribirse previamente por correo electrónico (thamigualdad@mancomunidad-tham.org)\, indicando tu nombre\, correo electrónico y el taller que te interesa. \nContamos con un servicio de asesoramiento telefónico para facilitar la conexión y utilización de la plataforma. Si lo necesitas\, solicítalo por teléfono o correo electrónico al inscribirte. \n  \nVideoconferencias: Historia con otra mirada \nCon una charla amena y piezas audiovisuales diseñadas para ello\, queremos asomarnos a la historia\, a sus protagonistas y sus relatos\, desde una nueva perspectiva. \n\nJuana “La Loca”\, la Infanta Rebelde. Sábado 28 de noviembre de 18:30 a 19:45 horas.\n\nViajaremos a la Castilla del siglo XVI para conocer a la reina Juana y nos asomaremos a su mundo\, Isabel y su grandeza\, Juana y su locura… ¿Por qué la llamaron “la Loca” y por qué fue encerrada en una fortaleza hasta el fin de sus días? ¿Cómo la juzgaron en su tiempo y cómo lo ha hecho la historia? \n \n 
URL:https://preproduccion.alpedrete.es/evento/video-conferencia-juana-la-loca/
CATEGORIES:Coloquio
ATTACH;FMTTYPE=image/jpeg:https://preproduccion.alpedrete.es/wp-content/uploads/2020/11/Igualdad_ConfJuana.jpg
END:VEVENT
BEGIN:VEVENT
DTSTART;TZID=Europe/Madrid:20201130T100000
DTEND;TZID=Europe/Madrid:20201130T120000
DTSTAMP:20260425T180445
CREATED:20201028T115740Z
LAST-MODIFIED:20201130T094757Z
UID:32836-1606730400-1606737600@preproduccion.alpedrete.es
SUMMARY:Taller: la voz\, herramienta de trabajo
DESCRIPTION:Taller gratuito\, impartido on line a través de la plataforma Zoom. Si lo necesitas\, disponemos de un servicio gratuito de asesoramiento/acompañamiento previo para poder participar en estas actividades en línea. \nLas inscripciones pueden realizarse en el teléfono 918508080 o en el correo electrónico thamigualdad@mancomunidad-tham.org\, indicando tu nombre y apellidos\, municipio\, teléfono\, correo electrónico y actividad que te interesa. \nLa voz\, herramienta de trabajo \nLunes y viernes del 30 de noviembre al 14 de diciembre\, de 10 a 12 horas. \nAprenderemos sobre nuestra voz\, su importancia en el proceso de venta\, y cómo utilizarla y cuidarla. \n 
URL:https://preproduccion.alpedrete.es/evento/taller-la-voz-herramienta-de-trabajo-2/
LOCATION:Alpedrete\, Alpedrete\, Madrid\, 28430\, España
CATEGORIES:Taller
ATTACH;FMTTYPE=image/jpeg:https://preproduccion.alpedrete.es/wp-content/uploads/2020/10/mujer-teletrabajo-negocios-web.jpg
END:VEVENT
END:VCALENDAR