BEGIN:VCALENDAR
VERSION:2.0
PRODID:-//Web Ayuntamiento de Alpedrete - ECPv6.9.0//NONSGML v1.0//EN
CALSCALE:GREGORIAN
METHOD:PUBLISH
X-ORIGINAL-URL:https://preproduccion.alpedrete.es
X-WR-CALDESC:Eventos para Web Ayuntamiento de Alpedrete
REFRESH-INTERVAL;VALUE=DURATION:PT1H
X-Robots-Tag:noindex
X-PUBLISHED-TTL:PT1H
BEGIN:VTIMEZONE
TZID:Europe/Madrid
BEGIN:DAYLIGHT
TZOFFSETFROM:+0100
TZOFFSETTO:+0200
TZNAME:CEST
DTSTART:20200329T010000
END:DAYLIGHT
BEGIN:STANDARD
TZOFFSETFROM:+0200
TZOFFSETTO:+0100
TZNAME:CET
DTSTART:20201025T010000
END:STANDARD
END:VTIMEZONE
BEGIN:VEVENT
DTSTART;TZID=Europe/Madrid:20201128T183000
DTEND;TZID=Europe/Madrid:20201128T194500
DTSTAMP:20260425T181000
CREATED:20201127T191233Z
LAST-MODIFIED:20201127T191233Z
UID:33228-1606588200-1606592700@preproduccion.alpedrete.es
SUMMARY:Video conferencia: Juana La Loca
DESCRIPTION:Debido a la situación actual\, las actividad se realiza en formato on line\, a través de la plataforma Zoom. Para participar\, solo tienes que inscribirse previamente por correo electrónico (thamigualdad@mancomunidad-tham.org)\, indicando tu nombre\, correo electrónico y el taller que te interesa. \nContamos con un servicio de asesoramiento telefónico para facilitar la conexión y utilización de la plataforma. Si lo necesitas\, solicítalo por teléfono o correo electrónico al inscribirte. \n  \nVideoconferencias: Historia con otra mirada \nCon una charla amena y piezas audiovisuales diseñadas para ello\, queremos asomarnos a la historia\, a sus protagonistas y sus relatos\, desde una nueva perspectiva. \n\nJuana “La Loca”\, la Infanta Rebelde. Sábado 28 de noviembre de 18:30 a 19:45 horas.\n\nViajaremos a la Castilla del siglo XVI para conocer a la reina Juana y nos asomaremos a su mundo\, Isabel y su grandeza\, Juana y su locura… ¿Por qué la llamaron “la Loca” y por qué fue encerrada en una fortaleza hasta el fin de sus días? ¿Cómo la juzgaron en su tiempo y cómo lo ha hecho la historia? \n \n 
URL:https://preproduccion.alpedrete.es/evento/video-conferencia-juana-la-loca/
CATEGORIES:Coloquio
ATTACH;FMTTYPE=image/jpeg:https://preproduccion.alpedrete.es/wp-content/uploads/2020/11/Igualdad_ConfJuana.jpg
END:VEVENT
END:VCALENDAR