BEGIN:VCALENDAR
VERSION:2.0
PRODID:-//Web Ayuntamiento de Alpedrete - ECPv6.9.0//NONSGML v1.0//EN
CALSCALE:GREGORIAN
METHOD:PUBLISH
X-WR-CALNAME:Web Ayuntamiento de Alpedrete
X-ORIGINAL-URL:https://preproduccion.alpedrete.es
X-WR-CALDESC:Eventos para Web Ayuntamiento de Alpedrete
REFRESH-INTERVAL;VALUE=DURATION:PT1H
X-Robots-Tag:noindex
X-PUBLISHED-TTL:PT1H
BEGIN:VTIMEZONE
TZID:Europe/Madrid
BEGIN:DAYLIGHT
TZOFFSETFROM:+0100
TZOFFSETTO:+0200
TZNAME:CEST
DTSTART:20200329T010000
END:DAYLIGHT
BEGIN:STANDARD
TZOFFSETFROM:+0200
TZOFFSETTO:+0100
TZNAME:CET
DTSTART:20201025T010000
END:STANDARD
END:VTIMEZONE
BEGIN:VEVENT
DTSTART;TZID=Europe/Madrid:20201214T173000
DTEND;TZID=Europe/Madrid:20201214T193000
DTSTAMP:20260425T123823
CREATED:20201209T122849Z
LAST-MODIFIED:20201209T122849Z
UID:33238-1607967000-1607974200@preproduccion.alpedrete.es
SUMMARY:Paciencia 3.0
DESCRIPTION:Desde el Ayuntamiento de Alpedrete\, a través del programa Espacio para familias organizado por la Mancomunidad de Servicios Sociales THAM\, os ofrecemos la sesión «Paciencia 3.0» \nA lo largo de la sesión podremos descubrir algunas claves para cultivar la paciencia\, evitando así el “calentamiento global familiar”. Para ello contaremos con Enrique Parada Torres\, psicólogo\, formador y coach. \nLunes 14 de diciembre de 17:30 a 19:30 horas. \nDebido a la situación actual\, la actividad se realiza en formato on line\, a través de la plataforma Zoom. Para participar\, solo tienes que inscribirse previamente por correo electrónico (thamfamilia@mancomunidad-tham.org)\, indicando tu nombre\, correo electrónico y el taller que te interesa. \nContamos con un servicio de asesoramiento telefónico para facilitar la conexión y utilización de la plataforma. Si lo necesitas\, solicítalo por teléfono o correo electrónico al inscribirte.
URL:https://preproduccion.alpedrete.es/evento/paciencia-3-0/
LOCATION:Alpedrete
CATEGORIES:Escuela de Familia
ATTACH;FMTTYPE=image/jpeg:https://preproduccion.alpedrete.es/wp-content/uploads/2020/12/ninos-jugar-ensuciar-sucio-scaled.jpg
END:VEVENT
END:VCALENDAR