BEGIN:VCALENDAR
VERSION:2.0
PRODID:-//Web Ayuntamiento de Alpedrete - ECPv6.9.0//NONSGML v1.0//EN
CALSCALE:GREGORIAN
METHOD:PUBLISH
X-ORIGINAL-URL:https://preproduccion.alpedrete.es
X-WR-CALDESC:Eventos para Web Ayuntamiento de Alpedrete
REFRESH-INTERVAL;VALUE=DURATION:PT1H
X-Robots-Tag:noindex
X-PUBLISHED-TTL:PT1H
BEGIN:VTIMEZONE
TZID:Europe/Madrid
BEGIN:DAYLIGHT
TZOFFSETFROM:+0100
TZOFFSETTO:+0200
TZNAME:CEST
DTSTART:20180325T010000
END:DAYLIGHT
BEGIN:STANDARD
TZOFFSETFROM:+0200
TZOFFSETTO:+0100
TZNAME:CET
DTSTART:20181028T010000
END:STANDARD
END:VTIMEZONE
BEGIN:VEVENT
DTSTART;TZID=Europe/Madrid:20181221T123000
DTEND;TZID=Europe/Madrid:20181221T140000
DTSTAMP:20260420T165143
CREATED:20181212T134418Z
LAST-MODIFIED:20181217T135255Z
UID:24218-1545395400-1545400800@preproduccion.alpedrete.es
SUMMARY:Mayores\, despedida del curso 2018
DESCRIPTION:Centro de Mayores Los Canteros\, 12:30 h. Aperitivo y villancicos para despedir el curso 2018. La fiesta se celebrará en la sala polivalente (gratuito). \nAlpedrete en Navidad. Programación completa
URL:https://preproduccion.alpedrete.es/evento/mayores-despedida-del-curso-2018/
LOCATION:Centro de Mayores Los Canteros de Alpedrete\, Plaza de la Constitución\, s/n\, Alpedrete\, España
ATTACH;FMTTYPE=image/jpeg:https://preproduccion.alpedrete.es/wp-content/uploads/2018/12/aperitivo-navidad.jpg
GEO:40.6602075;-4.0254104
X-APPLE-STRUCTURED-LOCATION;VALUE=URI;X-ADDRESS=Centro de Mayores Los Canteros de Alpedrete Plaza de la Constitución s/n Alpedrete España;X-APPLE-RADIUS=500;X-TITLE=Plaza de la Constitución\, s/n:geo:-4.0254104,40.6602075
END:VEVENT
END:VCALENDAR