BEGIN:VCALENDAR
VERSION:2.0
PRODID:-//Web Ayuntamiento de Alpedrete - ECPv6.9.0//NONSGML v1.0//EN
CALSCALE:GREGORIAN
METHOD:PUBLISH
X-ORIGINAL-URL:https://preproduccion.alpedrete.es
X-WR-CALDESC:Eventos para Web Ayuntamiento de Alpedrete
REFRESH-INTERVAL;VALUE=DURATION:PT1H
X-Robots-Tag:noindex
X-PUBLISHED-TTL:PT1H
BEGIN:VTIMEZONE
TZID:Europe/Madrid
BEGIN:DAYLIGHT
TZOFFSETFROM:+0100
TZOFFSETTO:+0200
TZNAME:CEST
DTSTART:20190331T010000
END:DAYLIGHT
BEGIN:STANDARD
TZOFFSETFROM:+0200
TZOFFSETTO:+0100
TZNAME:CET
DTSTART:20191027T010000
END:STANDARD
END:VTIMEZONE
BEGIN:VEVENT
DTSTART;TZID=Europe/Madrid:20190602T103000
DTEND;TZID=Europe/Madrid:20190602T150000
DTSTAMP:20260424T054158
CREATED:20190529T075310Z
LAST-MODIFIED:20190529T075310Z
UID:26710-1559471400-1559487600@preproduccion.alpedrete.es
SUMMARY:XI Feria de productos locales
DESCRIPTION:El domingo 2 de junio se celebrará la XI Feroa de productos locales de Alpedrete. Como las ediciones anteriores\, los participantes montarán sus puestos en la plaza de la Contitución de 10:30 de la mañana a 15:00 de la tarde.
URL:https://preproduccion.alpedrete.es/evento/xi-feria-de-productos-locales/
LOCATION:Plaza de la Constitución\, Plaza de la Constitución\, Alpedrete\, Madrid\, 28430\, España
CATEGORIES:Mercadillo
ATTACH;FMTTYPE=image/jpeg:https://preproduccion.alpedrete.es/wp-content/uploads/2019/05/PHOTO-2019-05-28-21-04-50.jpg
GEO:40.6602075;-4.0254104
X-APPLE-STRUCTURED-LOCATION;VALUE=URI;X-ADDRESS=Plaza de la Constitución Plaza de la Constitución Alpedrete Madrid 28430 España;X-APPLE-RADIUS=500;X-TITLE=Plaza de la Constitución:geo:-4.0254104,40.6602075
END:VEVENT
BEGIN:VEVENT
DTSTART;TZID=Europe/Madrid:20190609T120000
DTEND;TZID=Europe/Madrid:20190609T140000
DTSTAMP:20260424T054158
CREATED:20190607T125204Z
LAST-MODIFIED:20190607T125204Z
UID:26915-1560081600-1560088800@preproduccion.alpedrete.es
SUMMARY:Truequedrete
DESCRIPTION:El domingo 9 de junio celebramos nuestro mercadillo de intercambio Truequedrete como cada segundo domingo de mes. Nos reuniremos en la Plaza de la Constitución\, en horario de 12 a 14 h. Además de intercambio\, se permite la venta y regalo de objetos\, según los requisitos definidos en las características de la actividad. Se trata de un espacio pensado exclusivamente para los vecinos de Alpedrete que participarán a título personal\, no como empresario\, profesional o autónomo.
URL:https://preproduccion.alpedrete.es/evento/truequedrete-5/
LOCATION:Plaza de la Constitución\, Alpedrete\, Madrid\, 28430\, España
CATEGORIES:Mercadillo
ATTACH;FMTTYPE=image/jpeg:https://preproduccion.alpedrete.es/wp-content/uploads/2019/01/truequedrete-mercadillo-5.jpg
END:VEVENT
END:VCALENDAR