BEGIN:VCALENDAR
VERSION:2.0
PRODID:-//Web Ayuntamiento de Alpedrete - ECPv6.9.0//NONSGML v1.0//EN
CALSCALE:GREGORIAN
METHOD:PUBLISH
X-ORIGINAL-URL:https://preproduccion.alpedrete.es
X-WR-CALDESC:Eventos para Web Ayuntamiento de Alpedrete
REFRESH-INTERVAL;VALUE=DURATION:PT1H
X-Robots-Tag:noindex
X-PUBLISHED-TTL:PT1H
BEGIN:VTIMEZONE
TZID:Europe/Madrid
BEGIN:DAYLIGHT
TZOFFSETFROM:+0100
TZOFFSETTO:+0200
TZNAME:CEST
DTSTART:20180325T010000
END:DAYLIGHT
BEGIN:STANDARD
TZOFFSETFROM:+0200
TZOFFSETTO:+0100
TZNAME:CET
DTSTART:20181028T010000
END:STANDARD
END:VTIMEZONE
BEGIN:VEVENT
DTSTART;TZID=Europe/Madrid:20180923T093000
DTEND;TZID=Europe/Madrid:20180923T150000
DTSTAMP:20260419T142547
CREATED:20180914T140055Z
LAST-MODIFIED:20180914T140331Z
UID:22657-1537695000-1537714800@preproduccion.alpedrete.es
SUMMARY:Truequedrete\, taller de bicicletas\, marcha popular ciclista... Semana Europea de la Movilidad
DESCRIPTION:El Ayuntamiento de Alpedrete\, por cuarto año consecutivo\, se suma a la Semana Europea de la Movilidad 2018\, que se celebrará del 16 al 22 de septiembre. En 2017 participaron en todo el mundo 2.526 ciudades\, 467 de ellas en España. Alpedrete fue uno de esos municipios\, y este año repite la experiencia. \nEl lema elegido este año por la Comisión Europea es “Combina y Muévete” (con la correspondiente etiqueta #combinaymuevete). La idea que expresa ese lema es el fomento del uso y combinación de diferentes modos de transporte en los desplazamientos urbanos de personas y mercancías para conseguir mayor eficiencia\, rapidez\, ahorro y sostenibilidad. \nEl Ayuntamiento de Alpedrete promueve la Semana de la Movilidad añadiendo cinco palabras al lema europeo: Patina\, pedalea\, corre\, salta\, camina. Las actividades previstas se desarrollarán entre el jueves 20 y el domingo 23 de septiembre. Cine\, rutas a pie y en bici\, peatonalización del centro del municipio o taller de arreglo e intercambio de bicicletas. \nDomingo 23 de septiembre \n\nMarcha Popular Ciclista. Salida a las 09:30 de la mañana desde la Plaza de Vicewnte Guillén Zamorano con la Peña Ciclista de Alpedrete. Llegada aproximada entre las 12:30 y las 13:30 h. El recorrido son 35 kilómetros que se pueden concultar pinchando en este enlace.\nPeatonalización del centro de Alpedrete. La calle Real permanecerá cortada de 11:00 de la mañana a 15:00 de la tarde al tráfico y los comerciantes que lo deseen podrán instalar sus puestos en la calle\, dejando espacio para que circulen las bicicletas y los peatones. Los comerciantes que deseen participar en esta actividad se deberán poner en contacto con la concejalía de medio ambiente a través del correo electrónico guiomar_romero@alpedrete.es\nPeatonalización de la calle Santa Quiteria. Como sucede todos los domingos\, permanecerá cerrada al tráfico entre las 11:00 de la mañana y las 15:00 de la tarde para poder patinar y montar en bicicleta.\nTaller de bicicletas. Villanueva Bike enseñará a arreglar pinchazos\, colocar la cadena de la bici… Además de la clase de mecánica\, se diseñará un circuito y se enseñarán técnicas para mejorar la manera de montar en bicicleta.\nTruequedrete. El objetivo es que quien lo desee pueda cambiar la bicicleta o accesorios que no le son útiles por otros que cubran las nuevas necesidades.\nEl taller de bicicletas y Truequedrete se instalarán en la calle Santa Quiteria a la altura del colegio El Peralejo.
URL:https://preproduccion.alpedrete.es/evento/22657/
LOCATION:Alpedrete\, Alpedrete\, Madrid\, 28430\, España
CATEGORIES:Medioambiente
ATTACH;FMTTYPE=image/jpeg:https://preproduccion.alpedrete.es/wp-content/uploads/2018/09/ALPEDRETE-SemanaDelaMovilidad-2018-cabecera600x400.jpg
END:VEVENT
END:VCALENDAR