BEGIN:VCALENDAR
VERSION:2.0
PRODID:-//Web Ayuntamiento de Alpedrete - ECPv6.9.0//NONSGML v1.0//EN
CALSCALE:GREGORIAN
METHOD:PUBLISH
X-WR-CALNAME:Web Ayuntamiento de Alpedrete
X-ORIGINAL-URL:https://preproduccion.alpedrete.es
X-WR-CALDESC:Eventos para Web Ayuntamiento de Alpedrete
REFRESH-INTERVAL;VALUE=DURATION:PT1H
X-Robots-Tag:noindex
X-PUBLISHED-TTL:PT1H
BEGIN:VTIMEZONE
TZID:Europe/Madrid
BEGIN:DAYLIGHT
TZOFFSETFROM:+0100
TZOFFSETTO:+0200
TZNAME:CEST
DTSTART:20190331T010000
END:DAYLIGHT
BEGIN:STANDARD
TZOFFSETFROM:+0200
TZOFFSETTO:+0100
TZNAME:CET
DTSTART:20191027T010000
END:STANDARD
END:VTIMEZONE
BEGIN:VEVENT
DTSTART;TZID=Europe/Madrid:20191007T173000
DTEND;TZID=Europe/Madrid:20191007T183000
DTSTAMP:20260424T070544
CREATED:20191007T121208Z
LAST-MODIFIED:20191007T121208Z
UID:27940-1570469400-1570473000@preproduccion.alpedrete.es
SUMMARY:¿Conoces tu suelo pélvico?
DESCRIPTION:La Asociación Despertares Maternidad y Crianza\, nos ofrece este taller el lunes 7 de octubre a las 17:30 h en el Centro de Mayores Los Canteros\, a cargo de Estefanía García. \nInformación y reserva de plazas en info@despertaresmaternidad.com \n \n 
URL:https://preproduccion.alpedrete.es/evento/conoces-tu-suelo-pelvico/
LOCATION:Centro de Mayores Los Canteros de Alpedrete\, Plaza de la Constitución\, s/n\, Alpedrete\, España
CATEGORIES:Taller
ATTACH;FMTTYPE=image/jpeg:https://preproduccion.alpedrete.es/wp-content/uploads/2019/10/talleres-asociacion-despertares-banner.jpg
GEO:40.6602075;-4.0254104
X-APPLE-STRUCTURED-LOCATION;VALUE=URI;X-ADDRESS=Centro de Mayores Los Canteros de Alpedrete Plaza de la Constitución s/n Alpedrete España;X-APPLE-RADIUS=500;X-TITLE=Plaza de la Constitución\, s/n:geo:-4.0254104,40.6602075
END:VEVENT
BEGIN:VEVENT
DTSTART;TZID=Europe/Madrid:20191018T080000
DTEND;TZID=Europe/Madrid:20191018T170000
DTSTAMP:20260424T070544
CREATED:20191018T125504Z
LAST-MODIFIED:20191018T125504Z
UID:28118-1571385600-1571418000@preproduccion.alpedrete.es
SUMMARY:Taller: porteo ergonomico de bebes y niños
DESCRIPTION:La Asociación Despertares Maternidad y Crianza\, nos ofrece este taller el lunes 21 de octubre a las 17:30 h en el Centro de Mayores Los Canteros\, a cargo de Estefanía García. \nInformación y reserva de plazas en info@despertaresmaternidad.com
URL:https://preproduccion.alpedrete.es/evento/taller-porteo-ergonomico-de-bebes-y-ninos/
LOCATION:Alpedrete\, Madrid\, 28430\, España
CATEGORIES:Salud
ATTACH;FMTTYPE=image/jpeg:https://preproduccion.alpedrete.es/wp-content/uploads/2019/10/talleres-asociacion-despertares-banner.jpg
END:VEVENT
END:VCALENDAR