BEGIN:VCALENDAR
VERSION:2.0
PRODID:-//Web Ayuntamiento de Alpedrete - ECPv6.9.0//NONSGML v1.0//EN
CALSCALE:GREGORIAN
METHOD:PUBLISH
X-WR-CALNAME:Web Ayuntamiento de Alpedrete
X-ORIGINAL-URL:https://preproduccion.alpedrete.es
X-WR-CALDESC:Eventos para Web Ayuntamiento de Alpedrete
REFRESH-INTERVAL;VALUE=DURATION:PT1H
X-Robots-Tag:noindex
X-PUBLISHED-TTL:PT1H
BEGIN:VTIMEZONE
TZID:Europe/Madrid
BEGIN:DAYLIGHT
TZOFFSETFROM:+0100
TZOFFSETTO:+0200
TZNAME:CEST
DTSTART:20190331T010000
END:DAYLIGHT
BEGIN:STANDARD
TZOFFSETFROM:+0200
TZOFFSETTO:+0100
TZNAME:CET
DTSTART:20191027T010000
END:STANDARD
END:VTIMEZONE
BEGIN:VEVENT
DTSTART;TZID=Europe/Madrid:20191119T180000
DTEND;TZID=Europe/Madrid:20191119T200000
DTSTAMP:20260424T014805
CREATED:20191108T135328Z
LAST-MODIFIED:20191115T125006Z
UID:28373-1574186400-1574193600@preproduccion.alpedrete.es
SUMMARY:Taller de arte "Las violencias machistas en el arte"
DESCRIPTION:El 19 de noviembre se realizará el taller «Las violencias machistas en el arte» en el Edificio Polivalente\, empezará a las 18.00 horas. Esta actividad va más allá de las cuestiones artísticas reflejadas en las obras\, ya que se analiza el significado de las historias que se cuentan\, las motivaciones con las que se crearon y los mensajes que transmiten. Se trabajan los cuadros como documentos históricos\, reflejo de la manera de pensar en las épocas en las que fueron creadas. \nTaller organizado por la Mancomunidad de Servicios Sociales THAM. Tel 91850 80 80
URL:https://preproduccion.alpedrete.es/evento/taller-de-arte/
LOCATION:Edificio Polivalente\, Plaza de la Constitución\, 6\, Alpedrete\, Madrid\, 28430\, España
CATEGORIES:Taller
ATTACH;FMTTYPE=image/jpeg:https://preproduccion.alpedrete.es/wp-content/uploads/2019/11/pinceles.jpg
GEO:40.6604232;-4.0256288
X-APPLE-STRUCTURED-LOCATION;VALUE=URI;X-ADDRESS=Edificio Polivalente Plaza de la Constitución 6 Alpedrete Madrid 28430 España;X-APPLE-RADIUS=500;X-TITLE=Plaza de la Constitución\, 6:geo:-4.0256288,40.6604232
END:VEVENT
END:VCALENDAR