BEGIN:VCALENDAR
VERSION:2.0
PRODID:-//Web Ayuntamiento de Alpedrete - ECPv6.9.0//NONSGML v1.0//EN
CALSCALE:GREGORIAN
METHOD:PUBLISH
X-WR-CALNAME:Web Ayuntamiento de Alpedrete
X-ORIGINAL-URL:https://preproduccion.alpedrete.es
X-WR-CALDESC:Eventos para Web Ayuntamiento de Alpedrete
REFRESH-INTERVAL;VALUE=DURATION:PT1H
X-Robots-Tag:noindex
X-PUBLISHED-TTL:PT1H
BEGIN:VTIMEZONE
TZID:Europe/Madrid
BEGIN:DAYLIGHT
TZOFFSETFROM:+0100
TZOFFSETTO:+0200
TZNAME:CEST
DTSTART:20190331T010000
END:DAYLIGHT
BEGIN:STANDARD
TZOFFSETFROM:+0200
TZOFFSETTO:+0100
TZNAME:CET
DTSTART:20191027T010000
END:STANDARD
END:VTIMEZONE
BEGIN:VEVENT
DTSTART;TZID=Europe/Madrid:20190401T090000
DTEND;TZID=Europe/Madrid:20190401T100000
DTSTAMP:20260425T143258
CREATED:20190328T093547Z
LAST-MODIFIED:20190328T093547Z
UID:25770-1554109200-1554112800@preproduccion.alpedrete.es
SUMMARY:Pleno extraordinario
DESCRIPTION:El lunes 1 de abril se convoca sesión extraordinaria del pleno del Ayuntamiento de Alpedrete a las 09:00 de la mañana en la Casa de Cultura Asunción Balaguer. El único punto en el orden del día es el sorteo de los miembros de las mesas electorales para la convocatoria de elecciones generales del 28 de abril de 2019. \n\n	Decreto de convocatoria Pleno Extraoridnario 1 de abril de 2019.pdf
URL:https://preproduccion.alpedrete.es/evento/pleno-extraordinario-5/
LOCATION:Casa de Cultura Asunción Balaguer\, Plaza de Francisco Rabal\, Alpedrete\, Madrid\, 28430\, España
CATEGORIES:Pleno
ATTACH;FMTTYPE=image/jpeg:https://preproduccion.alpedrete.es/wp-content/uploads/2019/03/Sin-título-1-3.jpg
GEO:40.65755;-4.02389
X-APPLE-STRUCTURED-LOCATION;VALUE=URI;X-ADDRESS=Casa de Cultura Asunción Balaguer Plaza de Francisco Rabal Alpedrete Madrid 28430 España;X-APPLE-RADIUS=500;X-TITLE=Plaza de Francisco Rabal:geo:-4.02389,40.65755
END:VEVENT
BEGIN:VEVENT
DTSTART;TZID=Europe/Madrid:20190430T090000
DTEND;TZID=Europe/Madrid:20190430T100000
DTSTAMP:20260425T143258
CREATED:20190425T160623Z
LAST-MODIFIED:20190425T160623Z
UID:26124-1556614800-1556618400@preproduccion.alpedrete.es
SUMMARY:Pleno extraordinario
DESCRIPTION:El martes 30 de abril se celebrará la sesión extraordinaria del Pleno Municipal para el sorteo de la composición de las mesas electorales de las elecciones municipales\, autonómicas y europeas que se celebrarán el próximo 26 de mayo de 2019. \nLa sesión de pleno comenzará a las 09:00 de la mañana en el salón de actos de la Casa de Cultura Asunción Balaguer. \nDecreto convocatoria extraordinaria del Pleno
URL:https://preproduccion.alpedrete.es/evento/pleno-extraordinario-6/
LOCATION:Casa de Cultura Asunción Balaguer\, Plaza Francisco Rabal\, 2\, Alpedrete\, Madrid\, 28430 \, España
CATEGORIES:Pleno
ATTACH;FMTTYPE=image/jpeg:https://preproduccion.alpedrete.es/wp-content/uploads/2016/05/Urna.jpg
GEO:40.6621635;-4.031169
X-APPLE-STRUCTURED-LOCATION;VALUE=URI;X-ADDRESS=Casa de Cultura Asunción Balaguer Plaza Francisco Rabal 2 Alpedrete Madrid 28430  España;X-APPLE-RADIUS=500;X-TITLE=Plaza Francisco Rabal\, 2:geo:-4.031169,40.6621635
END:VEVENT
END:VCALENDAR