BEGIN:VCALENDAR
VERSION:2.0
PRODID:-//Web Ayuntamiento de Alpedrete - ECPv6.9.0//NONSGML v1.0//EN
CALSCALE:GREGORIAN
METHOD:PUBLISH
X-ORIGINAL-URL:https://preproduccion.alpedrete.es
X-WR-CALDESC:Eventos para Web Ayuntamiento de Alpedrete
REFRESH-INTERVAL;VALUE=DURATION:PT1H
X-Robots-Tag:noindex
X-PUBLISHED-TTL:PT1H
BEGIN:VTIMEZONE
TZID:Europe/Madrid
BEGIN:DAYLIGHT
TZOFFSETFROM:+0100
TZOFFSETTO:+0200
TZNAME:CEST
DTSTART:20190331T010000
END:DAYLIGHT
BEGIN:STANDARD
TZOFFSETFROM:+0200
TZOFFSETTO:+0100
TZNAME:CET
DTSTART:20191027T010000
END:STANDARD
END:VTIMEZONE
BEGIN:VEVENT
DTSTART;TZID=Europe/Madrid:20190209T180000
DTEND;TZID=Europe/Madrid:20190209T190000
DTSTAMP:20260423T124644
CREATED:20190128T144607Z
LAST-MODIFIED:20190128T145112Z
UID:24827-1549735200-1549738800@preproduccion.alpedrete.es
SUMMARY:"Entre dos abrazos". Teatro
DESCRIPTION:Ni las desventuras que viven en su residencia José y Emilio\, ni el tiempo\, conseguirán borrar el espíritu y la esencia aventurera de estos dos ancianos gruñones. Un día Nieves\, la directora de la residencia\, se atreve a jugar sucio con ellos. Ella aún no sabe bien a quienes está retando\, pero pronto lo descubrirá. Un espectáculo que muestra la relación que hay entre la vejez y la más absoluta infancia. Contado desde el punto de vista de dos payasos. \nCompañía «Fuera de Lugar». Duración: 60 min. Para todos los públicos. Precio: 6€ entrada general y 3€ entrada reducida. Reserva anticipada de entradas desde el lunes 4 de febrero en la Casa de Cultura Asunción Balaguer o en el 918571590
URL:https://preproduccion.alpedrete.es/evento/entre-dos-abrazos-teatro/
LOCATION:Casa de Cultura Asunción Balaguer\, Plaza Francisco Rabal\, 2\, Alpedrete\, Madrid\, 28430 \, España
CATEGORIES:Teatro
ATTACH;FMTTYPE=image/jpeg:https://preproduccion.alpedrete.es/wp-content/uploads/2019/01/entre-dos-abrazos.jpg
GEO:40.6621635;-4.031169
X-APPLE-STRUCTURED-LOCATION;VALUE=URI;X-ADDRESS=Casa de Cultura Asunción Balaguer Plaza Francisco Rabal 2 Alpedrete Madrid 28430  España;X-APPLE-RADIUS=500;X-TITLE=Plaza Francisco Rabal\, 2:geo:-4.031169,40.6621635
END:VEVENT
END:VCALENDAR