BEGIN:VCALENDAR
VERSION:2.0
PRODID:-//Web Ayuntamiento de Alpedrete - ECPv6.9.0//NONSGML v1.0//EN
CALSCALE:GREGORIAN
METHOD:PUBLISH
X-WR-CALNAME:Web Ayuntamiento de Alpedrete
X-ORIGINAL-URL:https://preproduccion.alpedrete.es
X-WR-CALDESC:Eventos para Web Ayuntamiento de Alpedrete
REFRESH-INTERVAL;VALUE=DURATION:PT1H
X-Robots-Tag:noindex
X-PUBLISHED-TTL:PT1H
BEGIN:VTIMEZONE
TZID:Europe/Madrid
BEGIN:DAYLIGHT
TZOFFSETFROM:+0100
TZOFFSETTO:+0200
TZNAME:CEST
DTSTART:20190331T010000
END:DAYLIGHT
BEGIN:STANDARD
TZOFFSETFROM:+0200
TZOFFSETTO:+0100
TZNAME:CET
DTSTART:20191027T010000
END:STANDARD
END:VTIMEZONE
BEGIN:VEVENT
DTSTART;TZID=Europe/Madrid:20190720T220000
DTEND;TZID=Europe/Madrid:20190720T233000
DTSTAMP:20260421T070018
CREATED:20190622T091009Z
LAST-MODIFIED:20190622T091009Z
UID:27039-1563660000-1563665400@preproduccion.alpedrete.es
SUMMARY:"Un selfie con Melibea". Teatro bajo las estrellas
DESCRIPTION:Adaptación de La Celestina de Fernando de Rojas. \nSara\, una joven de unos 30 años\, lee ensimismada en el diván de su salón “La Celestina”\, de pronto vencida por la noche se  queda dormida y se adentra en un sueño. Su primera sorpresa llega cuando está hablando con Melibea\, pues resulta que está viviendo la aventura dentro del cuerpo de  Calisto.  Esta adaptación pretende\, con un muy marcado carácter cómico\, contar la historia de amor entre Calisto y Melibea\, remarcando la muy presente crítica a la desigualdad de género que dejó escrita Fernando de Rojas con este texto\, así como poner en mayúsculas la aparición del\, probablemente\, primer personaje de la literatura española que reclama el derecho de la mujer a tomar sus propias decisiones\, Melibea. \n \n  \n 
URL:https://preproduccion.alpedrete.es/evento/un-selfie-con-melibea-teatro-bajo-las-estrellas/
LOCATION:Plaza de Francisco Rabal\, Plaza de Francisco Rabal s/n\, Alpedrete\, Madrid\, 28430\, España
CATEGORIES:Teatro
ATTACH;FMTTYPE=image/jpeg:https://preproduccion.alpedrete.es/wp-content/uploads/2019/06/un-selfie-con-melibea.jpg
GEO:40.6621635;-4.031169
X-APPLE-STRUCTURED-LOCATION;VALUE=URI;X-ADDRESS=Plaza de Francisco Rabal Plaza de Francisco Rabal s/n Alpedrete Madrid 28430 España;X-APPLE-RADIUS=500;X-TITLE=Plaza de Francisco Rabal s/n:geo:-4.031169,40.6621635
END:VEVENT
END:VCALENDAR