BEGIN:VCALENDAR
VERSION:2.0
PRODID:-//Web Ayuntamiento de Alpedrete - ECPv6.9.0//NONSGML v1.0//EN
CALSCALE:GREGORIAN
METHOD:PUBLISH
X-ORIGINAL-URL:https://preproduccion.alpedrete.es
X-WR-CALDESC:Eventos para Web Ayuntamiento de Alpedrete
REFRESH-INTERVAL;VALUE=DURATION:PT1H
X-Robots-Tag:noindex
X-PUBLISHED-TTL:PT1H
BEGIN:VTIMEZONE
TZID:Europe/Madrid
BEGIN:DAYLIGHT
TZOFFSETFROM:+0100
TZOFFSETTO:+0200
TZNAME:CEST
DTSTART:20190331T010000
END:DAYLIGHT
BEGIN:STANDARD
TZOFFSETFROM:+0200
TZOFFSETTO:+0100
TZNAME:CET
DTSTART:20191027T010000
END:STANDARD
END:VTIMEZONE
BEGIN:VEVENT
DTSTART;TZID=Europe/Madrid:20191005T190000
DTEND;TZID=Europe/Madrid:20191005T203000
DTSTAMP:20260419T175706
CREATED:20191004T114444Z
LAST-MODIFIED:20191004T114444Z
UID:27914-1570302000-1570307400@preproduccion.alpedrete.es
SUMMARY:La cuenta\, por favor
DESCRIPTION:La compañía Coripol nos trae esta comedia de ritmo trepidante\, plagada de gags que no dan al espectador tiempo a reaccionar. La carcajada o la sonrisa están aseguradas\, una serie de citas a ciegas con diferentes personajes en un restaurante dan pie a esta disparata comedia en la que chico intenta conocer a chica y chica intenta conocer a chico. El original en inglés “Check\, Please” ha sido la obra más representada cada temporada en el circuito teatral universitario de EEUU desde que se escribió en 2003. \nPúblico adulto. Precio: 6€ entrada general\, 3€ entrada reducida. Reserva anticipada de entradas desde el lunes anterior a cada representación en el 918571590 y en la Casa de Cultura Asunción Balaguer. \n«La cuenta\, por favor»- trailer \n \n 
URL:https://preproduccion.alpedrete.es/evento/la-cuenta-por-favor/
LOCATION:Casa de Cultura Asunción Balaguer\, Plaza Francisco Rabal\, 2\, Alpedrete\, Madrid\, 28430 \, España
CATEGORIES:Teatro
ATTACH;FMTTYPE=image/jpeg:https://preproduccion.alpedrete.es/wp-content/uploads/2019/10/la-cuenta-por-favor.jpg
GEO:40.6621635;-4.031169
X-APPLE-STRUCTURED-LOCATION;VALUE=URI;X-ADDRESS=Casa de Cultura Asunción Balaguer Plaza Francisco Rabal 2 Alpedrete Madrid 28430  España;X-APPLE-RADIUS=500;X-TITLE=Plaza Francisco Rabal\, 2:geo:-4.031169,40.6621635
END:VEVENT
END:VCALENDAR