BEGIN:VCALENDAR
VERSION:2.0
PRODID:-//Web Ayuntamiento de Alpedrete - ECPv6.9.0//NONSGML v1.0//EN
CALSCALE:GREGORIAN
METHOD:PUBLISH
X-ORIGINAL-URL:https://preproduccion.alpedrete.es
X-WR-CALDESC:Eventos para Web Ayuntamiento de Alpedrete
REFRESH-INTERVAL;VALUE=DURATION:PT1H
X-Robots-Tag:noindex
X-PUBLISHED-TTL:PT1H
BEGIN:VTIMEZONE
TZID:Europe/Madrid
BEGIN:DAYLIGHT
TZOFFSETFROM:+0100
TZOFFSETTO:+0200
TZNAME:CEST
DTSTART:20180325T010000
END:DAYLIGHT
BEGIN:STANDARD
TZOFFSETFROM:+0200
TZOFFSETTO:+0100
TZNAME:CET
DTSTART:20181028T010000
END:STANDARD
END:VTIMEZONE
BEGIN:VEVENT
DTSTART;TZID=Europe/Madrid:20180419T080000
DTEND;TZID=Europe/Madrid:20180419T170000
DTSTAMP:20260422T031006
CREATED:20180419T123455Z
LAST-MODIFIED:20180419T123455Z
UID:20564-1524124800-1524157200@preproduccion.alpedrete.es
SUMMARY:Títeres "La Cabrita Dulcinea"
DESCRIPTION:“La Cabrita Dulcinea” es un cuento basado en el reato de I. Basevis Singer (premio Nobel de literatura)\, de su colección de cuentos de la tradición yiddish. El ambiente de la granja\, donde los animales y los humanos se interrelacionan con armonía y afecto. A cargo de Okarino Trapisonda. \nEvento programado dentro de la Semana Cultural 2018. Plaza de Francisco Rabal 12:00 h\, asistencia libre.
URL:https://preproduccion.alpedrete.es/evento/titeres-la-cabrita-dulcinea/
LOCATION:Plaza de Francisco Rabal\, Plaza de Francisco Rabal s/n\, Alpedrete\, Madrid\, 28430\, España
CATEGORIES:Cultura
ATTACH;FMTTYPE=image/jpeg:https://preproduccion.alpedrete.es/wp-content/uploads/2018/04/la-cabrita-dulcinea.jpg
GEO:40.6621635;-4.031169
X-APPLE-STRUCTURED-LOCATION;VALUE=URI;X-ADDRESS=Plaza de Francisco Rabal Plaza de Francisco Rabal s/n Alpedrete Madrid 28430 España;X-APPLE-RADIUS=500;X-TITLE=Plaza de Francisco Rabal s/n:geo:-4.031169,40.6621635
END:VEVENT
END:VCALENDAR