BEGIN:VCALENDAR
VERSION:2.0
PRODID:-//Web Ayuntamiento de Alpedrete - ECPv6.9.0//NONSGML v1.0//EN
CALSCALE:GREGORIAN
METHOD:PUBLISH
X-WR-CALNAME:Web Ayuntamiento de Alpedrete
X-ORIGINAL-URL:https://preproduccion.alpedrete.es
X-WR-CALDESC:Eventos para Web Ayuntamiento de Alpedrete
REFRESH-INTERVAL;VALUE=DURATION:PT1H
X-Robots-Tag:noindex
X-PUBLISHED-TTL:PT1H
BEGIN:VTIMEZONE
TZID:Europe/Madrid
BEGIN:DAYLIGHT
TZOFFSETFROM:+0100
TZOFFSETTO:+0200
TZNAME:CEST
DTSTART:20190331T010000
END:DAYLIGHT
BEGIN:STANDARD
TZOFFSETFROM:+0200
TZOFFSETTO:+0100
TZNAME:CET
DTSTART:20191027T010000
END:STANDARD
END:VTIMEZONE
BEGIN:VEVENT
DTSTART;TZID=Europe/Madrid:20190520T173000
DTEND;TZID=Europe/Madrid:20190520T210000
DTSTAMP:20260426T060810
CREATED:20190517T150231Z
LAST-MODIFIED:20190517T150231Z
UID:26503-1558373400-1558386000@preproduccion.alpedrete.es
SUMMARY:Bodycombat y Zumba para tod@s
DESCRIPTION:EXHIBICIÓN DE COMBAT. Plaza de la Villa\, 17:30 h. Con los profesores de la Ciudad Deportiva Municipal: Álvaro Morón y Emma de Marcos.\nZUMBA PARA TOD@S. Plaza de la Villa\, 21:00 h. Con los profesores de la Ciudad Deportiva Municipal: Daniel Salvador y Miriam Toledo
URL:https://preproduccion.alpedrete.es/evento/bodycombat-y-zumba-para-tods/
LOCATION:Plaza de la Villa\, Plaza de la Villa\, Alpedrete\, Madrid\, 28430  \, España
CATEGORIES:Fiestas patronales
ATTACH;FMTTYPE=image/jpeg:https://preproduccion.alpedrete.es/wp-content/uploads/2019/05/MC6.jpg
GEO:40.6589274;-4.0239866
X-APPLE-STRUCTURED-LOCATION;VALUE=URI;X-ADDRESS=Plaza de la Villa Plaza de la Villa Alpedrete Madrid 28430   España;X-APPLE-RADIUS=500;X-TITLE=Plaza de la Villa:geo:-4.0239866,40.6589274
END:VEVENT
END:VCALENDAR