BEGIN:VCALENDAR
VERSION:2.0
PRODID:-//Web Ayuntamiento de Alpedrete - ECPv6.9.0//NONSGML v1.0//EN
CALSCALE:GREGORIAN
METHOD:PUBLISH
X-ORIGINAL-URL:https://preproduccion.alpedrete.es
X-WR-CALDESC:Eventos para Web Ayuntamiento de Alpedrete
REFRESH-INTERVAL;VALUE=DURATION:PT1H
X-Robots-Tag:noindex
X-PUBLISHED-TTL:PT1H
BEGIN:VTIMEZONE
TZID:Europe/Madrid
BEGIN:DAYLIGHT
TZOFFSETFROM:+0100
TZOFFSETTO:+0200
TZNAME:CEST
DTSTART:20190331T010000
END:DAYLIGHT
BEGIN:STANDARD
TZOFFSETFROM:+0200
TZOFFSETTO:+0100
TZNAME:CET
DTSTART:20191027T010000
END:STANDARD
END:VTIMEZONE
BEGIN:VEVENT
DTSTART;VALUE=DATE:20190507
DTEND;VALUE=DATE:20190601
DTSTAMP:20260424T022649
CREATED:20190430T140007Z
LAST-MODIFIED:20190430T140007Z
UID:26210-1557187200-1559347199@preproduccion.alpedrete.es
SUMMARY:Historia de un cartel
DESCRIPTION:“Historia de un cartel” es el nombre de la muestra que se expondrá del 7 al 31 de mayo en la Casa de Cultura Asunción Balaguer. Esta exposición muestra una treintena de los carteles diseñados en los últimos años para difundir eventos programados y realizados por el Ayuntamiento de Alpedrete. \n“Historia de un cartel” nace con la pretensión de mostrar la evolución de una de las herramientas empleadas por el Ayuntamiento de Alpedrete en la difusión de las actividades públicas. Un cartel tiene vida. El primero marcó el camino que el resto de eventos e historias recorrieron de forma coherente en tipografía\, bosquejos y gamas de color. \nEl primer cartel destacó el Día Internacional de la Mujer de 2017\, el último es el referido a las Fiestas patronales de Santa Quiteria 2019. Entre uno y otro\, la cartelería municipal ha mostrado asuntos culturales\, medioambientales\, de juventud\, navidades\, ferias\, de participación ciudadana\, carnaval o conciertos.
URL:https://preproduccion.alpedrete.es/evento/historia-de-un-cartel/
LOCATION:Casa de Cultura Asunción Balaguer\, Plaza Francisco Rabal\, 2\, Alpedrete\, Madrid\, 28430 \, España
CATEGORIES:Exposición
ATTACH;FMTTYPE=image/jpeg:https://preproduccion.alpedrete.es/wp-content/uploads/2019/04/ALPEDRETEEXPOCARTEL19-cabecera600x400.jpg
GEO:40.6621635;-4.031169
X-APPLE-STRUCTURED-LOCATION;VALUE=URI;X-ADDRESS=Casa de Cultura Asunción Balaguer Plaza Francisco Rabal 2 Alpedrete Madrid 28430  España;X-APPLE-RADIUS=500;X-TITLE=Plaza Francisco Rabal\, 2:geo:-4.031169,40.6621635
END:VEVENT
BEGIN:VEVENT
DTSTART;VALUE=DATE:20190517
DTEND;VALUE=DATE:20190520
DTSTAMP:20260424T022649
CREATED:20190430T153642Z
LAST-MODIFIED:20190430T153642Z
UID:26233-1558051200-1558310399@preproduccion.alpedrete.es
SUMMARY:I Torneo de Padel Santa Quiteria
DESCRIPTION:Con motivo de las fiestas de Santa Quiteria\, se va a celebrar el I Torneo de Padel en honor de nuestra Patrona. El evento tendrá lugar del 17 al 19 de mayo\, en la Ciudad Deportiva Municipal de Alpedrete. Las inscripciones son gratuitas y se pueden realizar del 3 al 14 de mayo en recepción. \nLa normativa y reglamento del torneo (niveles\, sistema de juego\, premios) se pueden consultar en el mismo lugar de la inscripción. Habrá una categoría absoluta libre que podrá ser mixta\, masculina o femenina\, cuadro de honor y consolación. \n \n 
URL:https://preproduccion.alpedrete.es/evento/i-torneo-de-padel-santa-quiteria/
LOCATION:Alpedrete\, Madrid\, 28430\, España
CATEGORIES:Deportes,Fiestas patronales
ATTACH;FMTTYPE=image/jpeg:https://preproduccion.alpedrete.es/wp-content/uploads/2019/04/togo-paddle-1042864_640.jpg
END:VEVENT
BEGIN:VEVENT
DTSTART;TZID=Europe/Madrid:20190518T230000
DTEND;TZID=Europe/Madrid:20190519T030000
DTSTAMP:20260424T022649
CREATED:20190517T122340Z
LAST-MODIFIED:20190517T122340Z
UID:26468-1558220400-1558234800@preproduccion.alpedrete.es
SUMMARY:Orquesta Mandrágora y DJ
DESCRIPTION:Orquesta “Mandrágora” Plaza de la Villa\, 23:00 h. \, 23:00-03:00 h. DJ 03:00-06:00 h.
URL:https://preproduccion.alpedrete.es/evento/orquesta-mandragora-y-dj/
LOCATION:Plaza de la Villa\, Plaza de la Villa\, Alpedrete\, Madrid\, 28430  \, España
CATEGORIES:Fiestas patronales
ATTACH;FMTTYPE=image/jpeg:https://preproduccion.alpedrete.es/wp-content/uploads/2019/05/Mandrágora.jpg
GEO:40.6589274;-4.0239866
X-APPLE-STRUCTURED-LOCATION;VALUE=URI;X-ADDRESS=Plaza de la Villa Plaza de la Villa Alpedrete Madrid 28430   España;X-APPLE-RADIUS=500;X-TITLE=Plaza de la Villa:geo:-4.0239866,40.6589274
END:VEVENT
BEGIN:VEVENT
DTSTART;TZID=Europe/Madrid:20190519T110000
DTEND;TZID=Europe/Madrid:20190519T123000
DTSTAMP:20260424T022649
CREATED:20190517T123102Z
LAST-MODIFIED:20190517T123102Z
UID:26474-1558263600-1558269000@preproduccion.alpedrete.es
SUMMARY:Encierro de las reses del concurso de recortes y suelta de vaquillas
DESCRIPTION:Recorrido desde la calle Real a la Plaza de Toros (junto a la Rotonda de El Cantero)\, 11:00 h. Reses de la ganadería de Cristina Huertas.
URL:https://preproduccion.alpedrete.es/evento/encierro-de-las-reses-del-concurso-de-recortes-y-suelta-de-vaquillas/
LOCATION:Plaza de toros\, Calle Puerta de Abajo\, 1\, Alpedrete\, España
CATEGORIES:Fiestas patronales
ATTACH;FMTTYPE=image/jpeg:https://preproduccion.alpedrete.es/wp-content/uploads/2019/05/Encierro-1.jpg
GEO:40.6605706;-4.0201414
X-APPLE-STRUCTURED-LOCATION;VALUE=URI;X-ADDRESS=Plaza de toros Calle Puerta de Abajo 1 Alpedrete España;X-APPLE-RADIUS=500;X-TITLE=Calle Puerta de Abajo\, 1:geo:-4.0201414,40.6605706
END:VEVENT
BEGIN:VEVENT
DTSTART;TZID=Europe/Madrid:20190519T120000
DTEND;TZID=Europe/Madrid:20190519T130000
DTSTAMP:20260424T022649
CREATED:20190517T122642Z
LAST-MODIFIED:20190517T122642Z
UID:26471-1558267200-1558270800@preproduccion.alpedrete.es
SUMMARY:Encuentro de bandas
DESCRIPTION:Plaza de la Villa\, 12:00 h.Banda de la Escuela Municipal de Música y Danza de Alpedrete\, dirigida por Miguel Ángel Moreno\, y como invitada la Asociación Cultural Banda de Música de El Espinar\, dirigida por Ignacio Rincón.
URL:https://preproduccion.alpedrete.es/evento/encuentro-de-bandas-2/
LOCATION:Plaza de la Villa\, Plaza de la Villa\, Alpedrete\, Madrid\, 28430  \, España
CATEGORIES:Fiestas patronales
ATTACH;FMTTYPE=image/jpeg:https://preproduccion.alpedrete.es/wp-content/uploads/2019/05/Encuentro-de-bandas-2.jpg
GEO:40.6589274;-4.0239866
X-APPLE-STRUCTURED-LOCATION;VALUE=URI;X-ADDRESS=Plaza de la Villa Plaza de la Villa Alpedrete Madrid 28430   España;X-APPLE-RADIUS=500;X-TITLE=Plaza de la Villa:geo:-4.0239866,40.6589274
END:VEVENT
BEGIN:VEVENT
DTSTART;TZID=Europe/Madrid:20190519T130000
DTEND;TZID=Europe/Madrid:20190519T140000
DTSTAMP:20260424T022649
CREATED:20190517T131229Z
LAST-MODIFIED:20190517T144037Z
UID:26479-1558270800-1558274400@preproduccion.alpedrete.es
SUMMARY:Encierro infantil con gigantes y cabezudos
DESCRIPTION:Calle Collado Mediano esquina calle Real\, 13:00 h.
URL:https://preproduccion.alpedrete.es/evento/encierro-infantil-con-gigantes-y-cabezudos/
LOCATION:Alpedrete\, Alpedrete\, Madrid\, 28430\, España
CATEGORIES:Fiestas patronales
ATTACH;FMTTYPE=image/jpeg:https://preproduccion.alpedrete.es/wp-content/uploads/2019/05/Encierro-infantil-2.jpg
END:VEVENT
BEGIN:VEVENT
DTSTART;TZID=Europe/Madrid:20190519T140000
DTEND;TZID=Europe/Madrid:20190519T143000
DTSTAMP:20260424T022649
CREATED:20190517T131632Z
LAST-MODIFIED:20190517T131632Z
UID:26482-1558274400-1558276200@preproduccion.alpedrete.es
SUMMARY:Mascletá
DESCRIPTION:Parque Primero\, plaza de la Constitución\, 14:00 h.
URL:https://preproduccion.alpedrete.es/evento/mascleta-2/
LOCATION:Plaza de la Constitución\, Alpedrete\, Madrid\, 28430\, España
CATEGORIES:Fiestas patronales
ATTACH;FMTTYPE=image/jpeg:https://preproduccion.alpedrete.es/wp-content/uploads/2019/05/Mascletá-1.jpg
END:VEVENT
BEGIN:VEVENT
DTSTART;TZID=Europe/Madrid:20190519T183000
DTEND;TZID=Europe/Madrid:20190519T203000
DTSTAMP:20260424T022649
CREATED:20190514T132026Z
LAST-MODIFIED:20190514T132026Z
UID:26407-1558290600-1558297800@preproduccion.alpedrete.es
SUMMARY:Concurso de Recortadores Goyesco
DESCRIPTION:Domingo 19 de mayo a las 18:30 h\, con motivo de las fiestas patronales de Santa Quiteria. Las localidades se pueden adquirir en Mesón El Cabrero\, (calle San Juan\, 10. Alpedrete) y en el Centro de Mayores Los Canteros.
URL:https://preproduccion.alpedrete.es/evento/concurso-de-recortadores-goyesco/
LOCATION:Alpedrete\, Alpedrete\, Madrid\, 28430\, España
CATEGORIES:Fiestas patronales
ATTACH;FMTTYPE=image/jpeg:https://preproduccion.alpedrete.es/wp-content/uploads/2019/05/recortes.jpg
END:VEVENT
BEGIN:VEVENT
DTSTART;TZID=Europe/Madrid:20190519T230000
DTEND;TZID=Europe/Madrid:20190520T010000
DTSTAMP:20260424T022649
CREATED:20190517T132116Z
LAST-MODIFIED:20190517T132116Z
UID:26485-1558306800-1558314000@preproduccion.alpedrete.es
SUMMARY:Concierto "Grupo de Jaleo" y DJ
DESCRIPTION:Plaza de la Villa\, 23:00. Grupo De Jaleo\, 23:00-01:00 h. DJ Pail Marín\, 01:00-05:00 h.
URL:https://preproduccion.alpedrete.es/evento/concierto-grupo-de-jaleo-y-dj/
LOCATION:Plaza de la Villa\, Plaza de la Villa\, Alpedrete\, 28430 \, España
CATEGORIES:Fiestas patronales
ATTACH;FMTTYPE=image/jpeg:https://preproduccion.alpedrete.es/wp-content/uploads/2016/05/concert-1149979_640.jpg
GEO:40.6589274;-4.0239866
X-APPLE-STRUCTURED-LOCATION;VALUE=URI;X-ADDRESS=Plaza de la Villa Plaza de la Villa Alpedrete 28430  España;X-APPLE-RADIUS=500;X-TITLE=Plaza de la Villa:geo:-4.0239866,40.6589274
END:VEVENT
BEGIN:VEVENT
DTSTART;TZID=Europe/Madrid:20190520T110000
DTEND;TZID=Europe/Madrid:20190520T120000
DTSTAMP:20260424T022649
CREATED:20190517T144111Z
LAST-MODIFIED:20190517T144111Z
UID:26487-1558350000-1558353600@preproduccion.alpedrete.es
SUMMARY:Encierro infantil con gigantes y cabezudos
DESCRIPTION:Calle Collado Mediano esquina calle Real\, 11:00 h.
URL:https://preproduccion.alpedrete.es/evento/encierro-infantil-con-gigantes-y-cabezudos-2/
LOCATION:Alpedrete\, Alpedrete\, Madrid\, 28430\, España
CATEGORIES:Fiestas patronales
ATTACH;FMTTYPE=image/jpeg:https://preproduccion.alpedrete.es/wp-content/uploads/2019/05/Encierro-infantil-1.jpg
END:VEVENT
BEGIN:VEVENT
DTSTART;TZID=Europe/Madrid:20190520T113000
DTEND;TZID=Europe/Madrid:20190520T143000
DTSTAMP:20260424T022649
CREATED:20190517T144340Z
LAST-MODIFIED:20190517T144340Z
UID:26490-1558351800-1558362600@preproduccion.alpedrete.es
SUMMARY:Fiesta de la espuma e hinchables
DESCRIPTION:
URL:https://preproduccion.alpedrete.es/evento/fiesta-de-la-espuma-e-hinchables/
LOCATION:Plaza de Francisco Rabal\, Plaza de Francisco Rabal s/n\, Alpedrete\, Madrid\, 28430\, España
CATEGORIES:Fiestas patronales
ATTACH;FMTTYPE=image/jpeg:https://preproduccion.alpedrete.es/wp-content/uploads/2019/05/Fiesta-de-la-espuma-2.jpg
GEO:40.6621635;-4.031169
X-APPLE-STRUCTURED-LOCATION;VALUE=URI;X-ADDRESS=Plaza de Francisco Rabal Plaza de Francisco Rabal s/n Alpedrete Madrid 28430 España;X-APPLE-RADIUS=500;X-TITLE=Plaza de Francisco Rabal s/n:geo:-4.031169,40.6621635
END:VEVENT
BEGIN:VEVENT
DTSTART;TZID=Europe/Madrid:20190520T120000
DTEND;TZID=Europe/Madrid:20190520T130000
DTSTAMP:20260424T022649
CREATED:20190517T144610Z
LAST-MODIFIED:20190517T144610Z
UID:26493-1558353600-1558357200@preproduccion.alpedrete.es
SUMMARY:Exhibición de Pump Track
DESCRIPTION:Circuito en el Parque de El Peralejo\, 12:00 h.
URL:https://preproduccion.alpedrete.es/evento/exhibicion-de-pump-track/
LOCATION:Parque de El Peralejo
CATEGORIES:Fiestas patronales
ATTACH;FMTTYPE=image/jpeg:https://preproduccion.alpedrete.es/wp-content/uploads/2019/05/Puntrack-2.jpg
END:VEVENT
BEGIN:VEVENT
DTSTART;TZID=Europe/Madrid:20190520T140000
DTEND;TZID=Europe/Madrid:20190520T153000
DTSTAMP:20260424T022649
CREATED:20190517T144829Z
LAST-MODIFIED:20190517T144829Z
UID:26496-1558360800-1558366200@preproduccion.alpedrete.es
SUMMARY:Caldereta popular
DESCRIPTION:Plaza de la Villa\, 14:00 h. La caldereta se cocinará con la carne del ganado del concurso de recortes.
URL:https://preproduccion.alpedrete.es/evento/caldereta-popular/
LOCATION:Plaza de la Villa\, Plaza de la Villa\, Alpedrete\, 28430 \, España
CATEGORIES:Fiestas patronales
ATTACH;FMTTYPE=image/jpeg:https://preproduccion.alpedrete.es/wp-content/uploads/2019/05/Comida-popular-1.jpg
GEO:40.6589274;-4.0239866
X-APPLE-STRUCTURED-LOCATION;VALUE=URI;X-ADDRESS=Plaza de la Villa Plaza de la Villa Alpedrete 28430  España;X-APPLE-RADIUS=500;X-TITLE=Plaza de la Villa:geo:-4.0239866,40.6589274
END:VEVENT
BEGIN:VEVENT
DTSTART;TZID=Europe/Madrid:20190520T170000
DTEND;TZID=Europe/Madrid:20190520T190000
DTSTAMP:20260424T022649
CREATED:20190517T145328Z
LAST-MODIFIED:20190517T145328Z
UID:26499-1558371600-1558378800@preproduccion.alpedrete.es
SUMMARY:Torneo de mus
DESCRIPTION:Centro de mayores Los Canteros (plaza de la Constitución)\, 17:00 h. Información e inscripciones en el Centro de Mayores Los Canteros de Alpedrete.
URL:https://preproduccion.alpedrete.es/evento/torneo-de-mus-2/
LOCATION:Centro de Mayores Los Canteros de Alpedrete\, Plaza de la Constitución\, s/n\, Alpedrete\, España
CATEGORIES:Fiestas patronales
ATTACH;FMTTYPE=image/jpeg:https://preproduccion.alpedrete.es/wp-content/uploads/2019/05/mus2.jpg
GEO:40.6602075;-4.0254104
X-APPLE-STRUCTURED-LOCATION;VALUE=URI;X-ADDRESS=Centro de Mayores Los Canteros de Alpedrete Plaza de la Constitución s/n Alpedrete España;X-APPLE-RADIUS=500;X-TITLE=Plaza de la Constitución\, s/n:geo:-4.0254104,40.6602075
END:VEVENT
BEGIN:VEVENT
DTSTART;TZID=Europe/Madrid:20190520T173000
DTEND;TZID=Europe/Madrid:20190520T210000
DTSTAMP:20260424T022649
CREATED:20190517T150231Z
LAST-MODIFIED:20190517T150231Z
UID:26503-1558373400-1558386000@preproduccion.alpedrete.es
SUMMARY:Bodycombat y Zumba para tod@s
DESCRIPTION:EXHIBICIÓN DE COMBAT. Plaza de la Villa\, 17:30 h. Con los profesores de la Ciudad Deportiva Municipal: Álvaro Morón y Emma de Marcos.\nZUMBA PARA TOD@S. Plaza de la Villa\, 21:00 h. Con los profesores de la Ciudad Deportiva Municipal: Daniel Salvador y Miriam Toledo
URL:https://preproduccion.alpedrete.es/evento/bodycombat-y-zumba-para-tods/
LOCATION:Plaza de la Villa\, Plaza de la Villa\, Alpedrete\, Madrid\, 28430  \, España
CATEGORIES:Fiestas patronales
ATTACH;FMTTYPE=image/jpeg:https://preproduccion.alpedrete.es/wp-content/uploads/2019/05/MC6.jpg
GEO:40.6589274;-4.0239866
X-APPLE-STRUCTURED-LOCATION;VALUE=URI;X-ADDRESS=Plaza de la Villa Plaza de la Villa Alpedrete Madrid 28430   España;X-APPLE-RADIUS=500;X-TITLE=Plaza de la Villa:geo:-4.0239866,40.6589274
END:VEVENT
BEGIN:VEVENT
DTSTART;TZID=Europe/Madrid:20190520T183000
DTEND;TZID=Europe/Madrid:20190520T193000
DTSTAMP:20260424T022649
CREATED:20190514T130455Z
LAST-MODIFIED:20190514T130835Z
UID:26392-1558377000-1558380600@preproduccion.alpedrete.es
SUMMARY:Humor amarillo
DESCRIPTION:El Centro de Juventud de Alpedrete ha comenzado a recoger las inscripciones de las personas y equipos que quieran participar en la actividad de humor amarillo que se celebrará durante las fiestas patronales en honor de Santa Quiteria 2019. \nHumor amarillo se celebrará el lunes 20 de mayo a las 18:30 de la tarde en la plaza de toros instalada junto a la rotonda de El Cantero. Las inscripciones se tienen que realizar en el Centro de Juventud\, en la calle Félix Díaz nº3\, antes del día 17 de mayo\, en horario de lunes a viernes de 17:00 a 20:00 horas. La edad mínima para participar es de 16 años (nacidos en 2003). Se darán cita en el ruedo entre 4 y 6 equipos\, de 4 y 6 personas cada uno (siempre par). En caso de haber más grupos inscritos\, se realizará un sorteo o prueba eliminatoria. (Consultar las bases y fichas de inscripción en el documento adjunto). \n\n Normas e información humor amarillo 2019
URL:https://preproduccion.alpedrete.es/evento/humor-amarillo/
LOCATION:Alpedrete\, Alpedrete\, Madrid\, 28430\, España
CATEGORIES:Fiestas patronales
ATTACH;FMTTYPE=image/jpeg:https://preproduccion.alpedrete.es/wp-content/uploads/2019/05/humor-amarillo-600x400.jpg
END:VEVENT
BEGIN:VEVENT
DTSTART;TZID=Europe/Madrid:20190521T183000
DTEND;TZID=Europe/Madrid:20190521T220000
DTSTAMP:20260424T022649
CREATED:20190517T152212Z
LAST-MODIFIED:20190521T085202Z
UID:26507-1558463400-1558476000@preproduccion.alpedrete.es
SUMMARY:Gymkhana cultural y deportiva
DESCRIPTION:GYMKANA CULTURAL Y DEPORTIVA POR EL PUEBLO. Plaza de la Villa\, 18:30-21:00 h.Entrega de premios a partir de las 21:00 h.
URL:https://preproduccion.alpedrete.es/evento/gymkhana-cultural-y-deportiva/
LOCATION:Plaza de la Villa\, Plaza de la Villa\, Alpedrete\, 28430 \, España
CATEGORIES:Fiestas patronales
ATTACH;FMTTYPE=image/jpeg:https://preproduccion.alpedrete.es/wp-content/uploads/2019/05/gymkhana-web.jpg
GEO:40.6589274;-4.0239866
X-APPLE-STRUCTURED-LOCATION;VALUE=URI;X-ADDRESS=Plaza de la Villa Plaza de la Villa Alpedrete 28430  España;X-APPLE-RADIUS=500;X-TITLE=Plaza de la Villa:geo:-4.0239866,40.6589274
END:VEVENT
BEGIN:VEVENT
DTSTART;TZID=Europe/Madrid:20190521T223000
DTEND;TZID=Europe/Madrid:20190522T013000
DTSTAMP:20260424T022649
CREATED:20190517T152547Z
LAST-MODIFIED:20190517T152547Z
UID:26510-1558477800-1558488600@preproduccion.alpedrete.es
SUMMARY:Orquesta La Misión
DESCRIPTION:Explanada de la plaza de toros (junto a la rotonda de El Cantero)\, 22:30-01:30 h. La Orquesta “La Misión” presentará en primicia su último espectáculo.
URL:https://preproduccion.alpedrete.es/evento/orquesta-la-mision-2/
LOCATION:Plaza de toros\, Calle Puerta de Abajo\, 1\, Alpedrete\, España
CATEGORIES:Fiestas patronales
ATTACH;FMTTYPE=image/jpeg:https://preproduccion.alpedrete.es/wp-content/uploads/2019/05/La-Misión-1.jpg
GEO:40.6605706;-4.0201414
X-APPLE-STRUCTURED-LOCATION;VALUE=URI;X-ADDRESS=Plaza de toros Calle Puerta de Abajo 1 Alpedrete España;X-APPLE-RADIUS=500;X-TITLE=Calle Puerta de Abajo\, 1:geo:-4.0201414,40.6605706
END:VEVENT
BEGIN:VEVENT
DTSTART;VALUE=DATE:20190522
DTEND;VALUE=DATE:20190523
DTSTAMP:20260424T022649
CREATED:20190521T081147Z
LAST-MODIFIED:20190521T081147Z
UID:26585-1558483200-1558569599@preproduccion.alpedrete.es
SUMMARY:Atracciones a un euro el día de Santa Quiteria
DESCRIPTION:Durante el miércoles 22 de mayo\, festivo en Alpedrete y día de Santa Quiteria\, las atracciones de la feria tendrán un coste de un euro por viaje durante todo el día.
URL:https://preproduccion.alpedrete.es/evento/atracciones-a-un-euro-el-dia-de-santa-quiteria/
LOCATION:Parque de El Peralejo
CATEGORIES:Fiestas patronales
ATTACH;FMTTYPE=image/jpeg:https://preproduccion.alpedrete.es/wp-content/uploads/2019/05/bumper-car-2369930_640.jpg
END:VEVENT
BEGIN:VEVENT
DTSTART;TZID=Europe/Madrid:20190522T110000
DTEND;TZID=Europe/Madrid:20190522T120000
DTSTAMP:20260424T022649
CREATED:20190517T155611Z
LAST-MODIFIED:20190517T155611Z
UID:26524-1558522800-1558526400@preproduccion.alpedrete.es
SUMMARY:IV Premios al deporte Santa Quiteria
DESCRIPTION:Plaza de la Villa\, 11:00 h.
URL:https://preproduccion.alpedrete.es/evento/iv-premios-al-deporte-santa-quiteria/
LOCATION:Plaza de la Villa\, Plaza de la Villa\, Alpedrete\, 28430 \, España
CATEGORIES:Fiestas patronales
ATTACH;FMTTYPE=image/jpeg:https://preproduccion.alpedrete.es/wp-content/uploads/2019/05/premios-al-deporte.jpg
GEO:40.6589274;-4.0239866
X-APPLE-STRUCTURED-LOCATION;VALUE=URI;X-ADDRESS=Plaza de la Villa Plaza de la Villa Alpedrete 28430  España;X-APPLE-RADIUS=500;X-TITLE=Plaza de la Villa:geo:-4.0239866,40.6589274
END:VEVENT
BEGIN:VEVENT
DTSTART;TZID=Europe/Madrid:20190522T140000
DTEND;TZID=Europe/Madrid:20190522T153000
DTSTAMP:20260424T022649
CREATED:20190517T153113Z
LAST-MODIFIED:20190517T153113Z
UID:26513-1558533600-1558539000@preproduccion.alpedrete.es
SUMMARY:Comida popular
DESCRIPTION:Plaza de la Villa\, 14:00 h.
URL:https://preproduccion.alpedrete.es/evento/comida-popular/
LOCATION:Plaza de la Villa\, Plaza de la Villa\, Alpedrete\, 28430 \, España
CATEGORIES:Fiestas patronales
ATTACH;FMTTYPE=image/jpeg:https://preproduccion.alpedrete.es/wp-content/uploads/2019/05/Comida-popular-3.jpg
GEO:40.6589274;-4.0239866
X-APPLE-STRUCTURED-LOCATION;VALUE=URI;X-ADDRESS=Plaza de la Villa Plaza de la Villa Alpedrete 28430  España;X-APPLE-RADIUS=500;X-TITLE=Plaza de la Villa:geo:-4.0239866,40.6589274
END:VEVENT
BEGIN:VEVENT
DTSTART;TZID=Europe/Madrid:20190522T170000
DTEND;TZID=Europe/Madrid:20190522T200000
DTSTAMP:20260424T022649
CREATED:20190514T130749Z
LAST-MODIFIED:20190514T130749Z
UID:26398-1558544400-1558555200@preproduccion.alpedrete.es
SUMMARY:Futbol Bubble
DESCRIPTION:El Centro de Juventud de Alpedrete ha comenzado a recoger las inscripciones de las personas y equipos que quieran participar en la actividad de  fútbol bubble que se celebrará durante las fiestas patronales en honor de Santa Quiteria 2019. \nEl partido de fútbol bubble se disputará el miércoles 22 de mayo de 17:00 a 20:00 de la tarde en el polideportivo municipal. Las inscripciones se tienen que realizar en el Centro de Juventud\, en la calle Félix Díaz nº3\, antes del día 21 de mayo\, en horario de lunes a viernes de 17:00 a 20:00 horas. La edad mínima para participar son 12 años (nacidos en 2006). Existen dos categorías: juvenil de 12 a 17 años y absoluta a partir de 18 años. Participarán equipos\, formados por 7 u 8 jugadores. En caso de haber más grupos inscritos\, se realizará un sorteo o prueba eliminatoria. (Consultar las bases y fichas de inscripción en el documento adjunto). \n\n Normas e información fútbol bubble 2019
URL:https://preproduccion.alpedrete.es/evento/futbol-bubble-2/
LOCATION:Ciudad Deportiva Municipal de Alpedrete\, C/ Campo de Fútbol s/n\, Alpedrete\, Madrid\, 28430\, España
CATEGORIES:Fiestas patronales
ATTACH;FMTTYPE=image/jpeg:https://preproduccion.alpedrete.es/wp-content/uploads/2019/05/Sin-título-1.jpg
END:VEVENT
BEGIN:VEVENT
DTSTART;TZID=Europe/Madrid:20190522T180000
DTEND;TZID=Europe/Madrid:20190522T200000
DTSTAMP:20260424T022649
CREATED:20181212T132635Z
LAST-MODIFIED:20190517T155141Z
UID:24207-1558548000-1558555200@preproduccion.alpedrete.es
SUMMARY:Bingo para los mayores
DESCRIPTION:Plaza de la Villa\, 18:00 h.
URL:https://preproduccion.alpedrete.es/evento/tarde-de-bingo-para-los-mayores/
LOCATION:Centro de Mayores Los Canteros de Alpedrete\, Plaza de la Constitución\, s/n\, Alpedrete\, España
CATEGORIES:Fiestas patronales
ATTACH;FMTTYPE=image/jpeg:https://preproduccion.alpedrete.es/wp-content/uploads/2017/12/bingo.jpg
GEO:40.6602075;-4.0254104
X-APPLE-STRUCTURED-LOCATION;VALUE=URI;X-ADDRESS=Centro de Mayores Los Canteros de Alpedrete Plaza de la Constitución s/n Alpedrete España;X-APPLE-RADIUS=500;X-TITLE=Plaza de la Constitución\, s/n:geo:-4.0254104,40.6602075
END:VEVENT
BEGIN:VEVENT
DTSTART;TZID=Europe/Madrid:20190522T203000
DTEND;TZID=Europe/Madrid:20190522T220000
DTSTAMP:20260424T022649
CREATED:20190517T154248Z
LAST-MODIFIED:20190520T103405Z
UID:26516-1558557000-1558562400@preproduccion.alpedrete.es
SUMMARY:Barbacoa fin de fiesta y entrega de premios a las peñas
DESCRIPTION:Plaza de la Villa\, 20:30 h.
URL:https://preproduccion.alpedrete.es/evento/barbacoa-fin-de-fiesta/
LOCATION:Plaza de la Villa\, Plaza de la Villa\, Alpedrete\, 28430 \, España
CATEGORIES:Fiestas patronales
ATTACH;FMTTYPE=image/jpeg:https://preproduccion.alpedrete.es/wp-content/uploads/2019/05/Comida-popular-4.jpg
GEO:40.6589274;-4.0239866
X-APPLE-STRUCTURED-LOCATION;VALUE=URI;X-ADDRESS=Plaza de la Villa Plaza de la Villa Alpedrete 28430  España;X-APPLE-RADIUS=500;X-TITLE=Plaza de la Villa:geo:-4.0239866,40.6589274
END:VEVENT
BEGIN:VEVENT
DTSTART;TZID=Europe/Madrid:20190522T230000
DTEND;TZID=Europe/Madrid:20190522T233000
DTSTAMP:20260424T022649
CREATED:20190517T154826Z
LAST-MODIFIED:20190517T154826Z
UID:26519-1558566000-1558567800@preproduccion.alpedrete.es
SUMMARY:Fuegos artificiales
DESCRIPTION:Parque de El Peralejo\, 23:00 h
URL:https://preproduccion.alpedrete.es/evento/fuegos-artificiales-2/
LOCATION:Parque de El Peralejo
CATEGORIES:Fiestas patronales
ATTACH;FMTTYPE=image/jpeg:https://preproduccion.alpedrete.es/wp-content/uploads/2019/05/Fuegos-artificiales-3.jpg
END:VEVENT
BEGIN:VEVENT
DTSTART;TZID=Europe/Madrid:20190523T180000
DTEND;TZID=Europe/Madrid:20190523T200000
DTSTAMP:20260424T022649
CREATED:20190521T132430Z
LAST-MODIFIED:20190521T132430Z
UID:26594-1558634400-1558641600@preproduccion.alpedrete.es
SUMMARY:III Torneo Internacional de fútbol Santa Quiteria
DESCRIPTION:Campo de Fútbol Municipal\, 18:00 h
URL:https://preproduccion.alpedrete.es/evento/iii-torneo-internacional-de-futbol-santa-quiteria/
LOCATION:Ciudad Deportiva Municipal de Alpedrete\, C/ Campo de Fútbol s/n\, Alpedrete\, Madrid\, 28430\, España
CATEGORIES:Fiestas patronales
ATTACH;FMTTYPE=image/jpeg:https://preproduccion.alpedrete.es/wp-content/uploads/2019/05/torneo-futbol.jpg
END:VEVENT
BEGIN:VEVENT
DTSTART;TZID=Europe/Madrid:20190524T090000
DTEND;TZID=Europe/Madrid:20190524T130000
DTSTAMP:20260424T022649
CREATED:20190521T120305Z
LAST-MODIFIED:20190521T121044Z
UID:26590-1558688400-1558702800@preproduccion.alpedrete.es
SUMMARY:Pleno extraordinario
DESCRIPTION:El viernes 24 de mayo se convoca sesión extraordinaria del pleno del Ayuntamiento de Alpedrete a las 09:00 de la mañana en la Casa de Cultura Asunción Balaguer. El único punto en el orden del día es alegaciones y aprobación definitiva modificaciones presupuestarias 4 y 5 de 2019. \n Decreto de convocatoria de sesión extraordinaria de pleno el 24 de mayo de 2019
URL:https://preproduccion.alpedrete.es/evento/pleno-extraordinario-7/
LOCATION:Casa de Cultura Asunción Balaguer\, Plaza Francisco Rabal\, 2\, Alpedrete\, Madrid\, 28430 \, España
CATEGORIES:Pleno
ATTACH;FMTTYPE=image/jpeg:https://preproduccion.alpedrete.es/wp-content/uploads/2019/05/pleno.jpg
GEO:40.6621635;-4.031169
X-APPLE-STRUCTURED-LOCATION;VALUE=URI;X-ADDRESS=Casa de Cultura Asunción Balaguer Plaza Francisco Rabal 2 Alpedrete Madrid 28430  España;X-APPLE-RADIUS=500;X-TITLE=Plaza Francisco Rabal\, 2:geo:-4.031169,40.6621635
END:VEVENT
BEGIN:VEVENT
DTSTART;TZID=Europe/Madrid:20190524T180000
DTEND;TZID=Europe/Madrid:20190524T190000
DTSTAMP:20260424T022649
CREATED:20190521T134237Z
LAST-MODIFIED:20190521T134237Z
UID:26599-1558720800-1558724400@preproduccion.alpedrete.es
SUMMARY:Bajada de Santa Quiteria
DESCRIPTION:Desde la Parroquia de Nuestra Señora de la Asunción hasta su Ermita acompañada por la Banda Municipal de la EMMD de Alpedrete.
URL:https://preproduccion.alpedrete.es/evento/bajada-de-santa-quiteria/
LOCATION:Parroquia de la Asunción de Nuestra Señora\, Plaza de la Villa\, Alpedrete\, Madrid\, 28430\, España
CATEGORIES:Fiestas patronales
ATTACH;FMTTYPE=image/jpeg:https://preproduccion.alpedrete.es/wp-content/uploads/2019/05/bajada-de-Santa-Quiteria.jpg
GEO:40.6589274;-4.0239866
X-APPLE-STRUCTURED-LOCATION;VALUE=URI;X-ADDRESS=Parroquia de la Asunción de Nuestra Señora Plaza de la Villa Alpedrete Madrid 28430 España;X-APPLE-RADIUS=500;X-TITLE=Plaza de la Villa:geo:-4.0239866,40.6589274
END:VEVENT
BEGIN:VEVENT
DTSTART;TZID=Europe/Madrid:20190524T190000
DTEND;TZID=Europe/Madrid:20190524T203000
DTSTAMP:20260424T022649
CREATED:20190523T130617Z
LAST-MODIFIED:20190523T130617Z
UID:26628-1558724400-1558729800@preproduccion.alpedrete.es
SUMMARY:Tejer para leer. Presentación del libro "Tejiendo salud"
DESCRIPTION:Betsan Corkhill es autor del libro “Knit for health & wellness” el cual proporciona herramientas asequibles para la mejora de la salud y bienestar\, enseñándote lo puedes hacer en cualquier momento y en cualquier lugar. La edición española “Tejiendo salud” será presentada por la autora y por la asociación IAIA que colabora en el proyecto. Podrán adquirirse ejemplares. La compra de este libro implica una acción solidaria. La autora donará una parte de los beneficios a la Asociación IAIA\, organización sin ánimo de lucro.
URL:https://preproduccion.alpedrete.es/evento/tejer-para-leer-presentacion-del-libro-tejiendo-salud/
LOCATION:Biblioteca Municipal de Alpedrete\, Plaza Francisco Rabal\, 2\, Alpedrete\, 28430 \, España
CATEGORIES:Literatura
ATTACH;FMTTYPE=image/jpeg:https://preproduccion.alpedrete.es/wp-content/uploads/2019/05/tejiendo-salud-banner.jpg
GEO:40.6621635;-4.031169
X-APPLE-STRUCTURED-LOCATION;VALUE=URI;X-ADDRESS=Biblioteca Municipal de Alpedrete Plaza Francisco Rabal 2 Alpedrete 28430  España;X-APPLE-RADIUS=500;X-TITLE=Plaza Francisco Rabal\, 2:geo:-4.031169,40.6621635
END:VEVENT
BEGIN:VEVENT
DTSTART;TZID=Europe/Madrid:20190525T120000
DTEND;TZID=Europe/Madrid:20190525T130000
DTSTAMP:20260424T022649
CREATED:20190523T111535Z
LAST-MODIFIED:20190523T111535Z
UID:26623-1558785600-1558789200@preproduccion.alpedrete.es
SUMMARY:Cuentacuentos en inglés
DESCRIPTION:El sábado 25 de mayo\, cuentacuentos en inglés presenta “Word Cup Mania”\, a cargo de Chameleon Theatre\, con Mike Schaupp. La sesión se celebrará en la Biblioteca Municipal a partir de las 12:00 de la mañana. Los menores de ocho años deben ir acompañados de un adulto.
URL:https://preproduccion.alpedrete.es/evento/cuentacuentos-en-ingles-10/
LOCATION:Biblioteca Municipal de Alpedrete\, Plaza Francisco Rabal\, 2\, Alpedrete\, 28430 \, España
CATEGORIES:Cuentacuentos
ATTACH;FMTTYPE=image/jpeg:https://preproduccion.alpedrete.es/wp-content/uploads/2019/05/storytime.jpg
GEO:40.6621635;-4.031169
X-APPLE-STRUCTURED-LOCATION;VALUE=URI;X-ADDRESS=Biblioteca Municipal de Alpedrete Plaza Francisco Rabal 2 Alpedrete 28430  España;X-APPLE-RADIUS=500;X-TITLE=Plaza Francisco Rabal\, 2:geo:-4.031169,40.6621635
END:VEVENT
END:VCALENDAR