BEGIN:VCALENDAR
VERSION:2.0
PRODID:-//Web Ayuntamiento de Alpedrete - ECPv6.9.0//NONSGML v1.0//EN
CALSCALE:GREGORIAN
METHOD:PUBLISH
X-ORIGINAL-URL:https://preproduccion.alpedrete.es
X-WR-CALDESC:Eventos para Web Ayuntamiento de Alpedrete
REFRESH-INTERVAL;VALUE=DURATION:PT1H
X-Robots-Tag:noindex
X-PUBLISHED-TTL:PT1H
BEGIN:VTIMEZONE
TZID:Europe/Madrid
BEGIN:DAYLIGHT
TZOFFSETFROM:+0100
TZOFFSETTO:+0200
TZNAME:CEST
DTSTART:20180325T010000
END:DAYLIGHT
BEGIN:STANDARD
TZOFFSETFROM:+0200
TZOFFSETTO:+0100
TZNAME:CET
DTSTART:20181028T010000
END:STANDARD
END:VTIMEZONE
BEGIN:VEVENT
DTSTART;VALUE=DATE:20180925
DTEND;VALUE=DATE:20181019
DTSTAMP:20260421T061236
CREATED:20180926T094214Z
LAST-MODIFIED:20180926T094214Z
UID:22769-1537833600-1539907199@preproduccion.alpedrete.es
SUMMARY:Exposición Círculo de Pintores Solidarios
DESCRIPTION:El Círculo de Pintores Solidarios es una asociación cultural sin ánimo de lucro y solidaria entre cuyos objetivos se encuentran servir de plataforma para el desarrollo y promoción de los pintores noveles y contribuir a la unión de los artistas mediante el acercamiento\, difusión y fomento de la pintura en todas sus modalidades\, expresiones y orígenes.\nLa asociación nace con una seña de identidad particular y característica: la solidaridad. Actualmente la aportación solidaria de la asociación se canaliza a travésa través de Cruz Roja Española. \n\nDossier actividades Círculo de Pintores Solidarios
URL:https://preproduccion.alpedrete.es/evento/exposicion-circulo-de-pintores-solidarios/
LOCATION:Casa de Cultura Asunción Balaguer\, Plaza de Francisco Rabal\, Alpedrete\, Madrid\, 28430\, España
CATEGORIES:Exposición
ATTACH;FMTTYPE=image/jpeg:https://preproduccion.alpedrete.es/wp-content/uploads/2018/09/expo-circulo-pintores-solidarios.jpg
GEO:40.65755;-4.02389
X-APPLE-STRUCTURED-LOCATION;VALUE=URI;X-ADDRESS=Casa de Cultura Asunción Balaguer Plaza de Francisco Rabal Alpedrete Madrid 28430 España;X-APPLE-RADIUS=500;X-TITLE=Plaza de Francisco Rabal:geo:-4.02389,40.65755
END:VEVENT
BEGIN:VEVENT
DTSTART;TZID=Europe/Madrid:20181005T170000
DTEND;TZID=Europe/Madrid:20181005T210000
DTSTAMP:20260421T061236
CREATED:20181001T135058Z
LAST-MODIFIED:20181001T135058Z
UID:22863-1538758800-1538773200@preproduccion.alpedrete.es
SUMMARY:Halloween. Taller de manualidades
DESCRIPTION:A cargo de Cristina Minguiñón. Podrás Hacer adornos de Halloween para adornar tu escalofriante fiesta de Halloween. A partir de 6 años. Los viernes 5 y 26 de octubre en dos turnos: de 17.00 a 19.00h y de 19.00 a 21.00H. Plazas limitadas. Inscripciones en la Biblioteca Municipal a partir del 1 de octubre. \n 
URL:https://preproduccion.alpedrete.es/evento/halloween-taller-de-manualidades/2018-10-05/
LOCATION:Biblioteca Municipal de Alpedrete\, Plaza Francisco Rabal\, 2\, Alpedrete\, 28430 \, España
CATEGORIES:Halloween
ATTACH;FMTTYPE=image/png:https://preproduccion.alpedrete.es/wp-content/uploads/2018/10/fantasmitas.png
GEO:40.6621635;-4.031169
X-APPLE-STRUCTURED-LOCATION;VALUE=URI;X-ADDRESS=Biblioteca Municipal de Alpedrete Plaza Francisco Rabal 2 Alpedrete 28430  España;X-APPLE-RADIUS=500;X-TITLE=Plaza Francisco Rabal\, 2:geo:-4.031169,40.6621635
END:VEVENT
BEGIN:VEVENT
DTSTART;TZID=Europe/Madrid:20181005T193000
DTEND;TZID=Europe/Madrid:20181005T203000
DTSTAMP:20260421T061236
CREATED:20181002T095532Z
LAST-MODIFIED:20181002T095532Z
UID:22873-1538767800-1538771400@preproduccion.alpedrete.es
SUMMARY:Consejo Sectorial de Festejos
DESCRIPTION:El Consejo Sectorial de Festejos se reunirá el viernes 5 de octubre a las 19:30 de la tarde en el Edificio Polivalente (plaza de la Constitución). El orden del día propuesto está formado por dos puntos: \n\nFiestas de Navidad y Reyes 2018\nSugerencias
URL:https://preproduccion.alpedrete.es/evento/consejo-sectorial-de-festejos/
LOCATION:Edificio Polivalente\, Plaza de la Constitución\, 6\, Alpedrete\, Madrid\, 28430\, España
CATEGORIES:Reunión
ATTACH;FMTTYPE=image/jpeg:https://preproduccion.alpedrete.es/wp-content/uploads/2018/10/ALPEDRETEREYES-A2OK.jpg
GEO:40.6604232;-4.0256288
X-APPLE-STRUCTURED-LOCATION;VALUE=URI;X-ADDRESS=Edificio Polivalente Plaza de la Constitución 6 Alpedrete Madrid 28430 España;X-APPLE-RADIUS=500;X-TITLE=Plaza de la Constitución\, 6:geo:-4.0256288,40.6604232
END:VEVENT
BEGIN:VEVENT
DTSTART;TZID=Europe/Madrid:20181006T190000
DTEND;TZID=Europe/Madrid:20181006T203000
DTSTAMP:20260421T061236
CREATED:20181001T081819Z
LAST-MODIFIED:20181001T081819Z
UID:22846-1538852400-1538857800@preproduccion.alpedrete.es
SUMMARY:Orgullo rural
DESCRIPTION:La voz de Elía Tralará y la música de Uxía López protagonizan “Orgullo rural”\, un espectáculo en el que la palabra y la música llenará la Casa de Cultura Asunción Balaguer el sábado 6 de octubre a partir de las 19:00 de la tarde. \nElía Tralará narra anécdotas e historias de su infancia en una minúscula población de la meseta\, acompañada por Uxía López\, músico multinstrumentista especializada en folk que\, con acordeón\, cucharas\, mortero y una voz con mucha personalidad\, pondrá banda sonora a este divertido y nostálgico recorrido. \nSus protagonistas describen “Orgullo rural” como un espectáculo entrañable\, lleno de humor y con una pizca de nostalgia\, para todos aquellos que en algún momento de su vida hayan sentido los lazos y el orgullo de pertenecer a la España más rural\, a un territorio casi despoblado y en riesgo permanente de olvido. \nEl espectáculo tiene una duración de 75 minutos y está recomendado para público adulto. El precio de la entrada general es de 6 euros\, la reducida 3 euros. Se puede reservar en la secretaría de la Casa de Cultura Asunción Balaguer o en el teléfono 918 57 15 90. \n 
URL:https://preproduccion.alpedrete.es/evento/orgullo-rural/
LOCATION:Casa de Cultura Asunción Balaguer\, Plaza de Francisco Rabal\, Alpedrete\, Madrid\, 28430\, España
CATEGORIES:Música
ATTACH;FMTTYPE=image/jpeg:https://preproduccion.alpedrete.es/wp-content/uploads/2018/10/Sin-título-1-1.jpg
GEO:40.65755;-4.02389
X-APPLE-STRUCTURED-LOCATION;VALUE=URI;X-ADDRESS=Casa de Cultura Asunción Balaguer Plaza de Francisco Rabal Alpedrete Madrid 28430 España;X-APPLE-RADIUS=500;X-TITLE=Plaza de Francisco Rabal:geo:-4.02389,40.65755
END:VEVENT
BEGIN:VEVENT
DTSTART;TZID=Europe/Madrid:20181007T100000
DTEND;TZID=Europe/Madrid:20181007T130000
DTSTAMP:20260421T061236
CREATED:20180930T114012Z
LAST-MODIFIED:20180930T114131Z
UID:22836-1538906400-1538917200@preproduccion.alpedrete.es
SUMMARY:Aves de Alpedrete. Visita guiada
DESCRIPTION:El Ayuntamiento de Alpedrete se une por cuarto año consecutivo al Día de las Aves\, que decenas de municipios celebran en España realizando actividades en la que las aves son protagonistas durante el fin de semana del 6 y 7 de octubre. \nEn Alpedrete el acto central de la conmemoración será la presentación de la segunda guía de la biodiversidad: “Aves de Alpedrete”\, en la que se incluyen las fotografías y las descripciones del centenar de aves que se pueden observar en el municipio\, tanto en espacios naturales como urbanos. \nLa presentación de “Aves de Alpedrete” se realizará el domingo 7 de octubre durante un recorrido guiado por los autores de la guía. El caminar comenzará a las 10:00 de la mañana en la calle de La Pasada (al final del polígono industrial). La propuesta es intentar ver\, algunas son muy esquivas\, algunas de las aves que aparecen en la guía. Por ello se recomienda a los asistentes llevar prismáticos. Los participantes recibirán de regalo un ejemplar de “Aves de Alpedrete”. \nLa diversidad de aves que habitan Alpedrete incluye especies de gran tamaño como el buitre leonado\, el buitre negro\, o el águila imperial; otras de convivencia diaria como el avión y la golondrina comunes; y algunas difíciles de observar como la oropéndola\, el pinzón real o el herrerillo capuchino. \nMás información: https://preproduccion.alpedrete.es/el-dia-de-las-aves-descubre-en-centenar-de-especies-que-existen-en-alpedrete/
URL:https://preproduccion.alpedrete.es/evento/aves-de-alpedrete-visita-guiada/
LOCATION:Alpedrete\, Alpedrete\, Madrid\, 28430\, España
CATEGORIES:Medioambiente
ATTACH;FMTTYPE=image/jpeg:https://preproduccion.alpedrete.es/wp-content/uploads/2018/09/aves-de-alpedrete-inst.jpg
END:VEVENT
BEGIN:VEVENT
DTSTART;TZID=Europe/Madrid:20181007T103000
DTEND;TZID=Europe/Madrid:20181007T150000
DTSTAMP:20260421T061236
CREATED:20181003T074440Z
LAST-MODIFIED:20181003T100021Z
UID:22897-1538908200-1538924400@preproduccion.alpedrete.es
SUMMARY:V Edición de la Sierra en Verde
DESCRIPTION:El domingo 7 de octubre se unen en la plaza de la Constitución las ferias agroecológica y artesanal. Los puestos estarán abiertos de 10:30 de la mañana a las 15:00 de la tarde. Esta feria tiene lugar el primer domingo de mes.
URL:https://preproduccion.alpedrete.es/evento/v-edicion-de-la-sierra-en-verde/
LOCATION:Plaza de la Constitución\, Plaza de la Constitución\, Alpedrete\, Madrid\, 28430\, España
CATEGORIES:Feria
ATTACH;FMTTYPE=image/jpeg:https://preproduccion.alpedrete.es/wp-content/uploads/2018/10/IMG-20181003-WA0000.jpg
GEO:40.6602075;-4.0254104
X-APPLE-STRUCTURED-LOCATION;VALUE=URI;X-ADDRESS=Plaza de la Constitución Plaza de la Constitución Alpedrete Madrid 28430 España;X-APPLE-RADIUS=500;X-TITLE=Plaza de la Constitución:geo:-4.0254104,40.6602075
END:VEVENT
BEGIN:VEVENT
DTSTART;TZID=Europe/Madrid:20181013T100000
DTEND;TZID=Europe/Madrid:20181013T130000
DTSTAMP:20260421T061236
CREATED:20181001T141610Z
LAST-MODIFIED:20181001T141611Z
UID:22867-1539424800-1539435600@preproduccion.alpedrete.es
SUMMARY:Tejer para leer
DESCRIPTION:Vuelve la Asociación IAIA con su “Tejer para Leer”. A través de esta asociación se organizan y coordinan actividades relacionadas con la terapia de labores (punto\, ganchillo\, etc.)\, dirigidas principalmente a personas mayores\, tanto con experiencia como con ganas de aprender\, enmarcadas dentro de proyectos solidarios y benéficos como el cambio climático. En este taller se fomenta la lectura mientras se teje por una labor solidaria como  el cambio climático. \n 
URL:https://preproduccion.alpedrete.es/evento/tejer-para-leer-13/
LOCATION:Biblioteca Municipal de Alpedrete\, Plaza Francisco Rabal\, 2\, Alpedrete\, 28430 \, España
CATEGORIES:Taller
ATTACH;FMTTYPE=image/jpeg:https://preproduccion.alpedrete.es/wp-content/uploads/2018/10/3122885645_c954c3b78d_z.jpg
GEO:40.6621635;-4.031169
X-APPLE-STRUCTURED-LOCATION;VALUE=URI;X-ADDRESS=Biblioteca Municipal de Alpedrete Plaza Francisco Rabal 2 Alpedrete 28430  España;X-APPLE-RADIUS=500;X-TITLE=Plaza Francisco Rabal\, 2:geo:-4.031169,40.6621635
END:VEVENT
BEGIN:VEVENT
DTSTART;TZID=Europe/Madrid:20181013T133000
DTEND;TZID=Europe/Madrid:20181013T153000
DTSTAMP:20260421T061236
CREATED:20181012T181352Z
LAST-MODIFIED:20181012T181352Z
UID:23061-1539437400-1539444600@preproduccion.alpedrete.es
SUMMARY:La trashumancia llega a Alpedrete
DESCRIPTION:Las ovejas trashumantes saldrán el sábado 13 de octubre a las 10:00 h del área medioambiental «El Gurugú» en Guadarrama\, para pasar por Alpedrete alrededor de las 13:30 h y no a las 16:00 h como se había informado en primera instancia. \nEn su recorrido anual desde los Picos de Europa hacia el sur de la península\, al pasar por nuestro municipio lo harán a través de la Cañada Real de Merinas junto a la entrada de la urbanización Los Berrocales. Desde allí cruzarán la calle Reina Victoria para alcanzar el Puente del Herreño y finalmente dormir en la inmediaciones de la Ermita Nuestra Sra. de la Esperanza\, en Valmayor.
URL:https://preproduccion.alpedrete.es/evento/la-trashumancia-llega-a-alpedrete/
LOCATION:Alpedrete\, Alpedrete\, Madrid\, 28430\, España
CATEGORIES:Medioambiente
ATTACH;FMTTYPE=image/jpeg:https://preproduccion.alpedrete.es/wp-content/uploads/2018/10/Trashumancia-2-1.jpg
END:VEVENT
BEGIN:VEVENT
DTSTART;TZID=Europe/Madrid:20181014T120000
DTEND;TZID=Europe/Madrid:20181014T140000
DTSTAMP:20260421T061236
CREATED:20181003T112807Z
LAST-MODIFIED:20181008T080517Z
UID:22903-1539518400-1539525600@preproduccion.alpedrete.es
SUMMARY:Truequedrete: usa y reutiliza
DESCRIPTION:El domingo 14 de octubre celebramos nuestro mercadillo de intercambio Truequedrete como cada segundo domingo de mes\, pero esta vez con diferente ubicación. Nos reuniremos a partir de ahora en la Plaza de la Constitución\, en horario de 12 a 14 h. \nAdemás de intercambio\, se permite la venta y regalo de objetos\, según los requisitos definidos en las características de la actividad. Se trata de un espacio pensado exclusivamente para los vecinos de Alpedrete que participarán a título personal\, no como empresario\, profesional o autónomo. \nCaracterísticas de Truequedrete \n\nEn el Truequedrete podrán exponer para vender\, regalar o intercambiar EXCLUSIVAMENTE los vecinos de Alpedrete que lo acrediten con el justificante de empadronamiento o DNI que lo demuestre. Los vecinos que quieran exponder o vender tendrán que disponer de la solicitud de autorización presentada en el registro municipal.\nEl objetivo del Truequedrete es fomentar el intercambio y reutilizaciónde objetos de segunda mano y/o elaborados con materiales reciclables\, pero a precios no comerciales.\nLa participación se realiza de forma gratuita y a título estrictamente particular y nunca como EMPRESARIO\, PROFESIONAL O AUTÓNOMO en ninguna de sus modalidades.\nHabrá un espacio destinado para las organizaciones de carácter social que deseen participar\, previa autorización municipal. Deberán estar inscritas en el Registro de Asociaciones del Ayuntamiento de Alpedrete.\nSe ubica en la plaza de la Constitución y se celebra el segundo domingo de cada mes\, excepto cuando las condiciones climatológicas lo impidan.\nEl horario aproximado es de 12 a 14 horas.\nEn el Truequedrete se pueden vender y comprar\, intercambiar o regalar: juguetes\, antigüedades\, libros\, ropa\, artesanía\, pequeños muebles\, pequeños electrodomésticos\, herramientas\, etc.\nPueden ser usados o en perfecto estado\, pero a precios módicos o simbólicos.\nQueda expresamente prohibida la venta de alimentos y bebidas\, animales y plantas y productos químicos\, cosméticos y de higiene.\nLos participantes utilizarán sus propias infraestructuras colocando los objetos sobre mesas\, cestas o cajas de madera y utilizando carpas o toldos que no supere el espacio máximo por puesto de 3m de largo por 1\,5m de ancho. Se intentará crear un ambiente agradable.\n\nNormas para exponer \nLa primera vez que quieran exponer\, los interesados deberán solicitar autorización previa al segundo domingo de cada mes. La solicitud se cursará a través del registro del Ayuntamiento y debe incluir la siguiente información: \n\nNombre\nD.N.I.\nTeléfono\nDomicilio\n\nY especificar: “Quiero participar como expositor en el próximo “Truequedrete” del segundo domingo de mes”. \n\nPodrán participar menores\, siempre que estén acompañados de un adulto\, por lo que la petición la realizará el adulto.\nUna vez comprobada la petición\, se enviará un correo de respuesta autorizando la participación en el Truequedrete.\nEn lo sucesivo ya no hará falta la solicitud del puesto\, simplemente cada segundo domingo de messe puede exponer libremente.\nEl expositor deberá tener a mano el justificante de solicitud por email y el justificante de empadronamiento o DNIque demuestre el domicilio para presentar a cualquier inspección y tendrán que abandonar el Truequedrete quienes no presenten la documentación requerida o incumplan las condiciones generales de venta.\nParticipar en esta actividad supone la aceptación de las presentes normas.
URL:https://preproduccion.alpedrete.es/evento/truequedrete-2/
LOCATION:Alpedrete\, Madrid\, 28430\, España
CATEGORIES:Medioambiente
ATTACH;FMTTYPE=image/jpeg:https://preproduccion.alpedrete.es/wp-content/uploads/2018/10/truequedrete2.jpg
GEO:40.6716505;-4.013361
END:VEVENT
BEGIN:VEVENT
DTSTART;TZID=Europe/Madrid:20181019T180000
DTEND;TZID=Europe/Madrid:20181019T190000
DTSTAMP:20260421T061237
CREATED:20181011T104738Z
LAST-MODIFIED:20181011T104738Z
UID:23038-1539972000-1539975600@preproduccion.alpedrete.es
SUMMARY:Presentación literaria
DESCRIPTION:Presentación del libro «Historia ilustrada de la teoría feminista»\, a cargo de su autora\, Marta de la Rocha. Se realizará en la biblioteca municipal\, el viernes 19 de octubre a las 18:00h
URL:https://preproduccion.alpedrete.es/evento/presentacion-literaria-2/
LOCATION:Biblioteca Municipal de Alpedrete\, Plaza Francisco Rabal\, 2\, Alpedrete\, 28430 \, España
CATEGORIES:Literatura
ATTACH;FMTTYPE=image/jpeg:https://preproduccion.alpedrete.es/wp-content/uploads/2018/10/libro-teoria-feminista.jpg
GEO:40.6621635;-4.031169
X-APPLE-STRUCTURED-LOCATION;VALUE=URI;X-ADDRESS=Biblioteca Municipal de Alpedrete Plaza Francisco Rabal 2 Alpedrete 28430  España;X-APPLE-RADIUS=500;X-TITLE=Plaza Francisco Rabal\, 2:geo:-4.031169,40.6621635
END:VEVENT
BEGIN:VEVENT
DTSTART;TZID=Europe/Madrid:20181019T180000
DTEND;TZID=Europe/Madrid:20181019T193000
DTSTAMP:20260421T061237
CREATED:20181010T113218Z
LAST-MODIFIED:20181010T113218Z
UID:23002-1539972000-1539977400@preproduccion.alpedrete.es
SUMMARY:Curso de crecimiento personal
DESCRIPTION:Marta López Blanco\, autora del libro “Enseñanzas de una silla” y facilitadora de mindfulness\, impartirá un curso de formación en crecimiento personal y atención plena. El curso\, que se basa en su libro\, comenzará el viernes 19 de octubre a las 18:00 de la tarde. \nEl curso completo es gratuito y constará de 8 sesiones de hora y media de duración cada una que se impartirán en la Biblioteca Municipal. Las sesiones se impartirán los días 19 y 26 de octubre; 9\, 16\, 23 y 30 de noviembre; y en diciembre el 14 y 21. Las plazas son limitadas. Las inscripciones y cualquier información adicional\, se realizarán en la Biblioteca Municipal.
URL:https://preproduccion.alpedrete.es/evento/curso-de-crecimiento-personal/2018-10-19/
LOCATION:Biblioteca Municipal de Alpedrete\, Plaza Francisco Rabal\, 2\, Alpedrete\, 28430 \, España
CATEGORIES:Taller
ATTACH;FMTTYPE=image/jpeg:https://preproduccion.alpedrete.es/wp-content/uploads/2018/09/Sin-título-1-7.jpg
GEO:40.6621635;-4.031169
X-APPLE-STRUCTURED-LOCATION;VALUE=URI;X-ADDRESS=Biblioteca Municipal de Alpedrete Plaza Francisco Rabal 2 Alpedrete 28430  España;X-APPLE-RADIUS=500;X-TITLE=Plaza Francisco Rabal\, 2:geo:-4.031169,40.6621635
END:VEVENT
BEGIN:VEVENT
DTSTART;TZID=Europe/Madrid:20181020T120000
DTEND;TZID=Europe/Madrid:20181020T130000
DTSTAMP:20260421T061237
CREATED:20181002T131511Z
LAST-MODIFIED:20181002T131511Z
UID:22889-1540036800-1540040400@preproduccion.alpedrete.es
SUMMARY:Cuentacuentos en inglés “Dancing with Davey”
DESCRIPTION:Davey el perro\, una aventura musical en la que se canta\, baila y hace el payaso durante treinta minutos en inglés. Vamos a caminar como egipcios\, dar botes de raperos o tal vez incluso hacer un poco de lucha de kung-fu. Ponte los zapatos de baile y sube el volumen\, ¡Davey está llegando! \nA cargo de Chameleon Theatre. Con Mike Schaupp.
URL:https://preproduccion.alpedrete.es/evento/cuentacuentos-en-ingles-dancing-with-davey/
LOCATION:Casa de Cultura Asunción Balaguer\, Plaza de Francisco Rabal\, Alpedrete\, Madrid\, 28430\, España
CATEGORIES:Cuentacuentos
ATTACH;FMTTYPE=image/jpeg:https://preproduccion.alpedrete.es/wp-content/uploads/2017/06/davey-the-dog.jpg
GEO:40.65755;-4.02389
X-APPLE-STRUCTURED-LOCATION;VALUE=URI;X-ADDRESS=Casa de Cultura Asunción Balaguer Plaza de Francisco Rabal Alpedrete Madrid 28430 España;X-APPLE-RADIUS=500;X-TITLE=Plaza de Francisco Rabal:geo:-4.02389,40.65755
END:VEVENT
BEGIN:VEVENT
DTSTART;TZID=Europe/Madrid:20181020T180000
DTEND;TZID=Europe/Madrid:20181020T193000
DTSTAMP:20260421T061237
CREATED:20181002T130627Z
LAST-MODIFIED:20181015T124733Z
UID:22885-1540058400-1540063800@preproduccion.alpedrete.es
SUMMARY:Cösmix
DESCRIPTION:Dos viajeros infatigables\, extraños y extravagantes\, llegan al escenario programados para hacer reír\, como dos hombres orquesta nos ofrecen sus mejores habilidades; música imposible\, teatro reciclásico y hasta nos avanzan el futuro en vivo y en directo. \nA cargo de la compañía Cosmix\, dos cómicos de dimensiones cósmicas y un mix de locura. Programación dentro de la Red de Teatros de la Comunidad de Madrid. Todos los públicos. Duración: 60 min. Precio 6€ adultos y 3€ niños. Reserva anticipada de entradas desde el lunes 15 de octubre en la Casa de Cultura y en el 918571590. \n 
URL:https://preproduccion.alpedrete.es/evento/cosmix/
LOCATION:Casa de Cultura Asunción Balaguer\, Plaza de Francisco Rabal\, Alpedrete\, Madrid\, 28430\, España
CATEGORIES:Teatro
ATTACH;FMTTYPE=image/jpeg:https://preproduccion.alpedrete.es/wp-content/uploads/2018/10/xarivari_1.jpg
GEO:40.65755;-4.02389
X-APPLE-STRUCTURED-LOCATION;VALUE=URI;X-ADDRESS=Casa de Cultura Asunción Balaguer Plaza de Francisco Rabal Alpedrete Madrid 28430 España;X-APPLE-RADIUS=500;X-TITLE=Plaza de Francisco Rabal:geo:-4.02389,40.65755
END:VEVENT
BEGIN:VEVENT
DTSTART;TZID=Europe/Madrid:20181021T110000
DTEND;TZID=Europe/Madrid:20181021T130000
DTSTAMP:20260421T061237
CREATED:20181015T080517Z
LAST-MODIFIED:20181015T092210Z
UID:23071-1540119600-1540126800@preproduccion.alpedrete.es
SUMMARY:III Caminata saludable
DESCRIPTION:La III edición Caminata Saludable se realizará con el mensaje “1 de 8”. El motivo de la elección de ese lema para encabezar la caminata es que 1 de cada 8 mujeres contraen cáncer de mama\, según revelan las estadísticas. \nLa caminata saludable contra el cáncer está dirigida a personas de cualquier edad y condición física. El comienzo está previsto a las 11:00 de la mañana en la plaza de Francisco Rabal (Casa de Cultura Asunción Balaguer). La caminata también concluirá en la plaza de Francisco Rabal\, según el recorrido del mapa adjunto. \nFarmaestro es el promotor de una actividad que está directamente relacionada con la prevención de la enfermedad del cáncer desde tres pilares básicos: dieta\, ejercicio y estilo de vida. El Ayuntamiento de Alpedrete colabora por tercer año consecutivo. \nComo en años anteriores\, esta actividad también tiene un fin solidario. El dinero recaudado irá a la Fundación GEICAM\, grupo que se dedica a la investigación del cáncer de mama y del que forman parte 800 expertos que trabajan en 180 hospitales de toda España. Desde su constitución en 1995\, GEICAM ha realizado un centenar de estudios en los que han participado 46.000 mujeres. \nLa colaboración económica se puede realizar por donación directa en las urnas dispuestas para la ocasión y mediante la compra de camisetas\, pulseras y monederos\, estos últimos hechos por Confecciones Hermanas Recio\, colaboradora de la Caminata Saludable. Los caminantes también tienen a su disposición una bolsa con manzanas donadas por los Hermanos Cofrades y botellas de agua del restaurante Mimo. Las camisetas y las bolsas se pueden reservar en fdiazderada@hotmail.com
URL:https://preproduccion.alpedrete.es/evento/iii-caminata-saludable/
LOCATION:Alpedrete\, Madrid\, 28430\, España
CATEGORIES:Marcha
ATTACH;FMTTYPE=image/jpeg:https://preproduccion.alpedrete.es/wp-content/uploads/2018/10/Sin-título-2-copia.jpg
END:VEVENT
BEGIN:VEVENT
DTSTART;VALUE=DATE:20181022
DTEND;VALUE=DATE:20181108
DTSTAMP:20260421T061237
CREATED:20181022T113450Z
LAST-MODIFIED:20181022T120105Z
UID:23114-1540166400-1541635199@preproduccion.alpedrete.es
SUMMARY:Making of de una Bruja
DESCRIPTION:La Casa de Cultura Asunción Balaguer acoge desde el lunes 22 de octubre la exposición “Making of de una Bruja”\, de la ilustradora Susana López Braña. La muestra está programada hasta el próximo 7 de noviembre. \nSusana López Braña está especializada en ilustración infantil\, a la que traslada sus conocimientos de arte\, caracterización y efectos especiales\, y de ilustración\, publicidad y diseño adquiridos en la Escuela Superior de Dibujo Profesional. \nDe sí misma dice “me encanta la enseñanza y todo lo que tenga que ver con la creación”.
URL:https://preproduccion.alpedrete.es/evento/making-of-de-una-bruja/
LOCATION:Casa de Cultura Asunción Balaguer\, Plaza de Francisco Rabal\, Alpedrete\, Madrid\, 28430\, España
CATEGORIES:Exposición
ATTACH;FMTTYPE=image/jpeg:https://preproduccion.alpedrete.es/wp-content/uploads/2018/10/Sin-título-1-9.jpg
GEO:40.65755;-4.02389
X-APPLE-STRUCTURED-LOCATION;VALUE=URI;X-ADDRESS=Casa de Cultura Asunción Balaguer Plaza de Francisco Rabal Alpedrete Madrid 28430 España;X-APPLE-RADIUS=500;X-TITLE=Plaza de Francisco Rabal:geo:-4.02389,40.65755
END:VEVENT
BEGIN:VEVENT
DTSTART;VALUE=DATE:20181024
DTEND;VALUE=DATE:20181025
DTSTAMP:20260421T061237
CREATED:20181023T074147Z
LAST-MODIFIED:20181023T074147Z
UID:23133-1540339200-1540425599@preproduccion.alpedrete.es
SUMMARY:Día de la Biblioteca
DESCRIPTION:El miércoles 24 de octubre se celebra el Día de la Biblioteca en España. Por este motivo\, la Biblioteca Municipal de Alpedrete ha decidido que todos los usuarios que el día 24 actualicen sus préstamos\, en caso de retraso\, se les retirará la sanción que tuvieran pendiente. Además\, durante una semana (del 24 al 31 de octubre) se ampliará el servicio de préstamo de 3 a 5 libros por carné. \nEl Día de la Biblioteca es una iniciativa de la Asociación Española de Amigos del Libro Infantil y Juvenil\, que nació en 1997. Desde esa fecha\, la asociación da a conocer la labor de las bibliotecas y sus profesionales.
URL:https://preproduccion.alpedrete.es/evento/dia-de-la-biblioteca/
LOCATION:Biblioteca Municipal de Alpedrete\, Plaza Francisco Rabal\, 2\, Alpedrete\, 28430 \, España
CATEGORIES:Cultura
ATTACH;FMTTYPE=image/jpeg:https://preproduccion.alpedrete.es/wp-content/uploads/2018/10/Sin-título-1-11.jpg
GEO:40.6621635;-4.031169
X-APPLE-STRUCTURED-LOCATION;VALUE=URI;X-ADDRESS=Biblioteca Municipal de Alpedrete Plaza Francisco Rabal 2 Alpedrete 28430  España;X-APPLE-RADIUS=500;X-TITLE=Plaza Francisco Rabal\, 2:geo:-4.031169,40.6621635
END:VEVENT
BEGIN:VEVENT
DTSTART;TZID=Europe/Madrid:20181027T120000
DTEND;TZID=Europe/Madrid:20181027T130000
DTSTAMP:20260421T061237
CREATED:20181002T134857Z
LAST-MODIFIED:20181002T134857Z
UID:22891-1540641600-1540645200@preproduccion.alpedrete.es
SUMMARY:Cuentacuentos en inglés “Hospital of Horror”
DESCRIPTION:Doctor Finger es un médico con un talento muy especial. Sabe ayudar a los monstruos a realizar sus sueños. Si quieren convertirse en niños inocentes les puede guiar por ese camino. Y si quieren convertirse en algo aún más terrorífico\, también les puede ayudar con eso. Pero una noche de luna llena la situación se le va de las manos. \nA cargo de Chameleon Theatre.
URL:https://preproduccion.alpedrete.es/evento/cuentacuentos-en-ingles-hospital-of-horror/
LOCATION:Alpedrete\, Madrid\, 28430\, España
CATEGORIES:Cuentacuentos
ATTACH;FMTTYPE=image/jpeg:https://preproduccion.alpedrete.es/wp-content/uploads/2018/10/luna-llena.jpg
END:VEVENT
BEGIN:VEVENT
DTSTART;TZID=Europe/Madrid:20181030T093000
DTEND;TZID=Europe/Madrid:20181030T140000
DTSTAMP:20260421T061237
CREATED:20181029T080905Z
LAST-MODIFIED:20181030T121412Z
UID:23298-1540891800-1540908000@preproduccion.alpedrete.es
SUMMARY:Pleno extraordinario
DESCRIPTION:El martes 30 de octubre de 2018 se celebrará una sesión extraordinaria del Pleno de la Corporación Municipal de Alpedrete a partir de las 09:30 de la mañana en el salón de actos de la Casa de Cultura Asunción Balaguer con el siguiente orden del día: \nPRIMERO. Aprobación Cuenta General 2017.\nSEGUNDO. Gastos Indemnizables por defensa jurídica de miembros de la Corporación.\nTERCERO. Fiestas Laborales 2019.\nCUARTO. Mociones Grupo Municipal P.P.\n4.1 Garantizar la libertad de elección educativa de las familias.\n4.2 Para recuperar el espíritu de concordia y reconciliación que presidió la transición española y la defensa de la unidad de España.\n4.3 Mejora Plan de Cercanías de Madrid.\nQUINTO. Control de órganos del gobierno\n5.1 Decretos y Resoluciones\n5.2 Ruegos y Preguntas\nDecreto de convocatoria Pleno 30 de octubre de 2018.pdf
URL:https://preproduccion.alpedrete.es/evento/pleno-extraordinario-4/
LOCATION:Casa de Cultura Asunción Balaguer\, Plaza de Francisco Rabal\, Alpedrete\, Madrid\, 28430\, España
CATEGORIES:Pleno
ATTACH;FMTTYPE=image/jpeg:https://preproduccion.alpedrete.es/wp-content/uploads/2016/03/Pleno-1.jpg
GEO:40.65755;-4.02389
X-APPLE-STRUCTURED-LOCATION;VALUE=URI;X-ADDRESS=Casa de Cultura Asunción Balaguer Plaza de Francisco Rabal Alpedrete Madrid 28430 España;X-APPLE-RADIUS=500;X-TITLE=Plaza de Francisco Rabal:geo:-4.02389,40.65755
END:VEVENT
BEGIN:VEVENT
DTSTART;TZID=Europe/Madrid:20181031T180000
DTEND;TZID=Europe/Madrid:20181031T235900
DTSTAMP:20260421T061237
CREATED:20181008T084707Z
LAST-MODIFIED:20181008T084707Z
UID:22944-1541008800-1541030340@preproduccion.alpedrete.es
SUMMARY:Halloween 2018
DESCRIPTION:El 31 de octubre\, el Ayuntamiento de Alpedrete ha organizado las siguientes fiestas y pasacalles: \nEdificio polivalente (plaza de la Constitución)\n\n18:00-19:30 pasaje del terror infantil\n20:00-22:00 pasaje del terror para valientes\n\n\nPasacalles\n\n19:30 Pasacalles desde edificio polivalente hasta Casa de Cultura\n\nCasa de Cultura Asunción Balaguer (plaza de Francisco Rabal)\n\n20:00-21:00 Discoteca terrorífica infantil\n21:30- 00:00 Discoteca para jóvenes y adultos
URL:https://preproduccion.alpedrete.es/evento/halloween-2018/
LOCATION:Alpedrete\, Madrid\, 28430\, España
CATEGORIES:Halloween
ATTACH;FMTTYPE=image/jpeg:https://preproduccion.alpedrete.es/wp-content/uploads/2018/10/Sin-título-1-4.jpg
END:VEVENT
END:VCALENDAR