BEGIN:VCALENDAR
VERSION:2.0
PRODID:-//Web Ayuntamiento de Alpedrete - ECPv6.9.0//NONSGML v1.0//EN
CALSCALE:GREGORIAN
METHOD:PUBLISH
X-WR-CALNAME:Web Ayuntamiento de Alpedrete
X-ORIGINAL-URL:https://preproduccion.alpedrete.es
X-WR-CALDESC:Eventos para Web Ayuntamiento de Alpedrete
REFRESH-INTERVAL;VALUE=DURATION:PT1H
X-Robots-Tag:noindex
X-PUBLISHED-TTL:PT1H
BEGIN:VTIMEZONE
TZID:Europe/Madrid
BEGIN:DAYLIGHT
TZOFFSETFROM:+0100
TZOFFSETTO:+0200
TZNAME:CEST
DTSTART:20190331T010000
END:DAYLIGHT
BEGIN:STANDARD
TZOFFSETFROM:+0200
TZOFFSETTO:+0100
TZNAME:CET
DTSTART:20191027T010000
END:STANDARD
END:VTIMEZONE
BEGIN:VEVENT
DTSTART;TZID=Europe/Madrid:20190612T083000
DTEND;TZID=Europe/Madrid:20190612T110000
DTSTAMP:20260421T074830
CREATED:20190607T124859Z
LAST-MODIFIED:20190607T124859Z
UID:26911-1560328200-1560337200@preproduccion.alpedrete.es
SUMMARY:Pleno extraordinario
DESCRIPTION:El miércoles 12 de junio se celebrará una sesión extraordinaria del pleno del Ayuntamiento de Alpedrete a las 08:30 de la mañana en el salón de actos de la Casa de Cultura Asunción Balaguer. \nEl orden del día tiene como asunto único: la aprobación de actas anteriores. \n Decreto de convocatoria Pleno Extraordinario 12 de junio de 2019.pdf
URL:https://preproduccion.alpedrete.es/evento/pleno-extraordinario-8/
LOCATION:Alpedrete\, Madrid\, 28430\, España
CATEGORIES:Pleno
ATTACH;FMTTYPE=image/jpeg:https://preproduccion.alpedrete.es/wp-content/uploads/2019/05/pleno.jpg
END:VEVENT
END:VCALENDAR