BEGIN:VCALENDAR
VERSION:2.0
PRODID:-//Web Ayuntamiento de Alpedrete - ECPv6.9.0//NONSGML v1.0//EN
CALSCALE:GREGORIAN
METHOD:PUBLISH
X-WR-CALNAME:Web Ayuntamiento de Alpedrete
X-ORIGINAL-URL:https://preproduccion.alpedrete.es
X-WR-CALDESC:Eventos para Web Ayuntamiento de Alpedrete
REFRESH-INTERVAL;VALUE=DURATION:PT1H
X-Robots-Tag:noindex
X-PUBLISHED-TTL:PT1H
BEGIN:VTIMEZONE
TZID:Europe/Madrid
BEGIN:DAYLIGHT
TZOFFSETFROM:+0100
TZOFFSETTO:+0200
TZNAME:CEST
DTSTART:20190331T010000
END:DAYLIGHT
BEGIN:STANDARD
TZOFFSETFROM:+0200
TZOFFSETTO:+0100
TZNAME:CET
DTSTART:20191027T010000
END:STANDARD
END:VTIMEZONE
BEGIN:VEVENT
DTSTART;TZID=Europe/Madrid:20191031T073000
DTEND;TZID=Europe/Madrid:20191031T170000
DTSTAMP:20260420T123534
CREATED:20191021T130520Z
LAST-MODIFIED:20191021T130721Z
UID:28129-1572507000-1572541200@preproduccion.alpedrete.es
SUMMARY:Días sin cole en octubre
DESCRIPTION:El día 31 de octubre la Mancomunidad de Servicios Sociales THAM prestará el servicio de Días sin Cole\, servicio que las familias tienen a su disposición con el objetivo principal de favorecer la conciliación de la vida familiar y profesional. \nComo es habitual los Días sin Cole estarán  dirigidos a los menores de 3 a 12 años. El horario es de 9:00 a 13:30 horas sin servicio de comedor o a 15:00 ó 16:30 horas con servicio de comedor. Para la realización de la actividad será necesario un mínimo de 12 inscripciones. \nSe ampliará el horario de entrada por la mañana a partir de las 7:30 horas y el de salida por la tarde hasta las 17:00 horas. \nEl plazo de inscripción es hasta las 14:00 h horas del tercer día hábil anterior a la actividad\, no considerándose hábil el sábado. \nMás información e inscripciones: THAM \nDiptico Días sin Cole 2019-20
URL:https://preproduccion.alpedrete.es/evento/dias-sin-cole-en-octubre/
LOCATION:Alpedrete\, Madrid\, 28430\, España
CATEGORIES:Educación
ATTACH;FMTTYPE=image/jpeg:https://preproduccion.alpedrete.es/wp-content/uploads/2019/10/días-sin-cole.jpg
END:VEVENT
END:VCALENDAR