BEGIN:VCALENDAR
VERSION:2.0
PRODID:-//Web Ayuntamiento de Alpedrete - ECPv6.9.0//NONSGML v1.0//EN
CALSCALE:GREGORIAN
METHOD:PUBLISH
X-WR-CALNAME:Web Ayuntamiento de Alpedrete
X-ORIGINAL-URL:https://preproduccion.alpedrete.es
X-WR-CALDESC:Eventos para Web Ayuntamiento de Alpedrete
REFRESH-INTERVAL;VALUE=DURATION:PT1H
X-Robots-Tag:noindex
X-PUBLISHED-TTL:PT1H
BEGIN:VTIMEZONE
TZID:Europe/Madrid
BEGIN:DAYLIGHT
TZOFFSETFROM:+0100
TZOFFSETTO:+0200
TZNAME:CEST
DTSTART:20190331T010000
END:DAYLIGHT
BEGIN:STANDARD
TZOFFSETFROM:+0200
TZOFFSETTO:+0100
TZNAME:CET
DTSTART:20191027T010000
END:STANDARD
END:VTIMEZONE
BEGIN:VEVENT
DTSTART;TZID=Europe/Madrid:20191203T103000
DTEND;TZID=Europe/Madrid:20191203T193000
DTSTAMP:20260421T002434
CREATED:20191202T132042Z
LAST-MODIFIED:20191202T132152Z
UID:28576-1575369000-1575401400@preproduccion.alpedrete.es
SUMMARY:Día Internacional de las Personas con Discapacidad
DESCRIPTION:El Ayuntamiento de Alpedrete ha organizado una serie de actividades en horario de mañana y tarde. El programa es el siguiente: \n3 de diciembre \nMAÑANA \n\n10:30h Marcha desde la Ermita de Santa Quiteria. Taller de barras direccionales.\n11:15h Llegada a la Casa de Cultura y presentación de los talleres\n11:30 a 12:30h\n\nTalleres\n-APASCOVI- Decoración de macetas\n-GRUPO 5- Elaboración de palos de lluvia\n-FUNDACIÓN PITA LÓPEZ – Taller vivencial\n-ADISGUA: Elaboración de adorno navideño\n-SEMED\nMesas informativas: Asociación Diabetes y Asmifal \n\n12:30h Café y despedida\n\nTARDE \n\n17:30h Presentación\n17:45h Proyección del Corto “¿Viejos?”\n18:00h Proyección de la película “Campeones”\, premio Goya
URL:https://preproduccion.alpedrete.es/evento/dia-internacional-de-las-personas-con-discapacidad/
LOCATION:Alpedrete\, Madrid\, 28430\, España
CATEGORIES:Jornadas
ATTACH;FMTTYPE=image/jpeg:https://preproduccion.alpedrete.es/wp-content/uploads/2019/12/dia-internacional-personas-discapacidad.jpg
END:VEVENT
END:VCALENDAR