BEGIN:VCALENDAR
VERSION:2.0
PRODID:-//Web Ayuntamiento de Alpedrete - ECPv6.9.0//NONSGML v1.0//EN
CALSCALE:GREGORIAN
METHOD:PUBLISH
X-WR-CALNAME:Web Ayuntamiento de Alpedrete
X-ORIGINAL-URL:https://preproduccion.alpedrete.es
X-WR-CALDESC:Eventos para Web Ayuntamiento de Alpedrete
REFRESH-INTERVAL;VALUE=DURATION:PT1H
X-Robots-Tag:noindex
X-PUBLISHED-TTL:PT1H
BEGIN:VTIMEZONE
TZID:Europe/Madrid
BEGIN:DAYLIGHT
TZOFFSETFROM:+0100
TZOFFSETTO:+0200
TZNAME:CEST
DTSTART:20190331T010000
END:DAYLIGHT
BEGIN:STANDARD
TZOFFSETFROM:+0200
TZOFFSETTO:+0100
TZNAME:CET
DTSTART:20191027T010000
END:STANDARD
END:VTIMEZONE
BEGIN:VEVENT
DTSTART;TZID=Europe/Madrid:20191227T110000
DTEND;TZID=Europe/Madrid:20191228T200000
DTSTAMP:20260421T061248
CREATED:20191219T151521Z
LAST-MODIFIED:20191219T151521Z
UID:28824-1577444400-1577563200@preproduccion.alpedrete.es
SUMMARY:Tren de la Navidad
DESCRIPTION:27 y 28 de diciembre de 11:00 a 20:00h. Tren de la Navidad. Calle Real
URL:https://preproduccion.alpedrete.es/evento/tren-de-la-navidad/
LOCATION:Alpedrete\, Madrid\, 28430\, España
CATEGORIES:Navidad
END:VEVENT
END:VCALENDAR