BEGIN:VCALENDAR
VERSION:2.0
PRODID:-//Web Ayuntamiento de Alpedrete - ECPv6.9.0//NONSGML v1.0//EN
CALSCALE:GREGORIAN
METHOD:PUBLISH
X-ORIGINAL-URL:https://preproduccion.alpedrete.es
X-WR-CALDESC:Eventos para Web Ayuntamiento de Alpedrete
REFRESH-INTERVAL;VALUE=DURATION:PT1H
X-Robots-Tag:noindex
X-PUBLISHED-TTL:PT1H
BEGIN:VTIMEZONE
TZID:Europe/Madrid
BEGIN:DAYLIGHT
TZOFFSETFROM:+0100
TZOFFSETTO:+0200
TZNAME:CEST
DTSTART:20200329T010000
END:DAYLIGHT
BEGIN:STANDARD
TZOFFSETFROM:+0200
TZOFFSETTO:+0100
TZNAME:CET
DTSTART:20201025T010000
END:STANDARD
END:VTIMEZONE
BEGIN:VEVENT
DTSTART;TZID=Europe/Madrid:20200208T100000
DTEND;TZID=Europe/Madrid:20200208T130000
DTSTAMP:20260421T073741
CREATED:20200205T140940Z
LAST-MODIFIED:20200205T140940Z
UID:29351-1581156000-1581166800@preproduccion.alpedrete.es
SUMMARY:Tejer para leer
DESCRIPTION:El sábado 8 de febrero la asocición IAIA realiza una nueva sesión de «Tejer para leer»\, una actividad en la que se aprende a tejer mientras se escucha un audiolibro y se hacen labores solidarias. Es gratuito\, no hay límite de edad y los útiles para tejer corren a cargo de IAIA. La cita es de 10:00 de la mañana a 13:00 de la tarde en la biblioteca municipal de Alpedrete.
URL:https://preproduccion.alpedrete.es/evento/tejer-para-leer-20/
LOCATION:Alpedrete\, Madrid\, 28430\, España
CATEGORIES:Taller
ATTACH;FMTTYPE=image/jpeg:https://preproduccion.alpedrete.es/wp-content/uploads/2017/06/tejer-ovillos.jpg
END:VEVENT
END:VCALENDAR