BEGIN:VCALENDAR
VERSION:2.0
PRODID:-//Web Ayuntamiento de Alpedrete - ECPv6.9.0//NONSGML v1.0//EN
CALSCALE:GREGORIAN
METHOD:PUBLISH
X-WR-CALNAME:Web Ayuntamiento de Alpedrete
X-ORIGINAL-URL:https://preproduccion.alpedrete.es
X-WR-CALDESC:Eventos para Web Ayuntamiento de Alpedrete
REFRESH-INTERVAL;VALUE=DURATION:PT1H
X-Robots-Tag:noindex
X-PUBLISHED-TTL:PT1H
BEGIN:VTIMEZONE
TZID:Europe/Madrid
BEGIN:DAYLIGHT
TZOFFSETFROM:+0100
TZOFFSETTO:+0200
TZNAME:CEST
DTSTART:20200329T010000
END:DAYLIGHT
BEGIN:STANDARD
TZOFFSETFROM:+0200
TZOFFSETTO:+0100
TZNAME:CET
DTSTART:20201025T010000
END:STANDARD
END:VTIMEZONE
BEGIN:VEVENT
DTSTART;TZID=Europe/Madrid:20201219T120000
DTEND;TZID=Europe/Madrid:20201219T130000
DTSTAMP:20260420T141624
CREATED:20201201T165522Z
LAST-MODIFIED:20201203T103312Z
UID:33249-1608379200-1608382800@preproduccion.alpedrete.es
SUMMARY:Taller on line: "Música en familia"
DESCRIPTION:El día 19 de diciembre de 12:00 a 13:00 horas se impartirá el taller on line «Música en familia» dirigida a familias con niños y niñas de 6 meses a 6 años. \nUn taller de Navidad donde descubrir la música con canciones y juegos de la mano de la musicoterapeuta Inmaculada de la Rosa Rojas\, compartiendo un rato muy divertido. \nLa sesión es gratuita y se realizará online mediante la plataforma Zoom. \nLas inscripciones para participar pueden hacerse a través del el correo de la Biblioteca Municipal de Alpedrete \, indicando: \nAsunto: Taller on line «Música en familia» \n-Nombre y apellidos de la madre o del padre \n-Número de participantes de la familia \n-Correo electrónico \nMás información en la Biblioteca Municipal de Alpedrete\, en el teléfono 918579211 \n \n  \n 
URL:https://preproduccion.alpedrete.es/evento/taller-on-line-musica-en-familia/
LOCATION:Alpedrete
CATEGORIES:Navidad,Taller
ATTACH;FMTTYPE=image/jpeg:https://preproduccion.alpedrete.es/wp-content/uploads/2020/12/taller-on-line-musica-en-familia.jpg
END:VEVENT
BEGIN:VEVENT
DTSTART;TZID=Europe/Madrid:20201214T173000
DTEND;TZID=Europe/Madrid:20201214T193000
DTSTAMP:20260420T141624
CREATED:20201209T122849Z
LAST-MODIFIED:20201209T122849Z
UID:33238-1607967000-1607974200@preproduccion.alpedrete.es
SUMMARY:Paciencia 3.0
DESCRIPTION:Desde el Ayuntamiento de Alpedrete\, a través del programa Espacio para familias organizado por la Mancomunidad de Servicios Sociales THAM\, os ofrecemos la sesión «Paciencia 3.0» \nA lo largo de la sesión podremos descubrir algunas claves para cultivar la paciencia\, evitando así el “calentamiento global familiar”. Para ello contaremos con Enrique Parada Torres\, psicólogo\, formador y coach. \nLunes 14 de diciembre de 17:30 a 19:30 horas. \nDebido a la situación actual\, la actividad se realiza en formato on line\, a través de la plataforma Zoom. Para participar\, solo tienes que inscribirse previamente por correo electrónico (thamfamilia@mancomunidad-tham.org)\, indicando tu nombre\, correo electrónico y el taller que te interesa. \nContamos con un servicio de asesoramiento telefónico para facilitar la conexión y utilización de la plataforma. Si lo necesitas\, solicítalo por teléfono o correo electrónico al inscribirte.
URL:https://preproduccion.alpedrete.es/evento/paciencia-3-0/
LOCATION:Alpedrete
CATEGORIES:Escuela de Familia
ATTACH;FMTTYPE=image/jpeg:https://preproduccion.alpedrete.es/wp-content/uploads/2020/12/ninos-jugar-ensuciar-sucio-scaled.jpg
END:VEVENT
BEGIN:VEVENT
DTSTART;TZID=Europe/Madrid:20201212T120000
DTEND;TZID=Europe/Madrid:20201212T123000
DTSTAMP:20260420T141624
CREATED:20201209T091732Z
LAST-MODIFIED:20201209T091732Z
UID:33321-1607774400-1607776200@preproduccion.alpedrete.es
SUMMARY:Cuentacuentos online "The messy witch"
DESCRIPTION:Sábado\, 12 de diciembre a las 12:00 h\, a través de la las redes sociales municipales Facebook\, Twitter e Instagram\, dentro de los cuentacuentos para toda la familia ofrecidos por la Biblioteca Municipal de Alpedrete. \nLa compañía Opportunity Theatre nos presenta el cuentacuentos en inglés “The messy witch” narrado por Elena Vaquero. \nHelen\, una de las mejores brujas del mundo\, conoce hechizos prodigiosos. Pero ella es muy desordenada y también ha perdido la memoria. No recuerda el hechizo para hacer aparecer o desaparecer cosas\, por lo que tendrá que pedir ayuda al animal que había capturado. \nDuración:30 minutos. Para toda la familia.
URL:https://preproduccion.alpedrete.es/evento/cuentacuentos-online-the-messy-witch/
LOCATION:Alpedrete
CATEGORIES:Cuentacuentos
ATTACH;FMTTYPE=image/jpeg:https://preproduccion.alpedrete.es/wp-content/uploads/2020/12/cuentacuentos-12-diciembre.jpg
END:VEVENT
BEGIN:VEVENT
DTSTART;TZID=Europe/Madrid:20201128T120000
DTEND;TZID=Europe/Madrid:20201128T130000
DTSTAMP:20260420T141624
CREATED:20201126T104424Z
LAST-MODIFIED:20201126T104424Z
UID:33159-1606564800-1606568400@preproduccion.alpedrete.es
SUMMARY:Cuentacuentos online en inglés: What will I be tomorrow?
DESCRIPTION:Sábado\, 28 de noviembre a las 12:00 h\, a través de la las redes sociales municipales Facebook\, Twitter e Instagram\, dentro de los cuentacuentos para toda la familia ofrecidos por la Biblioteca Municipal de Alpedrete. \nLa compañía Opportunity Theatre nos presenta el cuentacuentos en inglés “What will I be tomorrow?” narrado por Elena Vaquero. \nEn este cuentacuentos descubriremos junto a Helen que todos los días al despertarse es una persona diferente: un día es una gran maga\, otro día una bailarina profesional… Hasta que recibe una carta inesperada en su cumpleaños que dará un vuelco a su vida. \nAl llegar la noche Helen compartirá distintas historias para dormir.
URL:https://preproduccion.alpedrete.es/evento/cuentacuentos-online-en-ingles-what-will-i-be-tomorrow/
LOCATION:Alpedrete
CATEGORIES:Cuentacuentos
ATTACH;FMTTYPE=image/jpeg:https://preproduccion.alpedrete.es/wp-content/uploads/2020/11/What-will-I-be-tomorrow-cuentacuentos-28-de-noviembre.jpg
END:VEVENT
END:VCALENDAR