BEGIN:VCALENDAR
VERSION:2.0
PRODID:-//Web Ayuntamiento de Alpedrete - ECPv6.9.0//NONSGML v1.0//EN
CALSCALE:GREGORIAN
METHOD:PUBLISH
X-WR-CALNAME:Web Ayuntamiento de Alpedrete
X-ORIGINAL-URL:https://preproduccion.alpedrete.es
X-WR-CALDESC:Eventos para Web Ayuntamiento de Alpedrete
REFRESH-INTERVAL;VALUE=DURATION:PT1H
X-Robots-Tag:noindex
X-PUBLISHED-TTL:PT1H
BEGIN:VTIMEZONE
TZID:Europe/Madrid
BEGIN:DAYLIGHT
TZOFFSETFROM:+0100
TZOFFSETTO:+0200
TZNAME:CEST
DTSTART:20160327T010000
END:DAYLIGHT
BEGIN:STANDARD
TZOFFSETFROM:+0200
TZOFFSETTO:+0100
TZNAME:CET
DTSTART:20161030T010000
END:STANDARD
END:VTIMEZONE
BEGIN:VEVENT
DTSTART;TZID=Europe/Madrid:20160507T000000
DTEND;TZID=Europe/Madrid:20160516T235500
DTSTAMP:20260424T182243
CREATED:20160507T165857Z
LAST-MODIFIED:20160507T170436Z
UID:6940-1462579200-1463442900@preproduccion.alpedrete.es
SUMMARY:Fotolectura 2016: “Otros lugares para leer”
DESCRIPTION:Alpedrete ha abierto el plazo para la entrega de las fotografías del concurso Fotolectura 2016\, convocado por el Movimiento de Bibliotecas Rurales\, junto con la Subdirección General del Libro de la Comunidad de Madrid. La edición 2016 de este concurso de fotografía digital se titula “Otros lugares para leer” y el objetivo que persigue es mostrar diferentes lugares idóneos para la lectura. Cada fotografía tiene que incluir una explicación razonando los motivos por los que se ha elegido el lugar fotografiado. \nLa participación en el concurso se realiza a través de las bibliotecas municipales. En el caso de Alpedrete los interesados en concursar pueden enviar por correo electrónico un máximo de tres fotografías digitales a la Biblioteca Municipal de Alpedrete (biblioteca@alpedrete.es) junto con sus datos personales y una breve explicación sobre la foto. El plazo de presentación de las instantáneas concluye el 16 de mayo y la entrega de premios se realizará el 18 de mayo en la Biblioteca.
URL:https://preproduccion.alpedrete.es/evento/fotolectura-2016-otros-lugares-leer/
LOCATION:Biblioteca Municipal de Alpedrete\, Plaza Francisco Rabal\, 2\, Alpedrete\, 28430 \, España
CATEGORIES:Fotografía
ATTACH;FMTTYPE=image/jpeg:https://preproduccion.alpedrete.es/wp-content/uploads/2016/05/Fotolibro-2.jpg
GEO:40.6621635;-4.031169
X-APPLE-STRUCTURED-LOCATION;VALUE=URI;X-ADDRESS=Biblioteca Municipal de Alpedrete Plaza Francisco Rabal 2 Alpedrete 28430  España;X-APPLE-RADIUS=500;X-TITLE=Plaza Francisco Rabal\, 2:geo:-4.031169,40.6621635
END:VEVENT
BEGIN:VEVENT
DTSTART;TZID=Europe/Madrid:20160424T120000
DTEND;TZID=Europe/Madrid:20160424T130000
DTSTAMP:20260424T182243
CREATED:20160328T115626Z
LAST-MODIFIED:20160328T115951Z
UID:6206-1461499200-1461502800@preproduccion.alpedrete.es
SUMMARY:Cuentacuentos gratuitos en inglés: “Mister Wiz”
DESCRIPTION:A cargo de Chameleon Theatre. Con Mike Schaupp. Cuentacuentos
URL:https://preproduccion.alpedrete.es/evento/cuentacuentos-gratuitos-en-ingles-mister-wiz/
LOCATION:Biblioteca Municipal de Alpedrete\, Plaza Francisco Rabal\, 2\, Alpedrete\, 28430 \, España
CATEGORIES:Cuentacuentos
ATTACH;FMTTYPE=image/jpeg:https://preproduccion.alpedrete.es/wp-content/uploads/2016/03/cuentacuentos.jpg
GEO:40.6621635;-4.031169
X-APPLE-STRUCTURED-LOCATION;VALUE=URI;X-ADDRESS=Biblioteca Municipal de Alpedrete Plaza Francisco Rabal 2 Alpedrete 28430  España;X-APPLE-RADIUS=500;X-TITLE=Plaza Francisco Rabal\, 2:geo:-4.031169,40.6621635
END:VEVENT
BEGIN:VEVENT
DTSTART;VALUE=DATE:20160419
DTEND;VALUE=DATE:20160426
DTSTAMP:20260424T182243
CREATED:20160407T120452Z
LAST-MODIFIED:20160411T103617Z
UID:6422-1461024000-1461628799@preproduccion.alpedrete.es
SUMMARY:XXXI Muestra del libro infantil y juvenil
DESCRIPTION:Exposición de libros infantiles y juveniles con las mejores novedades editoriales del año. En la hemeroteca de la Biblioteca Municipal de Alpedrete\, en su horario habitual de apertura. \n\nDe lunes a viernes\, de 9 a 22 h.\nSábados\, de 9:30 a 14:30 h.\n\n  \n 
URL:https://preproduccion.alpedrete.es/evento/xxxi-muestra-del-libro-infantil-juvenil/
LOCATION:Biblioteca Municipal de Alpedrete\, Plaza Francisco Rabal\, 2\, Alpedrete\, 28430 \, España
CATEGORIES:Literatura
ATTACH;FMTTYPE=image/jpeg:https://preproduccion.alpedrete.es/wp-content/uploads/2016/04/feria-del-libro-infantil-y-juvenil.jpg
GEO:40.6621635;-4.031169
X-APPLE-STRUCTURED-LOCATION;VALUE=URI;X-ADDRESS=Biblioteca Municipal de Alpedrete Plaza Francisco Rabal 2 Alpedrete 28430  España;X-APPLE-RADIUS=500;X-TITLE=Plaza Francisco Rabal\, 2:geo:-4.031169,40.6621635
END:VEVENT
BEGIN:VEVENT
DTSTART;TZID=Europe/Madrid:20160402T120000
DTEND;TZID=Europe/Madrid:20160402T130000
DTSTAMP:20260424T182243
CREATED:20160328T085928Z
LAST-MODIFIED:20160328T085928Z
UID:6185-1459598400-1459602000@preproduccion.alpedrete.es
SUMMARY:Cuentacuentos gratuitos en inglés: "Mount Trouble"
DESCRIPTION:A cargo de Chameleon Theatre. Con Mike Schaupp.
URL:https://preproduccion.alpedrete.es/evento/cuentacuentos-gratuitos-en-ingles/
LOCATION:Biblioteca Municipal de Alpedrete\, Plaza Francisco Rabal\, 2\, Alpedrete\, 28430 \, España
CATEGORIES:Cuentacuentos
ATTACH;FMTTYPE=image/jpeg:https://preproduccion.alpedrete.es/wp-content/uploads/2016/03/cuentacuentos.jpg
GEO:40.6621635;-4.031169
X-APPLE-STRUCTURED-LOCATION;VALUE=URI;X-ADDRESS=Biblioteca Municipal de Alpedrete Plaza Francisco Rabal 2 Alpedrete 28430  España;X-APPLE-RADIUS=500;X-TITLE=Plaza Francisco Rabal\, 2:geo:-4.031169,40.6621635
END:VEVENT
BEGIN:VEVENT
DTSTART;TZID=Europe/Madrid:20160312T120000
DTEND;TZID=Europe/Madrid:20160312T130000
DTSTAMP:20260424T182243
CREATED:20160222T131805Z
LAST-MODIFIED:20160222T131805Z
UID:5515-1457784000-1457787600@preproduccion.alpedrete.es
SUMMARY:Cuentacuentos gratuitos en inglés. "Sam´s  search"
DESCRIPTION:A cargo de Chameleon Theatre. Con Mike Schaupp.
URL:https://preproduccion.alpedrete.es/evento/cuentacuentos-gratuitos-en-ingles-sams-search/
LOCATION:Biblioteca Municipal de Alpedrete\, Plaza Francisco Rabal\, 2\, Alpedrete\, 28430 \, España
CATEGORIES:Cuentacuentos
ATTACH;FMTTYPE=image/png:https://preproduccion.alpedrete.es/wp-content/uploads/2016/02/Imagen3.png
GEO:40.6621635;-4.031169
X-APPLE-STRUCTURED-LOCATION;VALUE=URI;X-ADDRESS=Biblioteca Municipal de Alpedrete Plaza Francisco Rabal 2 Alpedrete 28430  España;X-APPLE-RADIUS=500;X-TITLE=Plaza Francisco Rabal\, 2:geo:-4.031169,40.6621635
END:VEVENT
BEGIN:VEVENT
DTSTART;TZID=Europe/Madrid:20160227T120000
DTEND;TZID=Europe/Madrid:20160227T130000
DTSTAMP:20260424T182243
CREATED:20160217T091702Z
LAST-MODIFIED:20160224T114945Z
UID:5081-1456574400-1456578000@preproduccion.alpedrete.es
SUMMARY:Cuentacuentos en Inglés\, "Cowboys and Cowards"
DESCRIPTION:
URL:https://preproduccion.alpedrete.es/evento/cuenta-cuentos-en-ingles-perfect-love/
LOCATION:Biblioteca Municipal de Alpedrete\, Plaza Francisco Rabal\, 2\, Alpedrete\, 28430 \, España
CATEGORIES:Cuentacuentos
ATTACH;FMTTYPE=image/jpeg:https://preproduccion.alpedrete.es/wp-content/uploads/2016/02/Cuenta-cuentos.jpg
GEO:40.6621635;-4.031169
X-APPLE-STRUCTURED-LOCATION;VALUE=URI;X-ADDRESS=Biblioteca Municipal de Alpedrete Plaza Francisco Rabal 2 Alpedrete 28430  España;X-APPLE-RADIUS=500;X-TITLE=Plaza Francisco Rabal\, 2:geo:-4.031169,40.6621635
END:VEVENT
BEGIN:VEVENT
DTSTART;VALUE=DATE:20160115
DTEND;VALUE=DATE:20160116
DTSTAMP:20260424T182243
CREATED:20160203T111900Z
LAST-MODIFIED:20160203T111900Z
UID:4149-1452816000-1452902399@preproduccion.alpedrete.es
SUMMARY:La Sardina más grande del Carnaval
DESCRIPTION:Los niños y niñas que participan en un taller de manualidades en la Biblioteca Municipal durante el mes de enero son los encargados de construir las tres sardinas gigantes que se quemarán el 10 de febrero. Los talleres tienen lugar los viernes 15\, 22 y 29 de enero en dos turnos. El primero a las 17:30 y el segundo a las 19:00 de la tarde.
URL:https://preproduccion.alpedrete.es/evento/la-sardina-mas-grande-del-carnaval/
LOCATION:Biblioteca Municipal de Alpedrete\, Plaza Francisco Rabal\, 2\, Alpedrete\, 28430 \, España
GEO:40.6621635;-4.031169
X-APPLE-STRUCTURED-LOCATION;VALUE=URI;X-ADDRESS=Biblioteca Municipal de Alpedrete Plaza Francisco Rabal 2 Alpedrete 28430  España;X-APPLE-RADIUS=500;X-TITLE=Plaza Francisco Rabal\, 2:geo:-4.031169,40.6621635
END:VEVENT
END:VCALENDAR