BEGIN:VCALENDAR
VERSION:2.0
PRODID:-//Web Ayuntamiento de Alpedrete - ECPv6.9.0//NONSGML v1.0//EN
CALSCALE:GREGORIAN
METHOD:PUBLISH
X-ORIGINAL-URL:https://preproduccion.alpedrete.es
X-WR-CALDESC:Eventos para Web Ayuntamiento de Alpedrete
REFRESH-INTERVAL;VALUE=DURATION:PT1H
X-Robots-Tag:noindex
X-PUBLISHED-TTL:PT1H
BEGIN:VTIMEZONE
TZID:Europe/Madrid
BEGIN:DAYLIGHT
TZOFFSETFROM:+0100
TZOFFSETTO:+0200
TZNAME:CEST
DTSTART:20170326T010000
END:DAYLIGHT
BEGIN:STANDARD
TZOFFSETFROM:+0200
TZOFFSETTO:+0100
TZNAME:CET
DTSTART:20171029T010000
END:STANDARD
BEGIN:DAYLIGHT
TZOFFSETFROM:+0100
TZOFFSETTO:+0200
TZNAME:CEST
DTSTART:20180325T010000
END:DAYLIGHT
BEGIN:STANDARD
TZOFFSETFROM:+0200
TZOFFSETTO:+0100
TZNAME:CET
DTSTART:20181028T010000
END:STANDARD
BEGIN:DAYLIGHT
TZOFFSETFROM:+0100
TZOFFSETTO:+0200
TZNAME:CEST
DTSTART:20190331T010000
END:DAYLIGHT
BEGIN:STANDARD
TZOFFSETFROM:+0200
TZOFFSETTO:+0100
TZNAME:CET
DTSTART:20191027T010000
END:STANDARD
END:VTIMEZONE
BEGIN:VEVENT
DTSTART;TZID=Europe/Madrid:20190831T140000
DTEND;TZID=Europe/Madrid:20190831T153000
DTSTAMP:20260420T082930
CREATED:20190827T102731Z
LAST-MODIFIED:20190827T102731Z
UID:27488-1567260000-1567265400@preproduccion.alpedrete.es
SUMMARY:Concierto Pre-Stone
DESCRIPTION:Sábado 31 de agosto\, 14:00 h\, concierto previo al V Festival Stone a cargo de dos de los grupos participantes en la selección de la V Edición. Será en la calle Real\, zona peatonal. \nERRATA es un grupo co-fundado por amigos desde la infancia. Influenciados por distintos géneros musicales\, basado en el rock\, pero con influencias country\, blues\, hard rock\, etc desde Rosendo\, pasando por Tequila o Los Rodríguez\, hasta Platero y tú o Extremoduro\, conforman su influencia musical. Tras más de dos años de circuito por salas\, fiestas y festivales de Madrid y alrededores\, se encuentran en la preproducción de lo que será su primer disco. Su directo potente\, animado\, participativo\, acompañado de un show preparado y para todos los públicos que no deja indiferente a nadie. Los integrantes de ERRATA son: \n\nJuan García\, guitarra y coros.\nSamuel Llerena\, voz\nFederico Moreno\, bajo\nAlberto Llerena\, guitarra\nAlexander José Briceño\, batería y coros\n\nTHE CLODS BAND  nace en Madrid a principios del año 2018. Reciben influencias de proyectos musicales anteriores como Nuwanda\, pero con grandes cambios en cuanto a referentes\, estilo y objetivos. Mirando atrás desearían haber esperado un poco más para grabar su EP debut »Some Times»\, ya que ahora traen temas con mucha fuerza que querrían tener recogidos en un disco; pero la conexión profunda que surgió entre sus miembros les llevó a grabar con menos de un año como formación y no cambiarían esta experiencia por nada. Han participado en eventos como MadFuzz y tocado en salas de Madrid como la Maravillas\, Cadillac Solitario o La Mala. Sus componentes son: \n\nDaniel Calero Arenas \, batería y percusión\nAzul Escolar Barraza\, voces y guitarra\nMiriam Izarra Couce\, voces y bajo\nLucas Tuya Saez\, voces\, guitarra y banjo\n\n \n \n \n 
URL:https://preproduccion.alpedrete.es/evento/concierto-pre-stone/
LOCATION:Calle Real\, Calle Real s/n\, Alpedrete\, Madrid\, 28430\, España
CATEGORIES:Concierto
ATTACH;FMTTYPE=image/jpeg:https://preproduccion.alpedrete.es/wp-content/uploads/2019/08/concierto-pre-stone-600x400.jpg
GEO:40.6599918;-4.0242189
X-APPLE-STRUCTURED-LOCATION;VALUE=URI;X-ADDRESS=Calle Real Calle Real s/n Alpedrete Madrid 28430 España;X-APPLE-RADIUS=500;X-TITLE=Calle Real s/n:geo:-4.0242189,40.6599918
END:VEVENT
BEGIN:VEVENT
DTSTART;TZID=Europe/Madrid:20190512T100000
DTEND;TZID=Europe/Madrid:20190512T133000
DTSTAMP:20260420T082930
CREATED:20190508T120727Z
LAST-MODIFIED:20190508T120727Z
UID:26323-1557655200-1557667800@preproduccion.alpedrete.es
SUMMARY:I Feria del Comercio Local Santa Quiteria
DESCRIPTION:Calle Real\, 10:00-15:00h. Incluye actividades para los más pequeños: pasacalles con muñecos Disney. Pases a las 11:30\, 12:30 y 13:30 h
URL:https://preproduccion.alpedrete.es/evento/i-feria-del-comercio-local-santa-quiteria/
LOCATION:Calle Real\, Calle Real s/n\, Alpedrete\, Madrid\, 28430\, España
CATEGORIES:Feria
ATTACH;FMTTYPE=image/jpeg:https://preproduccion.alpedrete.es/wp-content/uploads/2019/05/I-Feria-comercio-local-Sta-Quiteria.jpg
GEO:40.6599918;-4.0242189
X-APPLE-STRUCTURED-LOCATION;VALUE=URI;X-ADDRESS=Calle Real Calle Real s/n Alpedrete Madrid 28430 España;X-APPLE-RADIUS=500;X-TITLE=Calle Real s/n:geo:-4.0242189,40.6599918
END:VEVENT
BEGIN:VEVENT
DTSTART;TZID=Europe/Madrid:20180707T200000
DTEND;TZID=Europe/Madrid:20180708T020000
DTSTAMP:20260420T082930
CREATED:20180626T121108Z
LAST-MODIFIED:20180706T085543Z
UID:21755-1530993600-1531015200@preproduccion.alpedrete.es
SUMMARY:Feria del Comercio. Alpedrete en Blanco
DESCRIPTION:Por segundo año consecutivo\, el Ayuntamiento de Alpedrete y AECA (Asociación de Empresarios y Comerciantes de Alpedrete) organizan la Feria del Comercio de Alpedrete\, bajo el nombre «Alpedrete en Blanco». Comenzará a las 20:00 de la tarde y se prolongará hasta las 02:00 de la madrugada en la calle Real. Cientos de velas decorarán las calles del centro del municipio. Cuentacuentos\, pasacalles\, conciertos\, regalos sorpresa\, sorteos\, en la tarde-noche del 7 de julio. \n \n  \n  \n 
URL:https://preproduccion.alpedrete.es/evento/feria-del-comercio-alpedrete-en-blanco/
LOCATION:Calle Real\, Calle Real s/n\, Alpedrete\, Madrid\, 28430\, España
ATTACH;FMTTYPE=image/jpeg:https://preproduccion.alpedrete.es/wp-content/uploads/2018/06/alpedrete-en-Blanco.jpg
GEO:40.6599918;-4.0242189
X-APPLE-STRUCTURED-LOCATION;VALUE=URI;X-ADDRESS=Calle Real Calle Real s/n Alpedrete Madrid 28430 España;X-APPLE-RADIUS=500;X-TITLE=Calle Real s/n:geo:-4.0242189,40.6599918
END:VEVENT
BEGIN:VEVENT
DTSTART;TZID=Europe/Madrid:20170701T200000
DTEND;TZID=Europe/Madrid:20170702T020000
DTSTAMP:20260420T082930
CREATED:20170621T073252Z
LAST-MODIFIED:20170629T180157Z
UID:15872-1498939200-1498960800@preproduccion.alpedrete.es
SUMMARY:Feria del comercio en la noche en blanco
DESCRIPTION:La Asociación de Empresarios y Comerciantes de Alpedrete (AECA) y el Ayuntamiento organizan el sábado 1 de julio la “Feria del Comercio de Alpedrete”\, una iniciativa a la que se ha denominado “Alpedrete en Blanco”\, \nComenzará a las 20:00 de la tarde y se prolongará hasta las 02:00 de la madrugada en la calle Real. Ciento de velas decorarán las calles del centro del municipio. A las 21:00 de la noche habrá cuentacuentos\, a las 22:30 pasacalles de gigantes y a las 00:00 un concierto de clásicos del rock. \nQuienes realicen compras recibirán de regalo globos con luz (hasta que se acaben las existencias). Además se sorteará  una cesta de premios. Participan en “Alpedrete en Blanco”: Raser\, Chuf creativos\, Chuchelandia\, Carmen Alonso fisioterapia y rehabilitación\, ArcyLis moda-regalos-complementos\, El Mercadillo de Lola\, Mediterráneo Viajes\, Confecciones hermanas Recio y Rockola.
URL:https://preproduccion.alpedrete.es/evento/feria-del-comercio-la-noche-blanco/
LOCATION:Calle Real\, Calle Real s/n\, Alpedrete\, Madrid\, 28430\, España
CATEGORIES:Comercio
ATTACH;FMTTYPE=image/jpeg:https://preproduccion.alpedrete.es/wp-content/uploads/2017/06/Alpedrete-en-blanco.jpg
GEO:40.6599918;-4.0242189
X-APPLE-STRUCTURED-LOCATION;VALUE=URI;X-ADDRESS=Calle Real Calle Real s/n Alpedrete Madrid 28430 España;X-APPLE-RADIUS=500;X-TITLE=Calle Real s/n:geo:-4.0242189,40.6599918
END:VEVENT
BEGIN:VEVENT
DTSTART;TZID=Europe/Madrid:20170520T170000
DTEND;TZID=Europe/Madrid:20170520T180000
DTSTAMP:20260420T082930
CREATED:20170510T235428Z
LAST-MODIFIED:20170512T124957Z
UID:13690-1495299600-1495303200@preproduccion.alpedrete.es
SUMMARY:Concurso de autos locos
DESCRIPTION:Las peñas protagonizarán a media tarde la tradicional carrera de autos locos. Cuesta abajo y lo más rápido que pueda el ingenio\, que desde el carro del supermercado vale. \n 
URL:https://preproduccion.alpedrete.es/evento/concurso-autos-locos/
LOCATION:Calle Real\, Calle Real s/n\, Alpedrete\, Madrid\, 28430\, España
CATEGORIES:Concurso,Fiestas patronales
ATTACH;FMTTYPE=image/jpeg:https://preproduccion.alpedrete.es/wp-content/uploads/2017/05/4-Autos-locos-ok.jpg
GEO:40.6599918;-4.0242189
X-APPLE-STRUCTURED-LOCATION;VALUE=URI;X-ADDRESS=Calle Real Calle Real s/n Alpedrete Madrid 28430 España;X-APPLE-RADIUS=500;X-TITLE=Calle Real s/n:geo:-4.0242189,40.6599918
END:VEVENT
END:VCALENDAR