BEGIN:VCALENDAR
VERSION:2.0
PRODID:-//Web Ayuntamiento de Alpedrete - ECPv6.9.0//NONSGML v1.0//EN
CALSCALE:GREGORIAN
METHOD:PUBLISH
X-ORIGINAL-URL:https://preproduccion.alpedrete.es
X-WR-CALDESC:Eventos para Web Ayuntamiento de Alpedrete
REFRESH-INTERVAL;VALUE=DURATION:PT1H
X-Robots-Tag:noindex
X-PUBLISHED-TTL:PT1H
BEGIN:VTIMEZONE
TZID:Europe/Madrid
BEGIN:DAYLIGHT
TZOFFSETFROM:+0100
TZOFFSETTO:+0200
TZNAME:CEST
DTSTART:20160327T010000
END:DAYLIGHT
BEGIN:STANDARD
TZOFFSETFROM:+0200
TZOFFSETTO:+0100
TZNAME:CET
DTSTART:20161030T010000
END:STANDARD
END:VTIMEZONE
BEGIN:VEVENT
DTSTART;TZID=Europe/Madrid:20160312T090000
DTEND;TZID=Europe/Madrid:20160312T150000
DTSTAMP:20260421T013725
CREATED:20160222T135406Z
LAST-MODIFIED:20160222T135406Z
UID:5520-1457773200-1457794800@preproduccion.alpedrete.es
SUMMARY:Salida Cultural: Visita a las Bodegas Figueroa y ruta guiada por Chinchón
DESCRIPTION:Salida Cultural en la que se visitarán las Bodegas y el Museo del Vino Figueroa (con cata de vinos y aperitivo) y a continuación realizaremos una ruta guiada oficial por la ciudad de Chinchón.\nPrecio: 9€ Plazas limitadas. Inscripciones del 12 de febrero al 4 de marzo en la Casa de Cultura.
URL:https://preproduccion.alpedrete.es/evento/5520/
LOCATION:Casa de Cultura Asunción Balaguer\, Plaza Francisco Rabal\, 2\, Alpedrete\, Madrid\, 28430 \, España
CATEGORIES:Salida Cultural
ATTACH;FMTTYPE=image/png:https://preproduccion.alpedrete.es/wp-content/uploads/2016/02/Imagen5.png
GEO:40.6621635;-4.031169
X-APPLE-STRUCTURED-LOCATION;VALUE=URI;X-ADDRESS=Casa de Cultura Asunción Balaguer Plaza Francisco Rabal 2 Alpedrete Madrid 28430  España;X-APPLE-RADIUS=500;X-TITLE=Plaza Francisco Rabal\, 2:geo:-4.031169,40.6621635
END:VEVENT
BEGIN:VEVENT
DTSTART;TZID=Europe/Madrid:20160311T193000
DTEND;TZID=Europe/Madrid:20160311T210000
DTSTAMP:20260421T013725
CREATED:20160229T092026Z
LAST-MODIFIED:20160229T092143Z
UID:5658-1457724600-1457730000@preproduccion.alpedrete.es
SUMMARY:7 mujeres para Lorca
DESCRIPTION:Dirigida por María Victoria Toajas e interpretada por Gea Teatro\, en 7 mujeres para Lorca\, explican sus protagonistas\, “es posible rastrear la hondura de la educación sentimental de las mujeres y el drama al que las ha conducido -nos ha conducido a hombres y mujeres- la educación tradicional\, la concepción heredada del amor romántico\, del matrimonio y de la maternidad\, junto con todos los prejuicios sociales que acompañan a estas ideas”.\nLa obra se ha creado partiendo de las obras de Federico García Lorca: Los sueños de mi prima Aurelia\, Mariana Pineda\, Doña Rosita\, la soltera\, o el lenguaje de las flores\, La casa de Bernarda Alba\, Bodas de sangre y Yerma. \nRecomendada para mayores de 12 años. \n 
URL:https://preproduccion.alpedrete.es/evento/7-mujeres-para-lorca/
LOCATION:Casa de Cultura Asunción Balaguer\, Plaza Francisco Rabal\, 2\, Alpedrete\, Madrid\, 28430 \, España
CATEGORIES:Teatro
ATTACH;FMTTYPE=image/jpeg:https://preproduccion.alpedrete.es/wp-content/uploads/2016/02/7-mujeres-lorca-1.jpg
GEO:40.6621635;-4.031169
X-APPLE-STRUCTURED-LOCATION;VALUE=URI;X-ADDRESS=Casa de Cultura Asunción Balaguer Plaza Francisco Rabal 2 Alpedrete Madrid 28430  España;X-APPLE-RADIUS=500;X-TITLE=Plaza Francisco Rabal\, 2:geo:-4.031169,40.6621635
END:VEVENT
BEGIN:VEVENT
DTSTART;TZID=Europe/Madrid:20160310T180000
DTEND;TZID=Europe/Madrid:20160310T200000
DTSTAMP:20260421T013725
CREATED:20160309T092315Z
LAST-MODIFIED:20160309T092315Z
UID:5908-1457632800-1457640000@preproduccion.alpedrete.es
SUMMARY:Pleno Municipal Extraordinario
DESCRIPTION:El próximo 10 de marzo de 2016 se celebrará una Sesión Extraordinaria del Pleno del Ayuntamiento de Alpedrete a las 18:00 de la tarde en la Casa de Cultura Asunción Balaguer. \nEl orden del día del pleno está formado por tres puntos: modificación de la plantilla\, presupuesto 2016; huertos urbanos\, y aprobación inicial de la Ordenanza de Terrazas y Quioscos de Hostelería y Restauración.
URL:https://preproduccion.alpedrete.es/evento/pleno-municipal-extraordinario/
LOCATION:Casa de Cultura Asunción Balaguer\, Plaza Francisco Rabal\, 2\, Alpedrete\, Madrid\, 28430 \, España
CATEGORIES:Pleno
ATTACH;FMTTYPE=image/jpeg:https://preproduccion.alpedrete.es/wp-content/uploads/2016/03/Pleno.jpg
GEO:40.6621635;-4.031169
X-APPLE-STRUCTURED-LOCATION;VALUE=URI;X-ADDRESS=Casa de Cultura Asunción Balaguer Plaza Francisco Rabal 2 Alpedrete Madrid 28430  España;X-APPLE-RADIUS=500;X-TITLE=Plaza Francisco Rabal\, 2:geo:-4.031169,40.6621635
END:VEVENT
BEGIN:VEVENT
DTSTART;TZID=Europe/Madrid:20160305T180000
DTEND;TZID=Europe/Madrid:20160305T191500
DTSTAMP:20260421T013725
CREATED:20160222T124624Z
LAST-MODIFIED:20160222T124624Z
UID:5509-1457200800-1457205300@preproduccion.alpedrete.es
SUMMARY:Concierto Pequeñas Agrupaciones
DESCRIPTION:Concierto a cargo de los alumnos de la EMMD de Alpedrete. En dos pases (18:00 y 20:00 h)\, las diferentes agrupaciones nos presentarán un variado programa por dúos\, tríos\, cuartetos y pequeñas formaciones abarcando un repertorio desde el Renacimiento y el Barroco hasta obras pop como The Beatles. Entrada libre hasta completar aforo. \n 
URL:https://preproduccion.alpedrete.es/evento/concierto-pequenas-agrupaciones/
LOCATION:Casa de Cultura Asunción Balaguer\, Plaza Francisco Rabal\, 2\, Alpedrete\, Madrid\, 28430 \, España
CATEGORIES:Música
ATTACH;FMTTYPE=image/png:https://preproduccion.alpedrete.es/wp-content/uploads/2016/02/Imagen1.png
GEO:40.6621635;-4.031169
X-APPLE-STRUCTURED-LOCATION;VALUE=URI;X-ADDRESS=Casa de Cultura Asunción Balaguer Plaza Francisco Rabal 2 Alpedrete Madrid 28430  España;X-APPLE-RADIUS=500;X-TITLE=Plaza Francisco Rabal\, 2:geo:-4.031169,40.6621635
END:VEVENT
BEGIN:VEVENT
DTSTART;TZID=Europe/Madrid:20160304T190000
DTEND;TZID=Europe/Madrid:20160304T200000
DTSTAMP:20260421T013725
CREATED:20160221T115710Z
LAST-MODIFIED:20160224T150856Z
UID:5501-1457118000-1457121600@preproduccion.alpedrete.es
SUMMARY:Cuerdas del Corazón
DESCRIPTION:Recital de poesía y violín en honor al Día de la Mujer\, que se celebra el 8 de marzo. Intervienen Victoria Morejón (violín) y Saskia Sánchez (poesía). Repertorio poético inédito de Saskia Sánchez acompañado por obras compuestas por Victoria Morejón. Entrada libre hasta completar aforo.
URL:https://preproduccion.alpedrete.es/evento/cuerdas-del-corazon/
LOCATION:Casa de Cultura Asunción Balaguer\, Plaza Francisco Rabal\, 2\, Alpedrete\, Madrid\, 28430 \, España
CATEGORIES:Música
ATTACH;FMTTYPE=image/jpeg:https://preproduccion.alpedrete.es/wp-content/uploads/2016/02/Música-y-poesía.jpg
GEO:40.6621635;-4.031169
X-APPLE-STRUCTURED-LOCATION;VALUE=URI;X-ADDRESS=Casa de Cultura Asunción Balaguer Plaza Francisco Rabal 2 Alpedrete Madrid 28430  España;X-APPLE-RADIUS=500;X-TITLE=Plaza Francisco Rabal\, 2:geo:-4.031169,40.6621635
END:VEVENT
BEGIN:VEVENT
DTSTART;TZID=Europe/Madrid:20160302T090000
DTEND;TZID=Europe/Madrid:20160327T220000
DTSTAMP:20260421T013725
CREATED:20160222T125648Z
LAST-MODIFIED:20160222T125648Z
UID:5512-1456909200-1459116000@preproduccion.alpedrete.es
SUMMARY:Exposición: "Miguel de Unamuno. Dibujos"
DESCRIPTION:El dibujo para Unamuno era una herramienta de observación y plasmación que utiliza en la práctica como un cuaderno de notas visual. \nPara esta exposición de la Red Itiner de la Comunidad de Madrid se han seleccionado más de un centenar de los dibujos conservados en su archivo. En ellos aborda diversas temáticas que van desde la esfera más íntima y personal\, hasta escenas agrícolas\, o los motivos arquitectónicos y religiosos.
URL:https://preproduccion.alpedrete.es/evento/exposicion-miguel-de-unamuno-dibujos/
LOCATION:Casa de Cultura Asunción Balaguer\, Plaza Francisco Rabal\, 2\, Alpedrete\, Madrid\, 28430 \, España
CATEGORIES:Arte/Pintura
ATTACH;FMTTYPE=image/png:https://preproduccion.alpedrete.es/wp-content/uploads/2016/02/Imagen2.png
GEO:40.6621635;-4.031169
X-APPLE-STRUCTURED-LOCATION;VALUE=URI;X-ADDRESS=Casa de Cultura Asunción Balaguer Plaza Francisco Rabal 2 Alpedrete Madrid 28430  España;X-APPLE-RADIUS=500;X-TITLE=Plaza Francisco Rabal\, 2:geo:-4.031169,40.6621635
END:VEVENT
BEGIN:VEVENT
DTSTART;TZID=Europe/Madrid:20160227T200000
DTEND;TZID=Europe/Madrid:20160227T220000
DTSTAMP:20260421T013725
CREATED:20160203T120239Z
LAST-MODIFIED:20160517T135120Z
UID:4161-1456603200-1456610400@preproduccion.alpedrete.es
SUMMARY:Ópera. Marina de Emilio Arrieta
DESCRIPTION:Maravillosa producción de la Compañía Camerata Lírica de España\, que pone en escena esta espectacular ópera española con ambientación costumbrista\, decorados\, mobiliarios\, trajes de época… y lo más importante cuenta con seis grandes voces solistas y coro que hacen de esta producción una lección de belcanto en esta obra puntal de la historia de la lírica española. \nPrecio: 6€ entrada general y 3€ entrada reducida. Reserva anticipada de entradas desde el lunes 22 de febrero en la Casa de Cultura o en el 918571590.
URL:https://preproduccion.alpedrete.es/evento/opera-marina-de-emilio-arrieta/
LOCATION:Casa de Cultura Asunción Balaguer\, Plaza Francisco Rabal\, 2\, Alpedrete\, Madrid\, 28430 \, España
CATEGORIES:Música
ATTACH;FMTTYPE=image/jpeg:https://preproduccion.alpedrete.es/wp-content/uploads/2016/02/Opera.jpg
GEO:40.6621635;-4.031169
X-APPLE-STRUCTURED-LOCATION;VALUE=URI;X-ADDRESS=Casa de Cultura Asunción Balaguer Plaza Francisco Rabal 2 Alpedrete Madrid 28430  España;X-APPLE-RADIUS=500;X-TITLE=Plaza Francisco Rabal\, 2:geo:-4.031169,40.6621635
END:VEVENT
BEGIN:VEVENT
DTSTART;TZID=Europe/Madrid:20160222T080000
DTEND;TZID=Europe/Madrid:20160229T170000
DTSTAMP:20260421T013725
CREATED:20160221T093102Z
LAST-MODIFIED:20160221T093102Z
UID:5494-1456128000-1456765200@preproduccion.alpedrete.es
SUMMARY:Pinturas al óleo de Concepción Sesa
DESCRIPTION:Pintora naturalista. La exposición de su obra es un homenaje de su familia. Nació en Asturias en 1932. Estudió en la Escuela de Artes y Oficios de Madrid en su sección de Dibujo (1950-1952) y en el Centro Cultural Nicolás Salmerón de Madrid (1982-1987).
URL:https://preproduccion.alpedrete.es/evento/pinturas-al-oleo-de-concepcion-sesa/
LOCATION:Casa de Cultura Asunción Balaguer\, Plaza Francisco Rabal\, 2\, Alpedrete\, Madrid\, 28430 \, España
CATEGORIES:Arte/Pintura
ATTACH;FMTTYPE=image/jpeg:https://preproduccion.alpedrete.es/wp-content/uploads/2016/02/Scan0004.jpg
GEO:40.6621635;-4.031169
X-APPLE-STRUCTURED-LOCATION;VALUE=URI;X-ADDRESS=Casa de Cultura Asunción Balaguer Plaza Francisco Rabal 2 Alpedrete Madrid 28430  España;X-APPLE-RADIUS=500;X-TITLE=Plaza Francisco Rabal\, 2:geo:-4.031169,40.6621635
END:VEVENT
BEGIN:VEVENT
DTSTART;TZID=Europe/Madrid:20160220T183000
DTEND;TZID=Europe/Madrid:20160220T210000
DTSTAMP:20260421T013725
CREATED:20160203T113253Z
LAST-MODIFIED:20160203T142604Z
UID:4158-1455993000-1456002000@preproduccion.alpedrete.es
SUMMARY:Festival de Danza
DESCRIPTION:Actuación de los alumnos de la Escuela Municipal de Música y Danza de Alpedrete a cargo de la profesora Eva Centeno. Actuaciones de las disciplinas de Iniciación a la Danza\, Danza Española y Bailes de Salón. Entrada libre hasta completar aforo.
URL:https://preproduccion.alpedrete.es/evento/festival-de-danza/
LOCATION:Casa de Cultura Asunción Balaguer\, Plaza Francisco Rabal\, 2\, Alpedrete\, Madrid\, 28430 \, España
CATEGORIES:Baile/Danza
ATTACH;FMTTYPE=image/jpeg:https://preproduccion.alpedrete.es/wp-content/uploads/2016/02/Danza.jpg
GEO:40.6621635;-4.031169
X-APPLE-STRUCTURED-LOCATION;VALUE=URI;X-ADDRESS=Casa de Cultura Asunción Balaguer Plaza Francisco Rabal 2 Alpedrete Madrid 28430  España;X-APPLE-RADIUS=500;X-TITLE=Plaza Francisco Rabal\, 2:geo:-4.031169,40.6621635
END:VEVENT
BEGIN:VEVENT
DTSTART;VALUE=DATE:20160201
DTEND;VALUE=DATE:20160221
DTSTAMP:20260421T013725
CREATED:20160203T145948Z
LAST-MODIFIED:20160203T145948Z
UID:4222-1454284800-1456012799@preproduccion.alpedrete.es
SUMMARY:Exposición de fotografía\, PONTE EN MI PIEL
DESCRIPTION:PONTE EN MI PIEL es un proyecto multidisciplinar en el que se mezcla la fotografía con las sensaciones donde los espectadores son invitados a convertirse en modelos fotográficos\, a explorar sus impresiones. \nDel 1 al 20 de febrero en la sala de exposiciones de  la Casa de Cultura Asunción Balaguer
URL:https://preproduccion.alpedrete.es/evento/exposicion-de-fotografia-ponte-en-mi-piel/
LOCATION:Casa de Cultura Asunción Balaguer\, Plaza Francisco Rabal\, 2\, Alpedrete\, Madrid\, 28430 \, España
CATEGORIES:Fotografía
ATTACH;FMTTYPE=image/jpeg:https://preproduccion.alpedrete.es/wp-content/uploads/2016/02/Fotografía.jpg
GEO:40.6621635;-4.031169
X-APPLE-STRUCTURED-LOCATION;VALUE=URI;X-ADDRESS=Casa de Cultura Asunción Balaguer Plaza Francisco Rabal 2 Alpedrete Madrid 28430  España;X-APPLE-RADIUS=500;X-TITLE=Plaza Francisco Rabal\, 2:geo:-4.031169,40.6621635
END:VEVENT
END:VCALENDAR