BEGIN:VCALENDAR
VERSION:2.0
PRODID:-//Web Ayuntamiento de Alpedrete - ECPv6.9.0//NONSGML v1.0//EN
CALSCALE:GREGORIAN
METHOD:PUBLISH
X-ORIGINAL-URL:https://preproduccion.alpedrete.es
X-WR-CALDESC:Eventos para Web Ayuntamiento de Alpedrete
REFRESH-INTERVAL;VALUE=DURATION:PT1H
X-Robots-Tag:noindex
X-PUBLISHED-TTL:PT1H
BEGIN:VTIMEZONE
TZID:Europe/Madrid
BEGIN:DAYLIGHT
TZOFFSETFROM:+0100
TZOFFSETTO:+0200
TZNAME:CEST
DTSTART:20160327T010000
END:DAYLIGHT
BEGIN:STANDARD
TZOFFSETFROM:+0200
TZOFFSETTO:+0100
TZNAME:CET
DTSTART:20161030T010000
END:STANDARD
BEGIN:DAYLIGHT
TZOFFSETFROM:+0100
TZOFFSETTO:+0200
TZNAME:CEST
DTSTART:20170326T010000
END:DAYLIGHT
BEGIN:STANDARD
TZOFFSETFROM:+0200
TZOFFSETTO:+0100
TZNAME:CET
DTSTART:20171029T010000
END:STANDARD
BEGIN:DAYLIGHT
TZOFFSETFROM:+0100
TZOFFSETTO:+0200
TZNAME:CEST
DTSTART:20180325T010000
END:DAYLIGHT
BEGIN:STANDARD
TZOFFSETFROM:+0200
TZOFFSETTO:+0100
TZNAME:CET
DTSTART:20181028T010000
END:STANDARD
BEGIN:DAYLIGHT
TZOFFSETFROM:+0100
TZOFFSETTO:+0200
TZNAME:CEST
DTSTART:20190331T010000
END:DAYLIGHT
BEGIN:STANDARD
TZOFFSETFROM:+0200
TZOFFSETTO:+0100
TZNAME:CET
DTSTART:20191027T010000
END:STANDARD
BEGIN:DAYLIGHT
TZOFFSETFROM:+0100
TZOFFSETTO:+0200
TZNAME:CEST
DTSTART:20200329T010000
END:DAYLIGHT
BEGIN:STANDARD
TZOFFSETFROM:+0200
TZOFFSETTO:+0100
TZNAME:CET
DTSTART:20201025T010000
END:STANDARD
END:VTIMEZONE
BEGIN:VEVENT
DTSTART;TZID=Europe/Madrid:20200130T173000
DTEND;TZID=Europe/Madrid:20200130T193000
DTSTAMP:20260420T171859
CREATED:20200110T132714Z
LAST-MODIFIED:20200120T135500Z
UID:29066-1580405400-1580412600@preproduccion.alpedrete.es
SUMMARY:Autoestima para padres y madres
DESCRIPTION:Iniciamos el año con una nueva sesión del programa «Espacio para familias» de la Mancomunidad de Servicios Sociales THAM\, en este caso dirigida a familias con menores de cualquier edad. En el taller «Autoestima para padres y madres» vamos a abordar la importancia de desarrollar una autoestima personal saludable\, que nos ayude a mejorar nuestra labor educativa y de apoyo y a generar un clima emocional más estable para nuestros hijos e hijas. \nLa sesión será impartida por Lucía Morales Pascual (psicóloga y coach social) el jueves 30 de enero de 17:30 a 19:30 horas en el CEIP Clara Campoamor.
URL:https://preproduccion.alpedrete.es/evento/autoestima-para-padres-y-madres/
LOCATION:CEIP Clara Campoamor\, C/ Campo de Fútbol\, 4\, Alpedrete\, Madrid\, 28430\, España
CATEGORIES:Taller
ATTACH;FMTTYPE=image/jpeg:https://preproduccion.alpedrete.es/wp-content/uploads/2020/01/padres-familia.jpg
GEO:40.6621635;-4.031169
X-APPLE-STRUCTURED-LOCATION;VALUE=URI;X-ADDRESS=CEIP Clara Campoamor C/ Campo de Fútbol 4 Alpedrete Madrid 28430 España;X-APPLE-RADIUS=500;X-TITLE=C/ Campo de Fútbol\, 4:geo:-4.031169,40.6621635
END:VEVENT
BEGIN:VEVENT
DTSTART;TZID=Europe/Madrid:20191125T173000
DTEND;TZID=Europe/Madrid:20191125T193000
DTSTAMP:20260420T171859
CREATED:20191115T131940Z
LAST-MODIFIED:20191115T131940Z
UID:28417-1574703000-1574710200@preproduccion.alpedrete.es
SUMMARY:Vínculos emocionales de calidad con nuestros hijos e hijas
DESCRIPTION:Taller organizado dentro del Espacio para familias\, de la Mancomunidad de Servicios Sociales THAM. Dirigido a familias con menores de hasta 11 años. \nEl establecimiento de vínculos seguros con nuestros hijos e hijas es clave para su adecuado desarrollo. Si tienes dudas sobre qué es el apego seguro\, o quieres conocer pautas para favorecerlo\, no te pierdas esta sesión en la que\, además\, hablaremos de las 16 necesidades básicas de nuestros hijos e hijas. \nPara ello contaremos con Rafael Guerrero Tomás\, licenciado en Psicología clínica y de la salud\, doctor en Educación y autor\, entre otros\, del libro «Educación emocional y apego. Pautas prácticas para gestionar las emociones en casa y en el aula» (Grupo Planeta\, 2018). \nAcceso libre y gratuito hasta completar aforo\, con posibilidad de cuidados infantiles solicitándolo con antelación en Servicios Sociales. \n \n 
URL:https://preproduccion.alpedrete.es/evento/vinculos-emocionales-de-calidad-con-nuestros-hijos-e-hijas/
LOCATION:CEIP Clara Campoamor\, C/ Campo de Fútbol\, 4\, Alpedrete\, Madrid\, 28430\, España
CATEGORIES:Taller
ATTACH;FMTTYPE=image/jpeg:https://preproduccion.alpedrete.es/wp-content/uploads/2019/11/espacio-para-familias-tham.jpg
GEO:40.6621635;-4.031169
X-APPLE-STRUCTURED-LOCATION;VALUE=URI;X-ADDRESS=CEIP Clara Campoamor C/ Campo de Fútbol 4 Alpedrete Madrid 28430 España;X-APPLE-RADIUS=500;X-TITLE=C/ Campo de Fútbol\, 4:geo:-4.031169,40.6621635
END:VEVENT
BEGIN:VEVENT
DTSTART;TZID=Europe/Madrid:20191009T173000
DTEND;TZID=Europe/Madrid:20191009T193000
DTSTAMP:20260420T171859
CREATED:20191004T111950Z
LAST-MODIFIED:20191004T111950Z
UID:27910-1570642200-1570649400@preproduccion.alpedrete.es
SUMMARY:En busca de su autonomía digital
DESCRIPTION:Monográfico dentro de la programación  de la Mancomunidad de Servicios Sociales THAM Espacio para Familias. «En busca de su autonomía digital: Smartphone\, videojuegos\, RRSS\, apuestas online\, pornografía\,…». Dirigido a familias con menores pre/adolescentes. \n\nDespués de conocer los facilitadores de la conducta adictiva y criterios que identifican usos patológicos\, conoceremos como detectar dichas conductas y fomentar la autorregulación de uso de la tecnología entre nuestras hijas e hijos. \n9 de octubre\, de 17:30 a 19:30 h \, en el CEIP Clara Campoamor. Acceso libre y gratuito hasta completar aforo\, con posibilidad de cuidados infantiles solicitándolo con antelación en Servicios Sociales.
URL:https://preproduccion.alpedrete.es/evento/en-busca-de-su-autonomia-digital/
LOCATION:CEIP Clara Campoamor\, C/ Campo de Fútbol\, 4\, Alpedrete\, Madrid\, 28430\, España
CATEGORIES:Escuela de Familia
ATTACH;FMTTYPE=image/jpeg:https://preproduccion.alpedrete.es/wp-content/uploads/2017/11/adicción-videojuegos.jpg
GEO:40.6621635;-4.031169
X-APPLE-STRUCTURED-LOCATION;VALUE=URI;X-ADDRESS=CEIP Clara Campoamor C/ Campo de Fútbol 4 Alpedrete Madrid 28430 España;X-APPLE-RADIUS=500;X-TITLE=C/ Campo de Fútbol\, 4:geo:-4.031169,40.6621635
END:VEVENT
BEGIN:VEVENT
DTSTART;TZID=Europe/Madrid:20190531T170000
DTEND;TZID=Europe/Madrid:20190531T190000
DTSTAMP:20260420T171859
CREATED:20160328T134936Z
LAST-MODIFIED:20190530T114356Z
UID:6218-1559322000-1559329200@preproduccion.alpedrete.es
SUMMARY:Risoterapia en Familia
DESCRIPTION:Taller gratuito dirigido a familias con menores entre 4 y 11 años\, organizado por la Escuela de Familia de la Mancomunidad de Servicios Sociales THAM. \nA través de dinámicas de juego y risoterapia\, las familias podrán compartir y divertirse en un ambiente ameno\, aprendiendo tanto padres como hijos\, otros registros de comunicación. La risa y el sentido del humor nos ayudan a canalizar el estrés y las emociones del día a día. \nAcceso libre y gratuito hasta completar aforo\, con posibilidad de cuidados infantiles solicitándolo con antelación en Servicios Sociales. \n  \n  \n 
URL:https://preproduccion.alpedrete.es/evento/risoterapia-en-familia/
LOCATION:CEIP Clara Campoamor\, C/ Campo de Fútbol\, 4\, Alpedrete\, Madrid\, 28430\, España
CATEGORIES:Taller
ATTACH;FMTTYPE=image/jpeg:https://preproduccion.alpedrete.es/wp-content/uploads/2016/03/movimiento-risa-y-danza.jpg
GEO:40.6621635;-4.031169
X-APPLE-STRUCTURED-LOCATION;VALUE=URI;X-ADDRESS=CEIP Clara Campoamor C/ Campo de Fútbol 4 Alpedrete Madrid 28430 España;X-APPLE-RADIUS=500;X-TITLE=C/ Campo de Fútbol\, 4:geo:-4.031169,40.6621635
END:VEVENT
BEGIN:VEVENT
DTSTART;TZID=Europe/Madrid:20190130T173000
DTEND;TZID=Europe/Madrid:20190130T193000
DTSTAMP:20260420T171859
CREATED:20190116T131254Z
LAST-MODIFIED:20190116T131254Z
UID:24657-1548869400-1548876600@preproduccion.alpedrete.es
SUMMARY:Como criar nin@s seguros
DESCRIPTION:Iniciamos el año con una nueva sesión del programa «Espacio para familias» de la Mancomunidad de Servicios Sociales THAM\, en este caso dirigida a familias con menores de 6 años.  En «Cómo criar niños y niñas seguros» vamos a abordar la importancia del apego para proteger y fomentar la autonomía en los menores. Durante la sesión\, profundizaremos en las bases de las relaciones afectivas seguras entre adultos y pequeños de la familia\, necesarias para protegerlos y fomentar su autonomía. \n30 de enero de 17:30 a 19:30 horas en el CEIP Clara Campoamor. \nInscripción previa en el Centro Municipal de Servicios Sociales\, con posibilidad de cuidados infantiles solicitándolo en el momento de la inscripción.
URL:https://preproduccion.alpedrete.es/evento/como-criar-nins-seguros/
LOCATION:CEIP Clara Campoamor\, C/ Campo de Fútbol\, 4\, Alpedrete\, Madrid\, 28430\, España
CATEGORIES:Escuela de Familia
ATTACH;FMTTYPE=image/jpeg:https://preproduccion.alpedrete.es/wp-content/uploads/2019/01/espacio-para-familias-THAM.jpg
GEO:40.6621635;-4.031169
X-APPLE-STRUCTURED-LOCATION;VALUE=URI;X-ADDRESS=CEIP Clara Campoamor C/ Campo de Fútbol 4 Alpedrete Madrid 28430 España;X-APPLE-RADIUS=500;X-TITLE=C/ Campo de Fútbol\, 4:geo:-4.031169,40.6621635
END:VEVENT
BEGIN:VEVENT
DTSTART;TZID=Europe/Madrid:20181203T173000
DTEND;TZID=Europe/Madrid:20181203T193000
DTSTAMP:20260420T171859
CREATED:20181122T142753Z
LAST-MODIFIED:20181122T143326Z
UID:23940-1543858200-1543865400@preproduccion.alpedrete.es
SUMMARY:Cómo hacer frente al “No me da la vida”
DESCRIPTION:Además de identificar a nuestro enemigo interno\,  en esta sesión aprenderemos cómo aprovechar nuestras habilidades para gestionar las trampas psicológicas que nos pone\, mejorando así nuestra calidad de vida personal y familiar. 3 de diciembre a las 17:30 horas en el CEIP Clara Campoamor. \nTaller gratuito\, previa inscripción en la Mancomunidad de Servicios Sociales THAM o en el teléfono 91 8508080. Posibilidad de cuidados infantiles solicitándolo en el momento de la inscripción.
URL:https://preproduccion.alpedrete.es/evento/como-hacer-frente-al-no-me-da-la-vida/
LOCATION:CEIP Clara Campoamor\, C/ Campo de Fútbol\, 4\, Alpedrete\, Madrid\, 28430\, España
CATEGORIES:Taller
ATTACH;FMTTYPE=image/jpeg:https://preproduccion.alpedrete.es/wp-content/uploads/2018/11/mujer-estres.jpg
GEO:40.6621635;-4.031169
X-APPLE-STRUCTURED-LOCATION;VALUE=URI;X-ADDRESS=CEIP Clara Campoamor C/ Campo de Fútbol 4 Alpedrete Madrid 28430 España;X-APPLE-RADIUS=500;X-TITLE=C/ Campo de Fútbol\, 4:geo:-4.031169,40.6621635
END:VEVENT
BEGIN:VEVENT
DTSTART;TZID=Europe/Madrid:20180509T173000
DTEND;TZID=Europe/Madrid:20180509T193000
DTSTAMP:20260420T171859
CREATED:20180503T110654Z
LAST-MODIFIED:20180503T110731Z
UID:20770-1525887000-1525894200@preproduccion.alpedrete.es
SUMMARY:Flamenco y solución de "apuros" familiares
DESCRIPTION:El flamenco será la excusa para poder expresar intensamente nuestras emociones\, entrenándonos en habilidades de comunicación e inteligencia emocional y canalizando la rabia\, vivenciando el orgullo y el poderío\, expresando nuestra alegría\, soltando todo el estrés … \nTaller perteneciente a la Escuela de Familia de la Mancomunidad de Servicios Sociales THAM\, para familias con menores de cualquier edad. Gratuito.
URL:https://preproduccion.alpedrete.es/evento/flamenco-solucion-apuros-familiares/
LOCATION:CEIP Clara Campoamor\, C/ Campo de Fútbol\, 4\, Alpedrete\, Madrid\, 28430\, España
CATEGORIES:Escuela de Familia
ATTACH;FMTTYPE=image/jpeg:https://preproduccion.alpedrete.es/wp-content/uploads/2017/11/Escuela-de-familia-430x323.jpg
GEO:40.6621635;-4.031169
X-APPLE-STRUCTURED-LOCATION;VALUE=URI;X-ADDRESS=CEIP Clara Campoamor C/ Campo de Fútbol 4 Alpedrete Madrid 28430 España;X-APPLE-RADIUS=500;X-TITLE=C/ Campo de Fútbol\, 4:geo:-4.031169,40.6621635
END:VEVENT
BEGIN:VEVENT
DTSTART;TZID=Europe/Madrid:20180314T173000
DTEND;TZID=Europe/Madrid:20180314T193000
DTSTAMP:20260420T171859
CREATED:20180219T124708Z
LAST-MODIFIED:20180219T124708Z
UID:19748-1521048600-1521055800@preproduccion.alpedrete.es
SUMMARY:Cómo hablar de sexo con tus hijos e hijas… sin morir en el intento
DESCRIPTION:Taller organizado dentro de las actividades de la Escuela de Familia de la Mancomunidad de Servicios Sociales THAM. \nConoceremos las principales fuentes de educación sexual en la actualidad\, y en consecuencia\, los principales mitos\, además de las razones para hablar de educación sexual en la familia. Se conocerán las inquietudes y necesidades de los menores según la etapa evolutiva y las técnicas de comunicación efectivas\, facilitadores y obstaculizadores de la información\, además de la prevención de posibles conflictos. \nPara familias con  menores hasta 10 años. Inscripción previa en el Centros Municipales de Servicios Sociales\, con posibilidad de cuidados infantiles solicitándolo en el momento de la inscripción. 14 de marzo a las 17:30 horas en el CEIP Clara Campoamor.
URL:https://preproduccion.alpedrete.es/evento/hablar-sexo-tus-hijos-e-hijas-sin-morir-intento/
LOCATION:CEIP Clara Campoamor\, C/ Campo de Fútbol\, 4\, Alpedrete\, Madrid\, 28430\, España
CATEGORIES:Taller
ATTACH;FMTTYPE=image/jpeg:https://preproduccion.alpedrete.es/wp-content/uploads/2018/02/igualdad-masculino-femenino.jpg
GEO:40.6621635;-4.031169
X-APPLE-STRUCTURED-LOCATION;VALUE=URI;X-ADDRESS=CEIP Clara Campoamor C/ Campo de Fútbol 4 Alpedrete Madrid 28430 España;X-APPLE-RADIUS=500;X-TITLE=C/ Campo de Fútbol\, 4:geo:-4.031169,40.6621635
END:VEVENT
BEGIN:VEVENT
DTSTART;TZID=Europe/Madrid:20180131T173000
DTEND;TZID=Europe/Madrid:20180131T193000
DTSTAMP:20260420T171859
CREATED:20180123T143303Z
LAST-MODIFIED:20180123T143709Z
UID:19290-1517419800-1517427000@preproduccion.alpedrete.es
SUMMARY:ITV emocional para padres y madres
DESCRIPTION:Taller perteneciente a la Escuela de Familia de la Mancomunidad de Servicios Sociales THAM.  \nEn esta sesión\, aprenderemos a identificar las necesidades emocionales que presentan nuestras hijas e hijos\, permitiendo y facilitando su gestión. \nAdemás\, aprenderemos también cómo identificar\, respetar\, gestionar y expresar nuestras emociones y las de nuestros hijos e hijas en la dinámica y convivencia familiar\, incorporando herramientas de gestión emocional\, que permitan reducir las tensiones cotidianas de forma saludable y positiva. \nPara familias con menores de cualquier edad. 31 de enero y 7 de febrero a las 17:30 horas. Lugar: CEIP Clara Campoamor. Necesaria inscripción en la Mancomunidad de Servicios Sociales.
URL:https://preproduccion.alpedrete.es/evento/itv-emocional-padres-madres/2018-01-31/
LOCATION:CEIP Clara Campoamor\, C/ Campo de Fútbol\, 4\, Alpedrete\, Madrid\, 28430\, España
CATEGORIES:Escuela de Familia
ATTACH;FMTTYPE=image/jpeg:https://preproduccion.alpedrete.es/wp-content/uploads/2018/01/familia-madre-hija.jpg
GEO:40.6621635;-4.031169
X-APPLE-STRUCTURED-LOCATION;VALUE=URI;X-ADDRESS=CEIP Clara Campoamor C/ Campo de Fútbol 4 Alpedrete Madrid 28430 España;X-APPLE-RADIUS=500;X-TITLE=C/ Campo de Fútbol\, 4:geo:-4.031169,40.6621635
END:VEVENT
BEGIN:VEVENT
DTSTART;TZID=Europe/Madrid:20171122T173000
DTEND;TZID=Europe/Madrid:20171122T193000
DTSTAMP:20260420T171859
CREATED:20171117T152421Z
LAST-MODIFIED:20171117T152421Z
UID:18143-1511371800-1511379000@preproduccion.alpedrete.es
SUMMARY:Taller: Uso\, abuso y adicción a videojuegos
DESCRIPTION:Taller dentro de las actividades programadas en la Escuela de Familia de la Mancomunidad de Servicios Sociales THAM. \nEn la sesión\, aprenderemos a identificar conductas de uso\, abuso y adicción\, siendo capaces de detectar las señales de abstinencia y dependencia. Además\, veremos cómo saber si una aplicación (app) puede causar estos problemas analizando casos concretos y conoceremos técnicas para intervenir desde la familia. \nFinalmente\, analizaremos el problema de la sobreestimulación en la infancia y adolescencia. \n 22 de noviembre de 17:30 a 19:30 horas en el CEIP Clara Campoamor. Sesión impartida por Guillermo Cánovas.
URL:https://preproduccion.alpedrete.es/evento/taller-uso-abuso-adiccion-videojuegos/
LOCATION:CEIP Clara Campoamor\, C/ Campo de Fútbol\, 4\, Alpedrete\, Madrid\, 28430\, España
CATEGORIES:Taller
ATTACH;FMTTYPE=image/jpeg:https://preproduccion.alpedrete.es/wp-content/uploads/2017/11/adicción-videojuegos.jpg
GEO:40.6621635;-4.031169
X-APPLE-STRUCTURED-LOCATION;VALUE=URI;X-ADDRESS=CEIP Clara Campoamor C/ Campo de Fútbol 4 Alpedrete Madrid 28430 España;X-APPLE-RADIUS=500;X-TITLE=C/ Campo de Fútbol\, 4:geo:-4.031169,40.6621635
END:VEVENT
BEGIN:VEVENT
DTSTART;TZID=Europe/Madrid:20171004T173000
DTEND;TZID=Europe/Madrid:20171004T193000
DTSTAMP:20260420T171859
CREATED:20170929T134046Z
LAST-MODIFIED:20170929T134312Z
UID:17396-1507138200-1507145400@preproduccion.alpedrete.es
SUMMARY:Inteligencia emocional en la red
DESCRIPTION:Taller perteneciente a la Escuela de Familia de la Mancomunidad de Servicios Sociales THAM. \nInternet y las redes sociales están cada vez más presentes en la vida de todos\, también en la de nuestros hijos\, por lo que es muy importante saber cómo manejar los sentimientos en este entorno\, si son reales o no\, cómo funciona la empatía digital y cómo desarrollarla en nuestro hijos e hijas. Además\, hablaremos también de cómo actuar ante el ciberbullying o acoso en Internet\, aprendiendo a identificar las situaciones de control de la pareja a través de la tecnología y a cómo actuar si es necesario. \nEs necesaria la inscripción previa en el Centro Municipal de Servicios Sociales\, con posibilidad de cuidados infantiles solicitándolo en el momento de la inscripción. \n 
URL:https://preproduccion.alpedrete.es/evento/inteligencia-emocional-la-red/
LOCATION:CEIP Clara Campoamor\, C/ Campo de Fútbol\, 4\, Alpedrete\, Madrid\, 28430\, España
CATEGORIES:Escuela de Familia
ATTACH;FMTTYPE=image/jpeg:https://preproduccion.alpedrete.es/wp-content/uploads/2016/09/Escuela-de-familia.jpg
GEO:40.6621635;-4.031169
X-APPLE-STRUCTURED-LOCATION;VALUE=URI;X-ADDRESS=CEIP Clara Campoamor C/ Campo de Fútbol 4 Alpedrete Madrid 28430 España;X-APPLE-RADIUS=500;X-TITLE=C/ Campo de Fútbol\, 4:geo:-4.031169,40.6621635
END:VEVENT
BEGIN:VEVENT
DTSTART;TZID=Europe/Madrid:20170329T173000
DTEND;TZID=Europe/Madrid:20170329T183000
DTSTAMP:20260420T171859
CREATED:20170125T141630Z
LAST-MODIFIED:20170125T141630Z
UID:11479-1490808600-1490812200@preproduccion.alpedrete.es
SUMMARY:Madres y padres emocionalmente inteligentes... también en vacaciones
DESCRIPTION:La Mancomunidad THAM de Servicios Sociales (Torrelodones\, Hoyo de Manzanares\, Alpedrete y Moralzarzal) ha puesto en marcha los cursos de la Escuela de Familia para el primer trimestre de 2017. Con servicio de cuidados infantiles gratuíto solicitándolo en el momento de la inscripción previa. \nMás información en el Centro Municipal de Servicios Sociales (91 850 80 80) y en www.mancomunidad-tham.es
URL:https://preproduccion.alpedrete.es/evento/madres-padres-emocionalmente-inteligentes-tambien-vacaciones/
LOCATION:CEIP Clara Campoamor\, C/ Campo de Fútbol\, 4\, Alpedrete\, Madrid\, 28430\, España
CATEGORIES:Escuela de Familia
ATTACH;FMTTYPE=image/jpeg:https://preproduccion.alpedrete.es/wp-content/uploads/2016/09/Escuela-de-familia.jpg
GEO:40.6621635;-4.031169
X-APPLE-STRUCTURED-LOCATION;VALUE=URI;X-ADDRESS=CEIP Clara Campoamor C/ Campo de Fútbol 4 Alpedrete Madrid 28430 España;X-APPLE-RADIUS=500;X-TITLE=C/ Campo de Fútbol\, 4:geo:-4.031169,40.6621635
END:VEVENT
BEGIN:VEVENT
DTSTART;TZID=Europe/Madrid:20170208T173000
DTEND;TZID=Europe/Madrid:20170208T183000
DTSTAMP:20260420T171859
CREATED:20170123T142335Z
LAST-MODIFIED:20170123T142335Z
UID:11448-1486575000-1486578600@preproduccion.alpedrete.es
SUMMARY:Cómo detectar y qué hacer si su hij@ sufre acoso escolar
DESCRIPTION:La Mancomunidad THAM de Servicios Sociales (Torrelodones\, Hoyo de Manzanares\, Alpedrete y Moralzarzal) ha puesto en marcha los cursos de la Escuela de Familia para el primer trimestre de 2017. \nCon servicio de cuidados infantiles gratuíto solicitándolo en el momento de la inscripción previa. \nMás información en el Centro Municipal de Servicios Sociales (91 850 80 80) y en www.mancomunidad-tham.es
URL:https://preproduccion.alpedrete.es/evento/detectar-hij-sufre-acoso-escolar/
LOCATION:CEIP Clara Campoamor\, C/ Campo de Fútbol\, 4\, Alpedrete\, Madrid\, 28430\, España
CATEGORIES:Escuela de Familia
ATTACH;FMTTYPE=image/jpeg:https://preproduccion.alpedrete.es/wp-content/uploads/2016/09/Escuela-de-familia.jpg
GEO:40.6621635;-4.031169
X-APPLE-STRUCTURED-LOCATION;VALUE=URI;X-ADDRESS=CEIP Clara Campoamor C/ Campo de Fútbol 4 Alpedrete Madrid 28430 España;X-APPLE-RADIUS=500;X-TITLE=C/ Campo de Fútbol\, 4:geo:-4.031169,40.6621635
END:VEVENT
BEGIN:VEVENT
DTSTART;TZID=Europe/Madrid:20161130T173000
DTEND;TZID=Europe/Madrid:20161130T193000
DTSTAMP:20260420T171859
CREATED:20160921T105339Z
LAST-MODIFIED:20160921T105339Z
UID:9385-1480527000-1480534200@preproduccion.alpedrete.es
SUMMARY:Comunicación en la familia y prevención del consumo de tabaco y alcohol en nuestros hijos e hijas menores de edad
DESCRIPTION:La Mancomunidad THAM de Servicios Sociales (Torrelodones\, Hoyo de Manzanares\, Alpedrete y Moralzarzal) ha puesto en marcha los cursos de la Escuela de Familia para el último trimestre de 2016\, siendo este el sexto y último de sus monográficos: «Comunicación en la familia y prevención del consumo de tabaco y alcohol en nuestros hijos e hijas menores de edad» \nPara familias con menores de cualquier edad. Con servicio de cuidados infantiles gratuíto solicitándolo en el momento de la inscripción previa. \nMás información en el Centro Municipal de Servicios Sociales y en www.mancomunidad-tham.es \n 
URL:https://preproduccion.alpedrete.es/evento/comunicacion-la-familia-prevencion-del-consumo-tabaco-alcohol-hijos-e-hijas-menores-edad/
LOCATION:CEIP Clara Campoamor\, C/ Campo de Fútbol\, 4\, Alpedrete\, Madrid\, 28430\, España
CATEGORIES:Escuela de Familia
ATTACH;FMTTYPE=image/jpeg:https://preproduccion.alpedrete.es/wp-content/uploads/2016/09/Escuela-de-familia.jpg
GEO:40.6621635;-4.031169
X-APPLE-STRUCTURED-LOCATION;VALUE=URI;X-ADDRESS=CEIP Clara Campoamor C/ Campo de Fútbol 4 Alpedrete Madrid 28430 España;X-APPLE-RADIUS=500;X-TITLE=C/ Campo de Fútbol\, 4:geo:-4.031169,40.6621635
END:VEVENT
BEGIN:VEVENT
DTSTART;TZID=Europe/Madrid:20161123T173000
DTEND;TZID=Europe/Madrid:20161123T193000
DTSTAMP:20260420T171859
CREATED:20160921T083923Z
LAST-MODIFIED:20160921T083923Z
UID:9381-1479922200-1479929400@preproduccion.alpedrete.es
SUMMARY:Cómo proteger a nuestros hijos e hijas sin quitarles la responsabilidad. Desarrollo de conductas responsables
DESCRIPTION:La Mancomunidad THAM de Servicios Sociales (Torrelodones\, Hoyo de Manzanares\, Alpedrete y Moralzarzal) ha puesto en marcha los cursos de la Escuela de Familia para el último trimestre de 2016\, siendo este el quinto de sus monográficos: » Cómo proteger a nuestros hijos e hijas sin quitarles la responsabilidad. Desarrollo de conductas responsables». \nLos niños necesitan\, y nos piden\, pautas claras y que les acompañemos\, pero igualmente necesitan hacer las cosas por ellos mismos…¿Cómo podemos conseguir un equilibrio adecuado? \nPara familias con menores entre 6 y 11 años. Con servicio de cuidados infantiles gratuíto solicitándolo en el momento de la inscripción previa. \nMás información en el Centro Municipal de Servicios Sociales y en www.mancomunidad-tham.es \n 
URL:https://preproduccion.alpedrete.es/evento/proteger-hijos-e-hijas-sin-quitarles-la-responsabilidad-desarrollo-conductas-responsables/
LOCATION:CEIP Clara Campoamor\, C/ Campo de Fútbol\, 4\, Alpedrete\, Madrid\, 28430\, España
CATEGORIES:Escuela de Familia
ATTACH;FMTTYPE=image/jpeg:https://preproduccion.alpedrete.es/wp-content/uploads/2016/09/Escuela-de-familia.jpg
GEO:40.6621635;-4.031169
X-APPLE-STRUCTURED-LOCATION;VALUE=URI;X-ADDRESS=CEIP Clara Campoamor C/ Campo de Fútbol 4 Alpedrete Madrid 28430 España;X-APPLE-RADIUS=500;X-TITLE=C/ Campo de Fútbol\, 4:geo:-4.031169,40.6621635
END:VEVENT
BEGIN:VEVENT
DTSTART;TZID=Europe/Madrid:20161005T173000
DTEND;TZID=Europe/Madrid:20161005T193000
DTSTAMP:20260420T171859
CREATED:20160921T074033Z
LAST-MODIFIED:20160921T074033Z
UID:9369-1475688600-1475695800@preproduccion.alpedrete.es
SUMMARY:Entrenamiento en asertividad (comunicación práctica para no discutir)
DESCRIPTION:La Mancomunidad THAM de Servicios Sociales (Torrelodones\, Hoyo de Manzanares\, Alpedrete y Moralzarzal) ha puesto en marcha los cursos de la Escuela de Familia para el último trimestre de 2016\, siendo este el segundo de sus monográficos:  «Entrenamiento en asertividad (comunicación práctica para no discutir)». Trabajaremos con herramientas que nos ayudarán a manejar las tensiones y afrontar las frustraciones y los conflictos con nuestros hijos e hijas\, resolviéndolos de una manera más adecuada. \nPara familias con menores de cualquier edad. Con servicio de cuidados infantiles gratuíto solicitándolo en el momento de la inscripción previa. \nMás información en el Centro Municipal de Servicios Sociales y en www.mancomunidad-tham.es \n 
URL:https://preproduccion.alpedrete.es/evento/entrenamiento-asertividad-comunicacion-practica-no-discutir/
LOCATION:CEIP Clara Campoamor\, C/ Campo de Fútbol\, 4\, Alpedrete\, Madrid\, 28430\, España
CATEGORIES:Escuela de Familia
ATTACH;FMTTYPE=image/jpeg:https://preproduccion.alpedrete.es/wp-content/uploads/2016/09/Escuela-de-familia.jpg
GEO:40.6621635;-4.031169
X-APPLE-STRUCTURED-LOCATION;VALUE=URI;X-ADDRESS=CEIP Clara Campoamor C/ Campo de Fútbol 4 Alpedrete Madrid 28430 España;X-APPLE-RADIUS=500;X-TITLE=C/ Campo de Fútbol\, 4:geo:-4.031169,40.6621635
END:VEVENT
BEGIN:VEVENT
DTSTART;TZID=Europe/Madrid:20160509T173000
DTEND;TZID=Europe/Madrid:20160509T193000
DTSTAMP:20260420T171859
CREATED:20160329T105415Z
LAST-MODIFIED:20160329T105415Z
UID:6238-1462815000-1462822200@preproduccion.alpedrete.es
SUMMARY:Cómo te cuento... un cuento
DESCRIPTION:Taller gratuito dirigido a familias con hijos e hijas hasta 8 años\, organizado por la Escuela de Familia de la Mancomunidad de Servicios Sociales THAM. \nDisfrutaremos creando cuentos y narraciones para expresar sentimientos y emociones\, propios y ajenos. El taller está programado en dos sesiones: 9 y 16 de mayo a las 17:30 h\,  en CEIP Clara Campoamor. (C/ Campo de Fútbol\, 4). \nLa asistencia es libre previa inscripción en Servicios Sociales (Cl Pozo Nuevo\, 4-6\, teléfono 91 850 80 80). \nMás información: http://preproduccion.alpedrete.es/programacion-de-la-escuela-de-familia/
URL:https://preproduccion.alpedrete.es/evento/como-te-cuento-un-cuento/2016-05-09/
LOCATION:CEIP Clara Campoamor\, C/ Campo de Fútbol\, 4\, Alpedrete\, Madrid\, 28430\, España
CATEGORIES:Taller
ATTACH;FMTTYPE=image/jpeg:https://preproduccion.alpedrete.es/wp-content/uploads/2016/03/US_Navy_081123-N-7862M-001_Students_from_the_Bahrain_School_share_an_interactive_reading_experience_with_U.S._Naval_Support_Activity_Bahrain_Command_Master_Chief_Randy_Shoe_during.jpg
GEO:40.6621635;-4.031169
X-APPLE-STRUCTURED-LOCATION;VALUE=URI;X-ADDRESS=CEIP Clara Campoamor C/ Campo de Fútbol 4 Alpedrete Madrid 28430 España;X-APPLE-RADIUS=500;X-TITLE=C/ Campo de Fútbol\, 4:geo:-4.031169,40.6621635
END:VEVENT
END:VCALENDAR