BEGIN:VCALENDAR
VERSION:2.0
PRODID:-//Web Ayuntamiento de Alpedrete - ECPv6.9.0//NONSGML v1.0//EN
CALSCALE:GREGORIAN
METHOD:PUBLISH
X-ORIGINAL-URL:https://preproduccion.alpedrete.es
X-WR-CALDESC:Eventos para Web Ayuntamiento de Alpedrete
REFRESH-INTERVAL;VALUE=DURATION:PT1H
X-Robots-Tag:noindex
X-PUBLISHED-TTL:PT1H
BEGIN:VTIMEZONE
TZID:Europe/Madrid
BEGIN:DAYLIGHT
TZOFFSETFROM:+0100
TZOFFSETTO:+0200
TZNAME:CEST
DTSTART:20160327T010000
END:DAYLIGHT
BEGIN:STANDARD
TZOFFSETFROM:+0200
TZOFFSETTO:+0100
TZNAME:CET
DTSTART:20161030T010000
END:STANDARD
BEGIN:DAYLIGHT
TZOFFSETFROM:+0100
TZOFFSETTO:+0200
TZNAME:CEST
DTSTART:20170326T010000
END:DAYLIGHT
BEGIN:STANDARD
TZOFFSETFROM:+0200
TZOFFSETTO:+0100
TZNAME:CET
DTSTART:20171029T010000
END:STANDARD
BEGIN:DAYLIGHT
TZOFFSETFROM:+0100
TZOFFSETTO:+0200
TZNAME:CEST
DTSTART:20180325T010000
END:DAYLIGHT
BEGIN:STANDARD
TZOFFSETFROM:+0200
TZOFFSETTO:+0100
TZNAME:CET
DTSTART:20181028T010000
END:STANDARD
BEGIN:DAYLIGHT
TZOFFSETFROM:+0100
TZOFFSETTO:+0200
TZNAME:CEST
DTSTART:20190331T010000
END:DAYLIGHT
BEGIN:STANDARD
TZOFFSETFROM:+0200
TZOFFSETTO:+0100
TZNAME:CET
DTSTART:20191027T010000
END:STANDARD
BEGIN:DAYLIGHT
TZOFFSETFROM:+0100
TZOFFSETTO:+0200
TZNAME:CEST
DTSTART:20200329T010000
END:DAYLIGHT
BEGIN:STANDARD
TZOFFSETFROM:+0200
TZOFFSETTO:+0100
TZNAME:CET
DTSTART:20201025T010000
END:STANDARD
END:VTIMEZONE
BEGIN:VEVENT
DTSTART;TZID=Europe/Madrid:20200312T173000
DTEND;TZID=Europe/Madrid:20200312T193000
DTSTAMP:20260420T195450
CREATED:20200228T135558Z
LAST-MODIFIED:20200311T091515Z
UID:29675-1584034200-1584041400@preproduccion.alpedrete.es
SUMMARY:Cancelado Mindfulness en familia
DESCRIPTION:Lamentamos informar que atendiendo a las recomendaciones de las autoridades sanitarias\, esta actividad ha sido suspendida. \nEl miércoles 12 de marzo de 17:30 a 19:30h\,  la Mancomunidad de Servicios Sociales THAM organiza dentro de las Jornadas Espacios para Familias\, el Taller Mindfulness en Familia en el CEIP Santa Quiteria.  Esta actividad es gratuita y necesita inscripción previa en el Centro Municipal de Servicios Sociales\, c/ Pozo Nuevo\, 6 o en el teléfono 91 850 80 80 está dirigida a familias con menores entre 5 y 11 años. Las familias que precisen cuidados infantiles deben solicitarlo previamente en servicios sociales. \nLa práctica de esta técnica en familia favorece la conexión entre las necesidades y emociones de adultos y menores\, ayudando a reaccionar sin estrés ante las demandas de los menores y a guiarles emocionalmente de un modo adecuado.
URL:https://preproduccion.alpedrete.es/evento/mindfulness-en-familia-3/
LOCATION:CEIP Santa Quiteria\, C/ Santa Quiteria 45\, Alpedrete\, Madrid\, 28430\, España
CATEGORIES:Educación,Espacio para familias,Taller
ATTACH;FMTTYPE=image/png:https://preproduccion.alpedrete.es/wp-content/uploads/2020/02/familia.png
GEO:40.6551181;-4.0198729
X-APPLE-STRUCTURED-LOCATION;VALUE=URI;X-ADDRESS=CEIP Santa Quiteria C/ Santa Quiteria 45 Alpedrete Madrid 28430 España;X-APPLE-RADIUS=500;X-TITLE=C/ Santa Quiteria 45:geo:-4.0198729,40.6551181
END:VEVENT
BEGIN:VEVENT
DTSTART;TZID=Europe/Madrid:20200305T173000
DTEND;TZID=Europe/Madrid:20200305T193000
DTSTAMP:20260420T195450
CREATED:20200228T141154Z
LAST-MODIFIED:20200305T184614Z
UID:29673-1583429400-1583436600@preproduccion.alpedrete.es
SUMMARY:Mindfulness en familia
DESCRIPTION:Jueves 5 y 12 de marzo de 17:30 a 19:30h. La Mancomunidad de Servicios Sociales THAM organiza dentro de las Jornadas Espacios para Familias\, el Taller Mindfulness en Familia en el CEIP Santa Quiteria.  Esta actividad es gratuita y necesita inscripción previa en el Centro Municipal de Servicios Sociales\, c/ Pozo Nuevo\, 6 o en el teléfono 91 850 80 80 está dirigida a familias con menores entre 5 y 11 años. Las familias que precisen cuidados infantiles deben solicitarlo previamente en servicios sociales. \nLa práctica de esta técnica en familia favorece la conexión entre las necesidades y emociones de adultos y menores\, ayudando a reaccionar sin estrés ante las demandas de los menores y a guiarles emocionalmente de un modo adecuado. \n 
URL:https://preproduccion.alpedrete.es/evento/mindfulness-en-familia-4/
LOCATION:CEIP Santa Quiteria\, C/ Santa Quiteria 45\, Alpedrete\, Madrid\, 28430\, España
CATEGORIES:Escuela de Familia,Espacio para familias
ATTACH;FMTTYPE=image/png:https://preproduccion.alpedrete.es/wp-content/uploads/2020/02/familia.png
GEO:40.6551181;-4.0198729
X-APPLE-STRUCTURED-LOCATION;VALUE=URI;X-ADDRESS=CEIP Santa Quiteria C/ Santa Quiteria 45 Alpedrete Madrid 28430 España;X-APPLE-RADIUS=500;X-TITLE=C/ Santa Quiteria 45:geo:-4.0198729,40.6551181
END:VEVENT
BEGIN:VEVENT
DTSTART;TZID=Europe/Madrid:20200213T173000
DTEND;TZID=Europe/Madrid:20200213T193000
DTSTAMP:20260420T195450
CREATED:20200212T203752Z
LAST-MODIFIED:20200212T204103Z
UID:29471-1581615000-1581622200@preproduccion.alpedrete.es
SUMMARY:Educación afectivo sexual para nuestros hijos e hijas
DESCRIPTION:El programa “Espacio para familias” organizado por la Mancomunidad de Servicios Sociales THAM en nuestra localidad\, ofrece el mes de febrero dos charlas orientadas a la educación afectivo sexual de nuestros hijos e hijas. Serán impartidas en el CEIP Santa Quiteria y el CEIP Clara Campoamor. \nLa charla impartida el 13 de febrero en el CEIP Santa Quiteria está dirigida a familias con menores hasta 10 años y la que se dará el 27 de febrero en el Clara Campoamor se orienta a familias con menores a partir de 11 años. \nSe abordarán las diferentes etapas de desarrollo\, cambios\, prevención y orientación de comportamientos no deseados por la Fundación Sexpol\, entidad con más de 30 años de experiencia en formación para el desarrollo de la salud y el bienestar sexual. \nTodas las familias que deseen asistir y precisen cuidados infantiles deben solicitarlo previamente en servicios sociales. \nCEIP Santa Quiteria: 13 febrero de 17:30 a 19:30h (Familias con menores de 10 años) \nCEIP Clara Campoamor: 27 febrero 17:30 a 19:30 h (Familias con mayores de 11 años)
URL:https://preproduccion.alpedrete.es/evento/educacion-afectivo-sexual-para-nuestros-hijos-e-hijas/2020-02-13/
LOCATION:CEIP Santa Quiteria\, C/ Santa Quiteria 45\, Alpedrete\, Madrid\, 28430\, España
CATEGORIES:Espacio para familias
ATTACH;FMTTYPE=image/jpeg:https://preproduccion.alpedrete.es/wp-content/uploads/2017/12/alcohol-adolescentes.jpg
GEO:40.6551181;-4.0198729
X-APPLE-STRUCTURED-LOCATION;VALUE=URI;X-ADDRESS=CEIP Santa Quiteria C/ Santa Quiteria 45 Alpedrete Madrid 28430 España;X-APPLE-RADIUS=500;X-TITLE=C/ Santa Quiteria 45:geo:-4.0198729,40.6551181
END:VEVENT
BEGIN:VEVENT
DTSTART;TZID=Europe/Madrid:20191204T173000
DTEND;TZID=Europe/Madrid:20191204T193000
DTSTAMP:20260420T195450
CREATED:20191202T141831Z
LAST-MODIFIED:20191202T141831Z
UID:28579-1575480600-1575487800@preproduccion.alpedrete.es
SUMMARY:Normas y límites... con afecto y seguridad entran
DESCRIPTION:Taller organizado por la Mancomunidad de Servicios Sociales THAM “Normas y límites… con afecto y seguridad entran”\, dirigido a familias con menores de hasta 6 años. \nA veces no somos conscientes de la importancia de las normas en los más pequeños\, o si lo somos\, tenemos dudas sobre cómo deben ser o cómo establecer de manera adecuada las consecuencias ante su cumplimiento o incumplimiento. \nEn esta sesión trabajaremos algunas técnicas concretas para facilitar esta labor. Cómo decir “no” a nuestros hijos e hijas y cómo trasladarles nuestras peticiones de una manera adecuada que favorezca su obediencia. Todo ello sin olvidarnos que los niños y niñas\, además de normas y límites\, también necesitan aprender a ser autónomos. Para ello contaremos con uno de los psicólogos o psicólogas expertos en psicología educativa del Grupo Crece. \nEl acceso a la sesión es libre y gratuito\, no siendo necesario inscribirse previamente salvo que los participantes necesiten disponer del servicio de cuidados infantiles (que se prestará de manera gratuita\, con un mínimo de 5 menores).
URL:https://preproduccion.alpedrete.es/evento/normas-y-limites-con-afecto-y-seguridad-entran/
LOCATION:CEIP Santa Quiteria\, C/ Santa Quiteria 45\, Alpedrete\, Madrid\, 28430\, España
CATEGORIES:Taller
ATTACH;FMTTYPE=image/jpeg:https://preproduccion.alpedrete.es/wp-content/uploads/2019/12/madre-con-hijo.jpg
GEO:40.6551181;-4.0198729
X-APPLE-STRUCTURED-LOCATION;VALUE=URI;X-ADDRESS=CEIP Santa Quiteria C/ Santa Quiteria 45 Alpedrete Madrid 28430 España;X-APPLE-RADIUS=500;X-TITLE=C/ Santa Quiteria 45:geo:-4.0198729,40.6551181
END:VEVENT
BEGIN:VEVENT
DTSTART;TZID=Europe/Madrid:20191023T173000
DTEND;TZID=Europe/Madrid:20191023T193000
DTSTAMP:20260420T195450
CREATED:20191021T090059Z
LAST-MODIFIED:20191021T093615Z
UID:25524-1571851800-1571859000@preproduccion.alpedrete.es
SUMMARY:Cuando la adolescencia de tu hij@ te desconcierta
DESCRIPTION:«Cuando la adolescencia de tu hijo/a te desconcierta. Expresión y regulación de emociones para llegar a acuerdos de convivencia» \nTaller organizado por la Mancomunidad de Servicios Sociales THAM\, dentro del programa “Espacio para familias”\, dirigido a familias con menores a partir de 12 años. \nEn el mismo hablaremos sobre cómo construir relaciones respetuosas y saludables entre los miembros de la unidad familiar. Dado que los vertiginosos cambios físicos y psicológicos de l@s adolescentes hacen que nos sintamos desorientados\, pretendemos generar estrategias para abordar las dificultades que van surgiendo con nuestros hijos y las hijas cuando ya no son tan niños. \n23 de ictubre a las  a las 17:30 horas en el CEIP Santa Quiteria\nInscripción previa en los Centros Municipales de Servicios Sociales\, con posibilidad de cuidados infantiles solicitándolo en el momento de la inscripción.
URL:https://preproduccion.alpedrete.es/evento/cuando-adolescencia-de-tu-hij-te-desconcierta/
LOCATION:CEIP Santa Quiteria\, C/ Santa Quiteria 45\, Alpedrete\, Madrid\, 28430\, España
CATEGORIES:Escuela de Familia
ATTACH;FMTTYPE=image/jpeg:https://preproduccion.alpedrete.es/wp-content/uploads/2019/03/human-2136095_6401.jpg
GEO:40.6551181;-4.0198729
X-APPLE-STRUCTURED-LOCATION;VALUE=URI;X-ADDRESS=CEIP Santa Quiteria C/ Santa Quiteria 45 Alpedrete Madrid 28430 España;X-APPLE-RADIUS=500;X-TITLE=C/ Santa Quiteria 45:geo:-4.0198729,40.6551181
END:VEVENT
BEGIN:VEVENT
DTSTART;TZID=Europe/Madrid:20190213T173000
DTEND;TZID=Europe/Madrid:20190213T193000
DTSTAMP:20260420T195450
CREATED:20190129T151644Z
LAST-MODIFIED:20190129T151644Z
UID:24857-1550079000-1550086200@preproduccion.alpedrete.es
SUMMARY:Aprender a educar cuidando
DESCRIPTION:Nueva sesión del programa “Espacio para familias” de la Mancomunidad de Servicios Sociales THAM. “Aprender a educar cuidando” está dirigido a familias con menores hasta 10 años. \nEn el taller aprenderemos cómo construir relaciones respetuosas y saludables entre los miembros de la familia. Trabajaremos pautas educativas para un adecuado establecimiento de límites\, centrándonos en la autoridad (buenas prácticas\, errores de uso) y cómo reforzarla\, así como en las estrategias a adoptar ante la desobediencia. \n13 de febrero a las 17:30 horas en el CEIP Santa Quiteria. Inscripción previa en el Centro Municipal de Servicios Sociales THAM\, con posibilidad de cuidados infantiles solicitándolo en el momento de la inscripción.
URL:https://preproduccion.alpedrete.es/evento/aprender-a-educar-cuidando/
LOCATION:CEIP Santa Quiteria\, C/ Santa Quiteria 45\, Alpedrete\, Madrid\, 28430\, España
CATEGORIES:Escuela de Familia
ATTACH;FMTTYPE=image/jpeg:https://preproduccion.alpedrete.es/wp-content/uploads/2019/01/EDUCAR-CUIDANDO.jpg
GEO:40.6551181;-4.0198729
X-APPLE-STRUCTURED-LOCATION;VALUE=URI;X-ADDRESS=CEIP Santa Quiteria C/ Santa Quiteria 45 Alpedrete Madrid 28430 España;X-APPLE-RADIUS=500;X-TITLE=C/ Santa Quiteria 45:geo:-4.0198729,40.6551181
END:VEVENT
BEGIN:VEVENT
DTSTART;TZID=Europe/Madrid:20180418T173000
DTEND;TZID=Europe/Madrid:20180418T193000
DTSTAMP:20260420T195450
CREATED:20180417T104423Z
LAST-MODIFIED:20180417T104423Z
UID:20497-1524072600-1524079800@preproduccion.alpedrete.es
SUMMARY:Cómo hablar de sexo con tus hij@s… sin morir en el intento
DESCRIPTION:Taller organizado dentro de las actividades de la Escuela de Familia de la Mancomunidad de Servicios Sociales THAM. \nConoceremos las principales fuentes de educación sexual en la actualidad\, y en consecuencia\, los principales mitos\, además de las razones para hablar de educación sexual en la familia. Se conocerán las inquietudes y necesidades de los menores según la etapa evolutiva y las técnicas de comunicación efectivas\, facilitadores y obstaculizadores de la información\, además de la prevención de posibles conflictos. \nPara familias con  menores a partir de 10 años. Inscripción previa en el Centros Municipales de Servicios Sociales\, con posibilidad de cuidados infantiles solicitándolo en el momento de la inscripción. 18 de abril a las 17:30 horas en el CEIP Santa Quiteria.
URL:https://preproduccion.alpedrete.es/evento/hablar-sexo-tus-hijs-sin-morir-intento/
LOCATION:CEIP Santa Quiteria\, C/ Santa Quiteria 45\, Alpedrete\, Madrid\, 28430\, España
CATEGORIES:Escuela de Familia
ATTACH;FMTTYPE=image/jpeg:https://preproduccion.alpedrete.es/wp-content/uploads/2018/04/igualdad-masculino-femenino.jpg
GEO:40.6551181;-4.0198729
X-APPLE-STRUCTURED-LOCATION;VALUE=URI;X-ADDRESS=CEIP Santa Quiteria C/ Santa Quiteria 45 Alpedrete Madrid 28430 España;X-APPLE-RADIUS=500;X-TITLE=C/ Santa Quiteria 45:geo:-4.0198729,40.6551181
END:VEVENT
BEGIN:VEVENT
DTSTART;TZID=Europe/Madrid:20171213T173000
DTEND;TZID=Europe/Madrid:20171213T193000
DTSTAMP:20260420T195450
CREATED:20171204T100745Z
LAST-MODIFIED:20171204T100745Z
UID:18455-1513186200-1513193400@preproduccion.alpedrete.es
SUMMARY:Tabaco\, alcohol y adolescentes
DESCRIPTION:Monográfico ofrecido por la Mancomunidad de Servicios Sociales THAM. Sesión impartida por José de Sola.\nEn el último monográfico del año\, abordaremos las pautas esenciales en la prevención y actuación frente al consumo de alcohol y tabaco entre adolescentes. La finalidad es dotar a las familias de conocimientos y herramientas que permitan\, no solo prevenir y detectar el consumo\, sino también actuar frente a estos comportamientos. \nPara participar es necesario inscribirse previamente en Servicios Sociales (c/ Pozo Nuevo s/n. Teléfono 91 850 80 80). Habrá un servicio de cuidado infantil si existe demanda para ello.
URL:https://preproduccion.alpedrete.es/evento/tabaco-alcohol-adolescentes/
LOCATION:CEIP Santa Quiteria\, C/ Santa Quiteria 45\, Alpedrete\, Madrid\, 28430\, España
CATEGORIES:Escuela de Familia
ATTACH;FMTTYPE=image/jpeg:https://preproduccion.alpedrete.es/wp-content/uploads/2017/12/alcohol-adolescentes.jpg
GEO:40.6551181;-4.0198729
X-APPLE-STRUCTURED-LOCATION;VALUE=URI;X-ADDRESS=CEIP Santa Quiteria C/ Santa Quiteria 45 Alpedrete Madrid 28430 España;X-APPLE-RADIUS=500;X-TITLE=C/ Santa Quiteria 45:geo:-4.0198729,40.6551181
END:VEVENT
BEGIN:VEVENT
DTSTART;TZID=Europe/Madrid:20171126T110000
DTEND;TZID=Europe/Madrid:20171126T130000
DTSTAMP:20260420T195450
CREATED:20171121T095816Z
LAST-MODIFIED:20171121T095935Z
UID:18256-1511694000-1511701200@preproduccion.alpedrete.es
SUMMARY:Limpieza de residuos en las Vías Pecuarias
DESCRIPTION:¿Nos hemos planteado quién limpia los residuos que son lanzados desde los coches? ¿Qué pasa sin los dejamos abandonados en las cunetas? A las 11:00 de la mañana salida desde el CEIP Santa Quiteria por la vía pecuaria en dirección a Los Llanos. La propuesta es recoger los envases y residuos que se encuentren en el camino y las cunetas.\nLos plásticos han inundado nuestras vidas por sus características y bajo precio. Los encontramos en envases\, ropa\, cosméticos\, materiales de construcción y en todo tipo de utensilios.\nLa Universidad de Georgia\, la Universidad de California y la Sea Education Association han investigado por primera vez la producción y uso de los plásticos a lo largo de la historia. El trabajo de los científicos ha concluido que el hombre ha producido 8.300 toneladas de plásticos en los últimos 65 años\, una cantidad suficiente para plastificar toda la superficie de Argentina. Su peso es equivalente a 1.000 millones de elefantes que pesen 7\,5 toneladas. El 70% de esa producción\, 6.300 toneladas\, está diseminada en vertederos y océanos. \nActividad organizada dentro de la Semana Europea de Prevención de Residuos
URL:https://preproduccion.alpedrete.es/evento/limpieza-residuos-las-vias-pecuarias/
LOCATION:CEIP Santa Quiteria\, C/ Santa Quiteria 45\, Alpedrete\, Madrid\, 28430\, España
CATEGORIES:Medioambiente
ATTACH;FMTTYPE=image/jpeg:https://preproduccion.alpedrete.es/wp-content/uploads/2017/11/limpieza-vias-pecuarias.jpg
GEO:40.6551181;-4.0198729
X-APPLE-STRUCTURED-LOCATION;VALUE=URI;X-ADDRESS=CEIP Santa Quiteria C/ Santa Quiteria 45 Alpedrete Madrid 28430 España;X-APPLE-RADIUS=500;X-TITLE=C/ Santa Quiteria 45:geo:-4.0198729,40.6551181
END:VEVENT
BEGIN:VEVENT
DTSTART;TZID=Europe/Madrid:20171018T173000
DTEND;TZID=Europe/Madrid:20171018T193000
DTSTAMP:20260420T195450
CREATED:20171013T191647Z
LAST-MODIFIED:20171013T191647Z
UID:17589-1508347800-1508355000@preproduccion.alpedrete.es
SUMMARY:"Diciendo no también educamos". Escuela de Familia THAM
DESCRIPTION:Taller gratuito dirigido a familias con menores de cualquier edad\, organizado por la Escuela de Familia de la Mancomunidad de Servicios Sociales THAM. \nSe trabajarán pautas educativas para un adecuado establecimiento de normas y límites\, centrándonos en la autoridad (buenas prácticas\, errores en su uso) y cómo reforzarla\, así como en las estrategias a adoptar ante la desobediencia.  Miércoles 18 de octubre a las 17:30 horas en CEIP Santa Quiteria. \nMás información: Mancomunidad Tham
URL:https://preproduccion.alpedrete.es/evento/diciendo-no-tambien-educamos-escuela-familia-tham/
LOCATION:CEIP Santa Quiteria\, C/ Santa Quiteria 45\, Alpedrete\, Madrid\, 28430\, España
CATEGORIES:Escuela de Familia
ATTACH;FMTTYPE=image/jpeg:https://preproduccion.alpedrete.es/wp-content/uploads/2016/09/Escuela-de-familia.jpg
GEO:40.6551181;-4.0198729
X-APPLE-STRUCTURED-LOCATION;VALUE=URI;X-ADDRESS=CEIP Santa Quiteria C/ Santa Quiteria 45 Alpedrete Madrid 28430 España;X-APPLE-RADIUS=500;X-TITLE=C/ Santa Quiteria 45:geo:-4.0198729,40.6551181
END:VEVENT
BEGIN:VEVENT
DTSTART;TZID=Europe/Madrid:20170302T173000
DTEND;TZID=Europe/Madrid:20170302T183000
DTSTAMP:20260420T195450
CREATED:20170124T120318Z
LAST-MODIFIED:20170228T134656Z
UID:11450-1488475800-1488479400@preproduccion.alpedrete.es
SUMMARY:Educar a niños movidos\, despistados… o todo a la vez
DESCRIPTION:La Mancomunidad THAM de Servicios Sociales (Torrelodones\, Hoyo de Manzanares\, Alpedrete y Moralzarzal) ha puesto en marcha los cursos de la Escuela de Familia para el primer trimestre de 2017. \nPara familias con menores a partir de 6 años. Con servicio de cuidados infantiles gratuíto solicitándolo en el momento de la inscripción previa. \nMás información en el Centro Municipal de Servicios Sociales (91 850 80 80) y en www.mancomunidad-tham.es \n 
URL:https://preproduccion.alpedrete.es/evento/educar-ninos-movidos-despistados-la-vez/
LOCATION:CEIP Santa Quiteria\, C/ Santa Quiteria 45\, Alpedrete\, Madrid\, 28430\, España
CATEGORIES:Escuela de Familia
ATTACH;FMTTYPE=image/jpeg:https://preproduccion.alpedrete.es/wp-content/uploads/2016/09/Escuela-de-familia.jpg
GEO:40.6551181;-4.0198729
X-APPLE-STRUCTURED-LOCATION;VALUE=URI;X-ADDRESS=CEIP Santa Quiteria C/ Santa Quiteria 45 Alpedrete Madrid 28430 España;X-APPLE-RADIUS=500;X-TITLE=C/ Santa Quiteria 45:geo:-4.0198729,40.6551181
END:VEVENT
BEGIN:VEVENT
DTSTART;TZID=Europe/Madrid:20170125T173000
DTEND;TZID=Europe/Madrid:20170125T183000
DTSTAMP:20260420T195450
CREATED:20170123T135131Z
LAST-MODIFIED:20170123T135821Z
UID:11444-1485365400-1485369000@preproduccion.alpedrete.es
SUMMARY:Convivir con nuestr@s hij@s adolescentes y preadolescentes… y no morir en el intento
DESCRIPTION:La Mancomunidad THAM de Servicios Sociales (Torrelodones\, Hoyo de Manzanares\, Alpedrete y Moralzarzal) ha puesto en marcha los cursos de la Escuela de Familia para el primer trimestre de 2017. \n“Convivir con nuestr@s hij@s adolescentes y preadolescentes… y no morir en el intento” \nEn este taller se pretende compartir estrategias con las madres y padres (u otras personas que cuiden de los menores) para abordar las dificultades que van surgiendo con los hijos e hijas según van creciendo\, en la etapa de la adolescencia (y la preadolescencia). \nCon servicio de cuidados infantiles gratuíto solicitándolo en el momento de la inscripción previa. \nMás información en el Centro Municipal de Servicios Sociales (91 850 80 80) y en www.mancomunidad-tham.es
URL:https://preproduccion.alpedrete.es/evento/convivir-nuestrs-hijs-adolescentes-preadolescentes-no-morir-intento/
LOCATION:CEIP Santa Quiteria\, C/ Santa Quiteria 45\, Alpedrete\, Madrid\, 28430\, España
CATEGORIES:Escuela de Familia
ATTACH;FMTTYPE=image/jpeg:https://preproduccion.alpedrete.es/wp-content/uploads/2016/09/Escuela-de-familia.jpg
GEO:40.6551181;-4.0198729
X-APPLE-STRUCTURED-LOCATION;VALUE=URI;X-ADDRESS=CEIP Santa Quiteria C/ Santa Quiteria 45 Alpedrete Madrid 28430 España;X-APPLE-RADIUS=500;X-TITLE=C/ Santa Quiteria 45:geo:-4.0198729,40.6551181
END:VEVENT
BEGIN:VEVENT
DTSTART;TZID=Europe/Madrid:20161109T173000
DTEND;TZID=Europe/Madrid:20161109T193000
DTSTAMP:20260420T195450
CREATED:20160921T083149Z
LAST-MODIFIED:20160921T083149Z
UID:9378-1478712600-1478719800@preproduccion.alpedrete.es
SUMMARY:Nuestros hijos en las Redes Sociales. Reputación digital y formación de la personalidad de los y las adolescentes en Internet.
DESCRIPTION:La Mancomunidad THAM de Servicios Sociales (Torrelodones\, Hoyo de Manzanares\, Alpedrete y Moralzarzal) ha puesto en marcha los cursos de la Escuela de Familia para el último trimestre de 2016\, siendo este el cuarto de sus monográficos:  «Nuestros hijos en las Redes Sociales. Reputación digital y formación de la personalidad de los y las adolescentes en Internet» \nLa información\, incluyendo las imágenes que los menores comparten en las redes sociales\, así como los sentimientos y emociones provocados por las relaciones a través de internet\, pueden derivar en situaciones conflictivas. Por ello es importante conocer cómo mejorar la seguridad y privacidad en el uso de las redes sociales. \nPara familias con menores de cualquier edad. Con servicio de cuidados infantiles gratuíto solicitándolo en el momento de la inscripción previa. \nMás información en el Centro Municipal de Servicios Sociales y en www.mancomunidad-tham.es \n 
URL:https://preproduccion.alpedrete.es/evento/hijos-las-redes-sociales-reputacion-digital-formacion-la-personalidad-los-las-adolescentes-internet/
LOCATION:CEIP Santa Quiteria\, C/ Santa Quiteria 45\, Alpedrete\, Madrid\, 28430\, España
CATEGORIES:Escuela de Familia
ATTACH;FMTTYPE=image/jpeg:https://preproduccion.alpedrete.es/wp-content/uploads/2016/09/Escuela-de-familia.jpg
GEO:40.6551181;-4.0198729
X-APPLE-STRUCTURED-LOCATION;VALUE=URI;X-ADDRESS=CEIP Santa Quiteria C/ Santa Quiteria 45 Alpedrete Madrid 28430 España;X-APPLE-RADIUS=500;X-TITLE=C/ Santa Quiteria 45:geo:-4.0198729,40.6551181
END:VEVENT
BEGIN:VEVENT
DTSTART;TZID=Europe/Madrid:20161026T173000
DTEND;TZID=Europe/Madrid:20161026T193000
DTSTAMP:20260420T195450
CREATED:20160921T082341Z
LAST-MODIFIED:20160921T082341Z
UID:9375-1477503000-1477510200@preproduccion.alpedrete.es
SUMMARY:Nuestros hijos e hijas y el uso de Internet. Smartphones y tabletas. Problemas y soluciones.
DESCRIPTION:La Mancomunidad THAM de Servicios Sociales (Torrelodones\, Hoyo de Manzanares\, Alpedrete y Moralzarzal) ha puesto en marcha los cursos de la Escuela de Familia para el último trimestre de 2016\, siendo este el tercero de sus monográficos:  «Nuestros hijos e hijas y el uso de Internet. Smartphones y tabletas. Problemas y soluciones». \nLa utilización por los menores de aplicaciones de mensajería instantánea\, juegos y redes sociales\, puede ocasionar numerosos problemas. Aprenderemos cómo controlar y gestionar el uso de estas herramientas para evitar los problemas: permisos y autorizaciones\, control del gasto\, cookies\,… ¿Realmente son capaces de estudiar\, escuchar música…\, y estar en las redes sociales? \nPara familias con menores de cualquier edad. Con servicio de cuidados infantiles gratuíto solicitándolo en el momento de la inscripción previa. \nMás información en el Centro Municipal de Servicios Sociales y en www.mancomunidad-tham.es \n 
URL:https://preproduccion.alpedrete.es/evento/hijos-e-hijas-uso-internet-smartphones-tabletas-problemas-soluciones/
LOCATION:CEIP Santa Quiteria\, C/ Santa Quiteria 45\, Alpedrete\, Madrid\, 28430\, España
CATEGORIES:Escuela de Familia
ATTACH;FMTTYPE=image/jpeg:https://preproduccion.alpedrete.es/wp-content/uploads/2016/09/Escuela-de-familia.jpg
GEO:40.6551181;-4.0198729
X-APPLE-STRUCTURED-LOCATION;VALUE=URI;X-ADDRESS=CEIP Santa Quiteria C/ Santa Quiteria 45 Alpedrete Madrid 28430 España;X-APPLE-RADIUS=500;X-TITLE=C/ Santa Quiteria 45:geo:-4.0198729,40.6551181
END:VEVENT
BEGIN:VEVENT
DTSTART;TZID=Europe/Madrid:20160928T173000
DTEND;TZID=Europe/Madrid:20160928T193000
DTSTAMP:20260420T195450
CREATED:20160921T072114Z
LAST-MODIFIED:20160921T072314Z
UID:9363-1475083800-1475091000@preproduccion.alpedrete.es
SUMMARY:¡Terminó el verano! Técnicas de relajación ante el inicio del curso
DESCRIPTION:La Mancomunidad THAM de Servicios Sociales (Torrelodones\, Hoyo de Manzanares\, Alpedrete y Moralzarzal) ha puesto en marcha los cursos de la Escuela de Familia para el último trimestre de 2016\, dando comienzo a su agenda con este interesante monográfico. \n«¡Terminó el verano! Técnicas de relajación ante el inicio del curso». Levantarles pronto\, el atasco\, las extraescolares\, los deberes\, el trabajo o la búsqueda de empleo…. ¡¡¡¡¡NO ME DA LA VIDA!!!!! Trabajaremos técnicas y habilidades para comenzar mejor el nuevo curso. \nPara familias con menores de cualquier edad. Con servicio de cuidados infantiles gratuíto solicitándolo en el momento de la inscripción previa. \nMás información en el Centro Municipal de Servicios Sociales y en www.mancomunidad-tham.es \n 
URL:https://preproduccion.alpedrete.es/evento/termino-verano-tecnicas-relajacion-ante-inicio-del-curso/
LOCATION:CEIP Santa Quiteria\, C/ Santa Quiteria 45\, Alpedrete\, Madrid\, 28430\, España
CATEGORIES:Escuela de Familia
ATTACH;FMTTYPE=image/jpeg:https://preproduccion.alpedrete.es/wp-content/uploads/2016/09/Escuela-de-familia.jpg
GEO:40.6551181;-4.0198729
X-APPLE-STRUCTURED-LOCATION;VALUE=URI;X-ADDRESS=CEIP Santa Quiteria C/ Santa Quiteria 45 Alpedrete Madrid 28430 España;X-APPLE-RADIUS=500;X-TITLE=C/ Santa Quiteria 45:geo:-4.0198729,40.6551181
END:VEVENT
BEGIN:VEVENT
DTSTART;TZID=Europe/Madrid:20160525T173000
DTEND;TZID=Europe/Madrid:20160525T193000
DTSTAMP:20260420T195450
CREATED:20160329T114831Z
LAST-MODIFIED:20160329T114831Z
UID:6243-1464197400-1464204600@preproduccion.alpedrete.es
SUMMARY:Gestionando la autoridad en la familia
DESCRIPTION:Taller gratuito dirigido a familias con menores de cualquier edad\, organizado por la Escuela de Familia de la Mancomunidad de Servicios Sociales THAM. \nTrabajaremos el control\, la exigencia\, el mando y el equilibrio entre ellos\, a través de la empatía\, la comprensión y la confianza. \nLa asistencia es libre previa inscripción en Servicios Sociales (Cl Pozo Nuevo\, 4-6\, teléfono 91 850 80 80). \nMás información: http://preproduccion.alpedrete.es/programacion-de-la-escuela-de-familia/
URL:https://preproduccion.alpedrete.es/evento/gestionando-la-autoridad-en-la-familia/
LOCATION:CEIP Santa Quiteria\, C/ Santa Quiteria 45\, Alpedrete\, Madrid\, 28430\, España
CATEGORIES:Taller
ATTACH;FMTTYPE=image/jpeg:https://preproduccion.alpedrete.es/wp-content/uploads/2016/03/familia.jpg
GEO:40.6551181;-4.0198729
X-APPLE-STRUCTURED-LOCATION;VALUE=URI;X-ADDRESS=CEIP Santa Quiteria C/ Santa Quiteria 45 Alpedrete Madrid 28430 España;X-APPLE-RADIUS=500;X-TITLE=C/ Santa Quiteria 45:geo:-4.0198729,40.6551181
END:VEVENT
END:VCALENDAR