BEGIN:VCALENDAR
VERSION:2.0
PRODID:-//Web Ayuntamiento de Alpedrete - ECPv6.9.0//NONSGML v1.0//EN
CALSCALE:GREGORIAN
METHOD:PUBLISH
X-ORIGINAL-URL:https://preproduccion.alpedrete.es
X-WR-CALDESC:Eventos para Web Ayuntamiento de Alpedrete
REFRESH-INTERVAL;VALUE=DURATION:PT1H
X-Robots-Tag:noindex
X-PUBLISHED-TTL:PT1H
BEGIN:VTIMEZONE
TZID:Europe/Madrid
BEGIN:DAYLIGHT
TZOFFSETFROM:+0100
TZOFFSETTO:+0200
TZNAME:CEST
DTSTART:20160327T010000
END:DAYLIGHT
BEGIN:STANDARD
TZOFFSETFROM:+0200
TZOFFSETTO:+0100
TZNAME:CET
DTSTART:20161030T010000
END:STANDARD
BEGIN:DAYLIGHT
TZOFFSETFROM:+0100
TZOFFSETTO:+0200
TZNAME:CEST
DTSTART:20170326T010000
END:DAYLIGHT
BEGIN:STANDARD
TZOFFSETFROM:+0200
TZOFFSETTO:+0100
TZNAME:CET
DTSTART:20171029T010000
END:STANDARD
BEGIN:DAYLIGHT
TZOFFSETFROM:+0100
TZOFFSETTO:+0200
TZNAME:CEST
DTSTART:20180325T010000
END:DAYLIGHT
BEGIN:STANDARD
TZOFFSETFROM:+0200
TZOFFSETTO:+0100
TZNAME:CET
DTSTART:20181028T010000
END:STANDARD
END:VTIMEZONE
BEGIN:VEVENT
DTSTART;TZID=Europe/Madrid:20180206T180000
DTEND;TZID=Europe/Madrid:20180206T193000
DTSTAMP:20260419T173400
CREATED:20180123T135725Z
LAST-MODIFIED:20180123T135725Z
UID:19278-1517940000-1517945400@preproduccion.alpedrete.es
SUMMARY:Alimentación y nutrición para pacientes oncológicos
DESCRIPTION:El domingo 4 de febrero se celebra el Día Mundial del Cáncer\, una fecha en la que los organismos internacionales hacen hincapié en la necesidad de la prevención como arma fundamental para luchar contra esa enfermedad. \nEn ese sentido\, el Ayuntamiento de Alpedrete colabora en la organización de una charla en la que Isabel Higuera Pulgar\, nutricionista del Hospital General de Villalba\, expondrá “Recomendaciones de alimentación y nutrición en pacientes oncológicos”. Se celebrará el 6 de febrero a las 18:00 de la tarde en la Ciudad Deportiva Municipal de Alpedrete.
URL:https://preproduccion.alpedrete.es/evento/alimentacion-nutricion-pacientes-oncologicos/
LOCATION:Ciudad Deportiva Municipal de Alpedrete\, C/ Campo de Fútbol s/n\, Alpedrete\, Madrid\, 28430\, España
CATEGORIES:Charla
ATTACH;FMTTYPE=image/jpeg:https://preproduccion.alpedrete.es/wp-content/uploads/2018/01/lazo-cancer-mama.jpg
END:VEVENT
BEGIN:VEVENT
DTSTART;TZID=Europe/Madrid:20171108T193000
DTEND;TZID=Europe/Madrid:20171108T210000
DTSTAMP:20260419T173400
CREATED:20171106T184220Z
LAST-MODIFIED:20171106T184328Z
UID:17883-1510169400-1510174800@preproduccion.alpedrete.es
SUMMARY:Entrenamiento mental para el Trail
DESCRIPTION:El miércoles 8 de noviembre la Ciudad Deportiva Municipal acoge a las 19:30 de la tarde el tema “Entrenamiento mental para el Trail” en la experiencia de Fernando González\, psicólogo sanitario con mención en Recursos Humanos y psicología de la educación\, y GEO FGO Group y Director de Ingeniería Mental. Esta sesión de psicología deportiva tendrá lugar en la Ciudad Deportiva Municipal.
URL:https://preproduccion.alpedrete.es/evento/entrenamiento-mental-trail/
LOCATION:Ciudad Deportiva Municipal de Alpedrete\, C/ Campo de Fútbol s/n\, Alpedrete\, Madrid\, 28430\, España
CATEGORIES:Taller
ATTACH;FMTTYPE=image/jpeg:https://preproduccion.alpedrete.es/wp-content/uploads/2017/11/Sin-título-1.jpg
END:VEVENT
BEGIN:VEVENT
DTSTART;TZID=Europe/Madrid:20170623T180000
DTEND;TZID=Europe/Madrid:20170623T230000
DTSTAMP:20260419T173400
CREATED:20170621T075759Z
LAST-MODIFIED:20170621T075759Z
UID:15879-1498240800-1498258800@preproduccion.alpedrete.es
SUMMARY:La noche de San Juan más deportiva
DESCRIPTION:Los aficionados al deporte tienen una cita con sus actividades preferidas para recibir el solsticio de verano. La noche fitness de San Juan comenzará con una clase de yoga en familia. La programación deportiva será la siguiente: \n\n18:00 h. Yoga en familia\n19:00 h. Zumba Summer\n20:00 h. Presentación de Body Pump\n21:00 h. Presentación de Body Combat\n22:00 Masterclass Ciclo-Indoor\n\nTodas las actividades se desarrollarán en la Ciudad Deportiva Municipal de Alpedrete\, pero en lugar de hacerlas en el interior del pabellón se harán al aire libre\, en el campo de fútbol\, para dar la bienvenida al verano. La iniciativa está organizada por el Ayuntamiento de Alpedrete y ADIP.
URL:https://preproduccion.alpedrete.es/evento/la-noche-san-juan-mas-deportiva/
LOCATION:Ciudad Deportiva Municipal de Alpedrete\, C/ Campo de Fútbol s/n\, Alpedrete\, Madrid\, 28430\, España
CATEGORIES:Deportes
ATTACH;FMTTYPE=image/jpeg:https://preproduccion.alpedrete.es/wp-content/uploads/2017/06/Deporte-Noche-de-San-Juan.jpg
END:VEVENT
BEGIN:VEVENT
DTSTART;TZID=Europe/Madrid:20170622T190000
DTEND;TZID=Europe/Madrid:20170622T200000
DTSTAMP:20260419T173400
CREATED:20170608T074530Z
LAST-MODIFIED:20170608T074530Z
UID:15386-1498158000-1498161600@preproduccion.alpedrete.es
SUMMARY:Espalda sana
DESCRIPTION:El doctor Javier González Muñoz\, fisisioterapeuta del Hospital General de Villalba\, impartirá el jueves 22 una ponencia titulada “Espalda Sana” a partir de las 19:00 de la tarde en la sala de formación de la Ciudad Deportiva Municipal de Alpedrete. \nLa ponencia\, a la que pueden asistir libre y gratuitamente todas las personas que lo deseen\, se enmarca en el convenio firmado el pasado mes de abril entre el Ayuntamiento de Alpedrete\, ADIP Proyecto Alpedrete y el Hospital General de Villalba para conseguir que los usuarios de la Ciudad Deportiva de Alpedrete practiquen deporte de forma más saludable.
URL:https://preproduccion.alpedrete.es/evento/espalda-sana/
LOCATION:Ciudad Deportiva Municipal de Alpedrete\, C/ Campo de Fútbol s/n\, Alpedrete\, Madrid\, 28430\, España
CATEGORIES:Ponencia
ATTACH;FMTTYPE=image/jpeg:https://preproduccion.alpedrete.es/wp-content/uploads/2017/06/espalda.jpg
END:VEVENT
BEGIN:VEVENT
DTSTART;TZID=Europe/Madrid:20170601T110000
DTEND;TZID=Europe/Madrid:20170601T120000
DTSTAMP:20260419T173400
CREATED:20170531T080341Z
LAST-MODIFIED:20170531T080749Z
UID:14990-1496314800-1496318400@preproduccion.alpedrete.es
SUMMARY:Recomendaciones deportivas para personas mayores
DESCRIPTION:Tendrá lugar el jueves 1 de junio a las 11:00 de la mañana en la sala de formación de la Ciudad Deportiva Municipal del Alpedrete. En esta actividad participa el Hospital General de Villalba a través de los facultativos Carmelo Fernández García\, Jefe del servicio de rehabilitación\, y la geriatra Nuria El Kadaoui Calvo\, del Servicio de medicina interna. \nLa ponencia\, a la que pueden asistir libre y gratuitamente todas las personas que lo deseen\, se enmarca en el convenio firmado el pasado mes de abril entre el Ayuntamiento de Alpedrete\, ADIP Proyecto Alpedrete y el Hospital General de Villalba para conseguir que los usuarios de la Ciudad Deportiva de Alpedrete practiquen deporte de forma más saludable.
URL:https://preproduccion.alpedrete.es/evento/ponencia-recomendaciones-deportivas-personas-mayores/
LOCATION:Ciudad Deportiva Municipal de Alpedrete\, C/ Campo de Fútbol s/n\, Alpedrete\, Madrid\, 28430\, España
CATEGORIES:Ponencia
ATTACH;FMTTYPE=image/jpeg:https://preproduccion.alpedrete.es/wp-content/uploads/2017/05/Abuelos.jpg
END:VEVENT
BEGIN:VEVENT
DTSTART;TZID=Europe/Madrid:20170528T100000
DTEND;TZID=Europe/Madrid:20170528T140000
DTSTAMP:20260419T173400
CREATED:20170525T081314Z
LAST-MODIFIED:20170525T081653Z
UID:14730-1495965600-1495980000@preproduccion.alpedrete.es
SUMMARY:17º Torneo de Ajedrez escolar Sierra Norte
DESCRIPTION:Trescientos niños de distintas categorías participarán en la décima séptima edición del Torneo de ajedrez escolar Sierra Norte. La jornada ajedrecística comenzará a las 10:00 de la mañana en la Ciudad Deportiva de Alpedrete. \nLos organizadores del torneo explican que no se trata de fomentar la competitividad\, sino de enseñar a los niños y niñas de manera desenfada\, sin tensiones\, comprendiendo que no siempre lo importante es ganar. \n17º Torneo de Ajedrez escolar Sierra Norte.pdf \n 
URL:https://preproduccion.alpedrete.es/evento/17o-torneo-ajedrez-escolar-sierra-norte/
LOCATION:Ciudad Deportiva Municipal de Alpedrete\, C/ Campo de Fútbol s/n\, Alpedrete\, Madrid\, 28430\, España
CATEGORIES:Deportes
ATTACH;FMTTYPE=image/jpeg:https://preproduccion.alpedrete.es/wp-content/uploads/2017/05/Ajedrez-1.jpg
END:VEVENT
BEGIN:VEVENT
DTSTART;TZID=Europe/Madrid:20170517T190000
DTEND;TZID=Europe/Madrid:20170517T203000
DTSTAMP:20260419T173400
CREATED:20170508T164318Z
LAST-MODIFIED:20170508T164318Z
UID:13596-1495047600-1495053000@preproduccion.alpedrete.es
SUMMARY:I Cuadrangular Internacional de Fútbol Base
DESCRIPTION:Miércoles 17 de mayo\, a las 19:00 h\, en la Ciudad Deportiva Municipal de Alpedrete.  \nClub Atlético de Madrid\, Wanda Group\, C.D. Alpedrete y Torrelodones C.F.
URL:https://preproduccion.alpedrete.es/evento/i-cuadrangular-internacional-futbol-base/
LOCATION:Ciudad Deportiva Municipal de Alpedrete\, C/ Campo de Fútbol s/n\, Alpedrete\, Madrid\, 28430\, España
CATEGORIES:Deportes,Fiestas patronales
ATTACH;FMTTYPE=image/jpeg:https://preproduccion.alpedrete.es/wp-content/uploads/2017/05/football-1274662_640.jpg
END:VEVENT
BEGIN:VEVENT
DTSTART;TZID=Europe/Madrid:20170513T183000
DTEND;TZID=Europe/Madrid:20170513T193000
DTSTAMP:20260419T173400
CREATED:20170420T103545Z
LAST-MODIFIED:20170512T124323Z
UID:13144-1494700200-1494703800@preproduccion.alpedrete.es
SUMMARY:Concurso: “Talentos Santa Quiteria 2017”
DESCRIPTION:Sábado 13 de mayo a las 18:30 de la tarde\, en la Ciudad Deportiva Municipal. \nEl concurso se divide en dos categorías: infantil para menores nacidos entre los años 2010 y 2000 (ambos incluidos) y absoluta para los nacidos antes del año 2000. El concurso se anulará en la categoría correspondiente si hubiera menos de 3 inscritos en la categoría infantil o 5 en la categoría absoluta. \nAl terminar el concurso se entregarán los tres premios previstos\, dos para la categoría absoluta y uno para la infantil\, cada uno de ellos por valor de 250 euros. Los ganadores recibirán un cheque indicativo del premio para su posterior trasferencia bancaria\, en la cuenta indicada en la ficha de inscripción. \nMás información:  Programa de fiestas Santa Quiteria
URL:https://preproduccion.alpedrete.es/evento/concurso-talentos-santa-quiteria-2017/
LOCATION:Ciudad Deportiva Municipal de Alpedrete\, C/ Campo de Fútbol s/n\, Alpedrete\, Madrid\, 28430\, España
CATEGORIES:Concurso
ATTACH;FMTTYPE=image/jpeg:https://preproduccion.alpedrete.es/wp-content/uploads/2017/04/2-Talentos.jpg
END:VEVENT
BEGIN:VEVENT
DTSTART;VALUE=DATE:20170507
DTEND;VALUE=DATE:20170508
DTSTAMP:20260419T173400
CREATED:20170314T121326Z
LAST-MODIFIED:20170314T121529Z
UID:12436-1494115200-1494201599@preproduccion.alpedrete.es
SUMMARY:Campeonato Nacional de Royal Dance Competición
DESCRIPTION:Alpedrete acogerá el 7 de mayo la I Edición del Campeonato Nacional de Danza “Royal Dance Competición”\, que se celebrará en las instalaciones de la Ciudad Deportiva Municipal. \nLa competición se divide en cinco categorías: baby\, infantil\, juvenil \, open  y parejas. Los participantes deberán tener la edad requerida el día de la celebración del concurso.  Los danzarines realizarán sus coreografías en cualquiera de las siguientes modalidades: Lírico\, Flamenco\, Urbano\, Salón Latino\, Danza Oriental\, y Baby hasta 7 años\, que engloba todas las modalidades anteriores. \nEl plazo de inscripción estará abierto hasta las 14:00 de la tarde del 9 de abril\,  enviando un correo electrónico a la dirección royaldancealpedrete@gmail.com \nEntradas a partir del 10 de abril a través del e-mail royaldancealpedrete@gmail.com. También se pueden comprar en taquilla el día de la competición. Asistir al turno de mañana o tarde cuesta 5 euros\, acudir a los dos cuesta 8 euros. \nPara más información y consulta de las bases del concurso: http://preproduccion.alpedrete.es/campeonato-nacional-royal-dance-competicion/
URL:https://preproduccion.alpedrete.es/evento/campeonato-nacional-royal-dance-competicion/
LOCATION:Ciudad Deportiva Municipal de Alpedrete\, C/ Campo de Fútbol s/n\, Alpedrete\, Madrid\, 28430\, España
CATEGORIES:Baile/Danza
ATTACH;FMTTYPE=image/jpeg:https://preproduccion.alpedrete.es/wp-content/uploads/2017/03/Danza.jpg
END:VEVENT
BEGIN:VEVENT
DTSTART;TZID=Europe/Madrid:20170331T130000
DTEND;TZID=Europe/Madrid:20170401T210000
DTSTAMP:20260419T173400
CREATED:20170329T103743Z
LAST-MODIFIED:20170329T103743Z
UID:12803-1490965200-1491080400@preproduccion.alpedrete.es
SUMMARY:IV Fiesta del Deporte
DESCRIPTION:Viernes 31 de marzo y sábado 1 de abril. En esos dos días se espera la mayor concentración de deportistas que\, probablemente\, se producirá este año en la Ciudad Deportiva Municipal. Se celebra la IV Fiesta del Deporte\, una actividad organizada por el Ayuntamiento de Alpedrete y ADIP\, que en la última edición concentró a 3.750 personas de todas las edades. \nComo en ediciones anteriores se proponen actividades de ocio y deportivas para que todas las personas\, con independencia de su edad y condición física\, pueda encontrar la más adecuada y participar en el Fiesta del Deporte. La jornada de puertas abiertas se iniciará el viernes 31 de marzo a las 13:00 de la tarde. Desde ese momento\, se irán desarrollando todas las exhibiciones\, pruebas y atracciones de ocio hasta las 21:00 de la noche del sábado 1 de abril. El acceso a las salas es libre hasta completar aforo\, excepto en las actividades restringidas a los usuarios inscritos. \nPara más información : www.alpedrete.es/alpedrete-celebra-la-iv-fiesta-del-deporte/
URL:https://preproduccion.alpedrete.es/evento/iv-fiesta-del-deporte/
LOCATION:Ciudad Deportiva Municipal de Alpedrete\, C/ Campo de Fútbol s/n\, Alpedrete\, Madrid\, 28430\, España
CATEGORIES:Deportes
ATTACH;FMTTYPE=image/jpeg:https://preproduccion.alpedrete.es/wp-content/uploads/2017/03/Fiesta-Deporte-6.jpg
END:VEVENT
BEGIN:VEVENT
DTSTART;TZID=Europe/Madrid:20170331T130000
DTEND;TZID=Europe/Madrid:20170331T140000
DTSTAMP:20260419T173400
CREATED:20170328T132350Z
LAST-MODIFIED:20170328T133213Z
UID:12783-1490965200-1490968800@preproduccion.alpedrete.es
SUMMARY:Nutrición infantil\, clave del desarrollo físico y mental
DESCRIPTION:La nutrición infantil es el objeto de la ponencia que impartirá el viernes 31 de marzo el doctor Iván Carabaño Aguado\, jefe del Servicio de Pediatría del Hospital Universitario Rey Juan Carlos. El objetivo de la ponencia es explicar la importancia de la nutrición en el desarrollo mental y físico en los niños y niñas. \nLa ponencia tendrá lugar en la sala de formación de la Ciudad Deportiva Municipal de Alpedrete. Esta actividad se circunscribe al convenio de colaboración entre el Ayuntamiento de Alpedrete\, ADIP Proyecto Alpedrete y con IDCSalud Villalba (sociedad que gestiona el Hospital General de Villalba). \nEl objeto del convenio para el Ayuntamiento de Alpedrete y ADIP es proporcionar a los usuarios de la Ciudad Deportiva Municipal en concreto\, y de la ciudadanía en general\, de las herramientas complementarias a su actividad deportiva que mejorar su técnica y la prevención de posibles problemas derivados de esa práctica. Por su parte\, el Hospital General de Villalba ha mostrado su interés de colaborar en la prevención de la enfermedad y la promoción de la salud.
URL:https://preproduccion.alpedrete.es/evento/nutricion-infantil-clave-del-desarrollo-fisico-mental/
LOCATION:Ciudad Deportiva Municipal de Alpedrete\, C/ Campo de Fútbol s/n\, Alpedrete\, Madrid\, 28430\, España
CATEGORIES:Coloquio
ATTACH;FMTTYPE=image/jpeg:https://preproduccion.alpedrete.es/wp-content/uploads/2017/03/Sin-título-1-2.jpg
END:VEVENT
BEGIN:VEVENT
DTSTART;TZID=Europe/Madrid:20170326T110000
DTEND;TZID=Europe/Madrid:20170326T123000
DTSTAMP:20260419T173400
CREATED:20170321T132633Z
LAST-MODIFIED:20170321T132633Z
UID:12587-1490526000-1490531400@preproduccion.alpedrete.es
SUMMARY:Aqua Gym: Máster Class a favor de los niños con cáncer
DESCRIPTION:El Ayuntamiento de Alpedrete y ADIP han programado el domingo 26 de marzo una máster class de “Aqua Gym”\, dentro del Programa de Actividades Solidarias 2016-2017. La recaudación que se obtenga servirá para colaborar con “Niños con Cáncer\, Federación Española de Padres” y con la Fundación Española de Niños con Cáncer”. \nLa máster class está pensada para que pueda practicarla toda la familia. Se trata de una clase de Aqua Gym de unos 90 minutos de duración que comenzará a las 11:00 de la mañana en la piscina de la Ciudad Deportiva Municipal. \nEl precio por participar es de 3 euros los adultos y 1 euro los niños. Quien lo desee se puede inscribir previamente en la Ciudad Deportiva Municipal de Alpedrete . También es posible inscribirse hasta el mismo instante que dé comienzo la clase. Para las personas que no puedan participar y quieran colaborar existe una fila cero para realizar las aportaciones económicas que deseen.
URL:https://preproduccion.alpedrete.es/evento/aqua-gym-master-class-favor-los-ninos-cancer/
LOCATION:Ciudad Deportiva Municipal de Alpedrete\, C/ Campo de Fútbol s/n\, Alpedrete\, Madrid\, 28430\, España
CATEGORIES:Deportes
ATTACH;FMTTYPE=image/jpeg:https://preproduccion.alpedrete.es/wp-content/uploads/2017/03/Solidaria-Aqua-Gym.jpg
END:VEVENT
BEGIN:VEVENT
DTSTART;TZID=Europe/Madrid:20170226T110000
DTEND;TZID=Europe/Madrid:20170226T123000
DTSTAMP:20260419T173400
CREATED:20170221T130326Z
LAST-MODIFIED:20170221T130326Z
UID:11987-1488106800-1488112200@preproduccion.alpedrete.es
SUMMARY:Deporte solidario con las mujeres de Kenia
DESCRIPTION:El Ayuntamiento de Alpedrete y ADIP han programado el domingo 26 de febrero una máster class de “Zumba Sh’ban” dentro del Programa de Actividades Solidarias 2016-2017. La recaudación se destinará a la Asociación de Escritores Solidarios Cinco Palabras\, que cada mes ayuda a una causa benéfica a través de un juego literario-solidario. En esta ocasión la causa elegida es contra la mutilación genital femenina en Kenia\, que aún estando prohibida se sigue practicando un muchas zonas rurales del país. \nLa máster class está pensada para que pueda practicarla toda la familia. Se trata de una jornada de baile que propone aprender a mover el cuerpo sintiendo la música. El “Zumba Sh’ban” comenzará a las 11:00 de la mañana en el pabellón de la Ciudad Deportiva Municipal. La duración aproximada de la clase es de 90 minutos. \nEl precio por participar es de 3 euros los adultos y 1 euros los niños. Quien lo desee se puede inscribir previamente en la Ciudad Deportiva Municipal de Alpedrete (c/ Campo de Fútbol. Teléfono 91 857 1919). También es posible inscribirse hasta el mismo instante que dé comienzo la clase. Para las personas que no puedan participar y quieran colaborar existe una fila cero para realizar las aportaciones económicas que deseen.
URL:https://preproduccion.alpedrete.es/evento/deporte-solidario-las-mujeres-kenia/
LOCATION:Ciudad Deportiva Municipal de Alpedrete\, C/ Campo de Fútbol s/n\, Alpedrete\, Madrid\, 28430\, España
ATTACH;FMTTYPE=image/jpeg:https://preproduccion.alpedrete.es/wp-content/uploads/2017/02/Solidaria-Kenia.jpg
END:VEVENT
BEGIN:VEVENT
DTSTART;TZID=Europe/Madrid:20170105T180000
DTEND;TZID=Europe/Madrid:20170105T210000
DTSTAMP:20260419T173400
CREATED:20161217T081046Z
LAST-MODIFIED:20161217T132600Z
UID:11013-1483639200-1483650000@preproduccion.alpedrete.es
SUMMARY:Cabalgata de Reyes 2017
DESCRIPTION:El 5 de enero viviremos con ilusión como cada año\, la llegada de los Reyes Magos a Alpedrete.\n16:30 h Cabalgata del barrio de Los Negrales: \nSalida de la Iglesia de Nuestra Señora del Carmen y trayecto por las calles Santa Emilia\, San Jacinto\, José María Usandizaga\, Santiago Rodríguez Conde y regreso a la parroquia. \n18:00 h Cabalgata de Alpedrete: \nSalida de la Ciudad Deportiva Municipal de Alpedrete y recorrido por la calle Primavera\, Berrocales\, travesía de los Berrocales\, avenida de los Canteros\, calle Real\, plaza de la Villa y calle Maestro hasta la plaza de Francisco Rabal. \n20:00 Llegada a la Carpa de Navidad donde Melchor\, Gaspar y Baltasar entregarán un regalo a todos los niños y niñas… ¡Es la última ocasión para decir a los Reyes Magos qué regalos deseamos! \nRecorrido de la Cabalgata de  Reyes de Alpedrete 2017
URL:https://preproduccion.alpedrete.es/evento/cabalgata-reyes-2017/
LOCATION:Ciudad Deportiva Municipal de Alpedrete\, C/ Campo de Fútbol s/n\, Alpedrete\, Madrid\, 28430\, España
CATEGORIES:Navidad
ATTACH;FMTTYPE=image/jpeg:https://preproduccion.alpedrete.es/wp-content/uploads/2016/12/Belén4.jpg
END:VEVENT
BEGIN:VEVENT
DTSTART;TZID=Europe/Madrid:20161127T110000
DTEND;TZID=Europe/Madrid:20161127T123000
DTSTAMP:20260419T173400
CREATED:20161122T101324Z
LAST-MODIFIED:20161122T101324Z
UID:10355-1480244400-1480249800@preproduccion.alpedrete.es
SUMMARY:Yoga solidario para practicar en familia
DESCRIPTION:Máster Class solidaria organizada por el Ayuntamiento de Alpedrete y ADIP\, el domingo 27 de noviembre a partir de las 11 de la mañana en la Ciudad Deportiva Municipal. Se trata de una sesión de yoga en familia a la que se ha denominado “Jornada de Mente y Cuerpo”\, para personas de cualquier edad y condición física. \nLa clase tendrá una duración de 90 minutos\, con un precio de 2 euros. La recaudación íntegra se destinará a la Candelita\, organización sin ánimo de lucro que desarrolla actividades de promoción personal y colectiva. En 2015\, Candelita atendió a 3.440 personas a través de atención domiciliaria y cursos de formación\, educativos\, empleo\, voluntariado\, mujer e igualdad o de voluntariado. \nInscripciones en la Ciudad Deportiva Municipal (calle Campo de Fútbol s/n. Teléfono: 91 857 19 19). \n 
URL:https://preproduccion.alpedrete.es/evento/yoga-solidario-practicar-familia/
LOCATION:Ciudad Deportiva Municipal de Alpedrete\, C/ Campo de Fútbol s/n\, Alpedrete\, Madrid\, 28430\, España
CATEGORIES:Deportes
ATTACH;FMTTYPE=image/jpeg:https://preproduccion.alpedrete.es/wp-content/uploads/2016/11/Cuerpo-y-mente.jpg
END:VEVENT
BEGIN:VEVENT
DTSTART;TZID=Europe/Madrid:20160617T180000
DTEND;TZID=Europe/Madrid:20160618T140000
DTSTAMP:20260419T173400
CREATED:20160614T074354Z
LAST-MODIFIED:20160614T074354Z
UID:8208-1466186400-1466258400@preproduccion.alpedrete.es
SUMMARY:Fin de curso en el Polideportivo
DESCRIPTION:Casi 700 niños y niñas cierran el curso 2015-2016 en la Ciudad Deportiva Municipal de Alpedrete realizando una exhibición durante dos días de los deportes que han practicado durante todo el año. El viernes 17 y el sábado 18 de junio\, los alumnos y alumnas competirán en sus disciplinas y mostrarán la evolución conseguida durante los últimos meses. \nLa planificación de deportes y horarios para los dos días es la siguiente: \n\nViernes 17 de junio\n\nGimnasia rítmica\, de 18:00 a 21:00\nTenis\, de 20:00 a 21:00\nPádel\, de 20:00 a 21:00\nFútbol 7\, de 20:00 a 21:00\nMTB\, de 20:00 a 21:00\n\n\nSábado 18 de junio\n\nBaloncesto\, de 09:30 a 10:15\nVolley ball\, de 09:30 a 10:15\nPsicomotricidad y pre deporte\, de 10:30 a 11:15\nFútbol sala\, de 11:30 a 12:15\nDance\, de 12:30 a 13:15\nKárate\, de 13:20 a 14:00\nJudo de 13:20 a 14:00
URL:https://preproduccion.alpedrete.es/evento/fin-curso-polideportivo/
LOCATION:Ciudad Deportiva Municipal de Alpedrete\, C/ Campo de Fútbol s/n\, Alpedrete\, Madrid\, 28430\, España
CATEGORIES:Deportes
ATTACH;FMTTYPE=image/jpeg:https://preproduccion.alpedrete.es/wp-content/uploads/2016/06/Portería.jpg
END:VEVENT
BEGIN:VEVENT
DTSTART;TZID=Europe/Madrid:20160416T103000
DTEND;TZID=Europe/Madrid:20160416T103000
DTSTAMP:20260419T173400
CREATED:20160308T132803Z
LAST-MODIFIED:20160308T132803Z
UID:5888-1460802600-1460802600@preproduccion.alpedrete.es
SUMMARY:Exhibición de Gimnasia Rítmica ADS
DESCRIPTION:Todas las categorías. Femenino.
URL:https://preproduccion.alpedrete.es/evento/exhibicion-de-gimnasia-ritmica-ads/
LOCATION:Ciudad Deportiva Municipal de Alpedrete\, C/ Campo de Fútbol s/n\, Alpedrete\, Madrid\, 28430\, España
CATEGORIES:Deportes
ATTACH;FMTTYPE=image/jpeg:https://preproduccion.alpedrete.es/wp-content/uploads/2016/03/ritmica.jpg
END:VEVENT
BEGIN:VEVENT
DTSTART;TZID=Europe/Madrid:20160409T110000
DTEND;TZID=Europe/Madrid:20160409T140000
DTSTAMP:20260419T173400
CREATED:20160309T100422Z
LAST-MODIFIED:20160309T100422Z
UID:5899-1460199600-1460210400@preproduccion.alpedrete.es
SUMMARY:Competición de Karate ADS
DESCRIPTION:Katas y Kumite. Categorías infaltil y cadete\, masculino y femenino.
URL:https://preproduccion.alpedrete.es/evento/competicion-karate-ads/
LOCATION:Ciudad Deportiva Municipal de Alpedrete\, C/ Campo de Fútbol s/n\, Alpedrete\, Madrid\, 28430\, España
CATEGORIES:Deportes
ATTACH;FMTTYPE=image/jpeg:https://preproduccion.alpedrete.es/wp-content/uploads/2016/03/karate.jpg
END:VEVENT
BEGIN:VEVENT
DTSTART;TZID=Europe/Madrid:20160331T170000
DTEND;TZID=Europe/Madrid:20160402T210000
DTSTAMP:20260419T173400
CREATED:20160316T112824Z
LAST-MODIFIED:20160316T113124Z
UID:6054-1459443600-1459630800@preproduccion.alpedrete.es
SUMMARY:III Fiesta del Deporte
DESCRIPTION:El Ayuntamiento de Alpedrete y ADIP organizan la III Fiesta del Deporte\, que se celebra los días 31 de marzo y 1 y 2 de abril. \nEsta tercera edición no solo posibilita la práctica de multitud de disciplinas\, sino que convierte esas actividades en ejercicio de solidaridad. El dinero recaudado irá a manos de la Asociación Pro Autismo Arcoíris. \nLa III Fiesta del Deporte se enmarca en las Jornadas de Puertas Abiertas organizadas del 28 de marzo al 8 de abril para probar alguna de las actividades deportivas que se imparten en la Ciudad Deportiva Municipal. Las altas que se produzcan durante esos días tendrán un descuento del 50%. \nPrograma III Fiesta del Deporte \nJornadas de Puertas Abiertas \n 
URL:https://preproduccion.alpedrete.es/evento/iii-fiesta-del-deporte-2/
LOCATION:Ciudad Deportiva Municipal de Alpedrete\, C/ Campo de Fútbol s/n\, Alpedrete\, Madrid\, 28430\, España
CATEGORIES:Deportes
ATTACH;FMTTYPE=image/jpeg:https://preproduccion.alpedrete.es/wp-content/uploads/2016/03/Polideportivo.jpg
END:VEVENT
BEGIN:VEVENT
DTSTART;TZID=Europe/Madrid:20160312T100000
DTEND;TZID=Europe/Madrid:20160312T140000
DTSTAMP:20260419T173400
CREATED:20160308T124221Z
LAST-MODIFIED:20160314T085345Z
UID:5880-1457776800-1457791200@preproduccion.alpedrete.es
SUMMARY:Competición de Tenis ADS
DESCRIPTION:Categoría alevín masculino\, 12 y 13 de marzo.
URL:https://preproduccion.alpedrete.es/evento/competicion-de-tenis-ads/
LOCATION:Ciudad Deportiva Municipal de Alpedrete\, C/ Campo de Fútbol s/n\, Alpedrete\, Madrid\, 28430\, España
CATEGORIES:Deportes
ATTACH;FMTTYPE=image/jpeg:https://preproduccion.alpedrete.es/wp-content/uploads/2016/03/tenis.jpg
END:VEVENT
BEGIN:VEVENT
DTSTART;TZID=Europe/Madrid:20160311T180000
DTEND;TZID=Europe/Madrid:20160311T180000
DTSTAMP:20260419T173400
CREATED:20160308T122424Z
LAST-MODIFIED:20160308T123933Z
UID:5871-1457719200-1457719200@preproduccion.alpedrete.es
SUMMARY:Competición de Judo ADS
DESCRIPTION:Categoría individual benjamín.
URL:https://preproduccion.alpedrete.es/evento/competicion-de-judo-agrupacion-deportiva-de-la-sierra/
LOCATION:Ciudad Deportiva Municipal de Alpedrete\, C/ Campo de Fútbol s/n\, Alpedrete\, Madrid\, 28430\, España
CATEGORIES:Deportes
ATTACH;FMTTYPE=image/jpeg:https://preproduccion.alpedrete.es/wp-content/uploads/2016/03/JUDO-641-PIX.jpg
END:VEVENT
END:VCALENDAR