BEGIN:VCALENDAR
VERSION:2.0
PRODID:-//Web Ayuntamiento de Alpedrete - ECPv6.9.0//NONSGML v1.0//EN
CALSCALE:GREGORIAN
METHOD:PUBLISH
X-ORIGINAL-URL:https://preproduccion.alpedrete.es
X-WR-CALDESC:Eventos para Web Ayuntamiento de Alpedrete
REFRESH-INTERVAL;VALUE=DURATION:PT1H
X-Robots-Tag:noindex
X-PUBLISHED-TTL:PT1H
BEGIN:VTIMEZONE
TZID:Europe/Madrid
BEGIN:DAYLIGHT
TZOFFSETFROM:+0100
TZOFFSETTO:+0200
TZNAME:CEST
DTSTART:20170326T010000
END:DAYLIGHT
BEGIN:STANDARD
TZOFFSETFROM:+0200
TZOFFSETTO:+0100
TZNAME:CET
DTSTART:20171029T010000
END:STANDARD
BEGIN:DAYLIGHT
TZOFFSETFROM:+0100
TZOFFSETTO:+0200
TZNAME:CEST
DTSTART:20180325T010000
END:DAYLIGHT
BEGIN:STANDARD
TZOFFSETFROM:+0200
TZOFFSETTO:+0100
TZNAME:CET
DTSTART:20181028T010000
END:STANDARD
BEGIN:DAYLIGHT
TZOFFSETFROM:+0100
TZOFFSETTO:+0200
TZNAME:CEST
DTSTART:20190331T010000
END:DAYLIGHT
BEGIN:STANDARD
TZOFFSETFROM:+0200
TZOFFSETTO:+0100
TZNAME:CET
DTSTART:20191027T010000
END:STANDARD
END:VTIMEZONE
BEGIN:VEVENT
DTSTART;TZID=Europe/Madrid:20190227T170000
DTEND;TZID=Europe/Madrid:20190227T183000
DTSTAMP:20260420T072810
CREATED:20190222T133512Z
LAST-MODIFIED:20190222T133512Z
UID:25242-1551286800-1551292200@preproduccion.alpedrete.es
SUMMARY:Comunicación con nuestro bebé a través del masaje
DESCRIPTION:A través de este taller organizado por la Mancomunidad de Servicios Sociales THAM\, los padres potenciarán su comunicación con el bebé a través del masaje y el contacto corporal\, aprendiendo a inducirle estados de ánimo relajantes y apacibles. Todo ello facilita un buen vínculo con los hijos y les ayuda a conseguir un estado de tranquilidad y seguridad que asociarán con la compañía de sus padres. Dirigido a familias con bebés de hasta 18 meses.
URL:https://preproduccion.alpedrete.es/evento/comunicacion-con-nuestro-bebe-a-traves-del-masaje/
LOCATION:Escuela Infantil El Nogal\,  Calle de Santiago Ramón y Cajal\, 0\, \, Alpedrete\, Madrid\, 28430\, España
CATEGORIES:Taller
ATTACH;FMTTYPE=image/jpeg:https://preproduccion.alpedrete.es/wp-content/uploads/2019/02/masaje-bebe.jpg
GEO:40.6563881;-4.0218663
X-APPLE-STRUCTURED-LOCATION;VALUE=URI;X-ADDRESS=Escuela Infantil El Nogal  Calle de Santiago Ramón y Cajal 0  Alpedrete Madrid 28430 España;X-APPLE-RADIUS=500;X-TITLE=Calle de Santiago Ramón y Cajal\, 0\,:geo:-4.0218663,40.6563881
END:VEVENT
BEGIN:VEVENT
DTSTART;TZID=Europe/Madrid:20180308T163000
DTEND;TZID=Europe/Madrid:20180308T193000
DTSTAMP:20260420T072810
CREATED:20180219T094707Z
LAST-MODIFIED:20180308T124220Z
UID:19725-1520526600-1520537400@preproduccion.alpedrete.es
SUMMARY:Música en familia con los más peques
DESCRIPTION:Mamás y papás compartirán con sus hijos e hijas actividades y juegos donde exploran\, investigan y desarrollan habilidades motoras y cognitivas\, capacidades de concentración\, atención y escucha\, comunicándose\, socializándose\, expresándose y creando y fortaleciendo el vínculo entre los progenitores y los peques de la casa. \nEl taller se celebrará partir de las 16:30 horas en la Escuela Infantil El Nogal (se realizarán 3 grupos\, de una hora de duración cada uno). Música en familia con los más peques es para familias con menores de 6 meses a 3 años.
URL:https://preproduccion.alpedrete.es/evento/musica-en-familia/
LOCATION:Escuela Infantil El Nogal\,  Calle de Santiago Ramón y Cajal\, 0\, \, Alpedrete\, Madrid\, 28430\, España
CATEGORIES:Cultura
ATTACH;FMTTYPE=image/jpeg:https://preproduccion.alpedrete.es/wp-content/uploads/2018/02/children-246848_640.jpg
GEO:40.6563881;-4.0218663
X-APPLE-STRUCTURED-LOCATION;VALUE=URI;X-ADDRESS=Escuela Infantil El Nogal  Calle de Santiago Ramón y Cajal 0  Alpedrete Madrid 28430 España;X-APPLE-RADIUS=500;X-TITLE=Calle de Santiago Ramón y Cajal\, 0\,:geo:-4.0218663,40.6563881
END:VEVENT
BEGIN:VEVENT
DTSTART;TZID=Europe/Madrid:20180203T103000
DTEND;TZID=Europe/Madrid:20180203T123000
DTSTAMP:20260420T072810
CREATED:20180123T142100Z
LAST-MODIFIED:20180123T142100Z
UID:19286-1517653800-1517661000@preproduccion.alpedrete.es
SUMMARY:Yoga en Familia
DESCRIPTION:El taller «Yoga en Familia» ofrece la oportunidad para que niños y niñas\, padres y madres\, y/o abuelos y abuelas\, puedan pasar un tiempo juntos\, disfrutado de una actividad divertida y saludable. \nA través del yoga\, adultos y menores encuentran un espacio mágico de crecimiento y aprendizaje\, aprendiendo a respirar conscientemente y a entrar en estado de calma y relajación. Esta disciplina es una excelente opción para lograr la unión del ocio y el desarrollo físico y mental\, que practicado en familia refuerza el vínculo afectivo y la comunicación. \nEscuela Infantil El Nogal\, 3 de febrero. Dos grupos: 10:30 y 11:30 horas. Necesaria inscripción en la Mancomunidad de Servicios Sociales THAM. \n 
URL:https://preproduccion.alpedrete.es/evento/yoga-en-familia/
LOCATION:Escuela Infantil El Nogal\,  Calle de Santiago Ramón y Cajal\, 0\, \, Alpedrete\, Madrid\, 28430\, España
CATEGORIES:Escuela de Familia
ATTACH;FMTTYPE=image/jpeg:https://preproduccion.alpedrete.es/wp-content/uploads/2018/01/yoga-familia.jpg
GEO:40.6563881;-4.0218663
X-APPLE-STRUCTURED-LOCATION;VALUE=URI;X-ADDRESS=Escuela Infantil El Nogal  Calle de Santiago Ramón y Cajal 0  Alpedrete Madrid 28430 España;X-APPLE-RADIUS=500;X-TITLE=Calle de Santiago Ramón y Cajal\, 0\,:geo:-4.0218663,40.6563881
END:VEVENT
BEGIN:VEVENT
DTSTART;TZID=Europe/Madrid:20171115T163000
DTEND;TZID=Europe/Madrid:20171115T193000
DTSTAMP:20260420T072810
CREATED:20171107T142258Z
LAST-MODIFIED:20171109T135243Z
UID:17912-1510763400-1510774200@preproduccion.alpedrete.es
SUMMARY:Música en familia con los más peques
DESCRIPTION:Taller que se impartirá el 15 de noviembre a partir de las 16:30 horas en la Escuela Infantil El Nogal (se realizarán 3 grupos\, de una hora de duración cada uno). Sesión impartida por Silvia León. \nMamás y papás compartirán con sus hijos e hijas actividades y juegos con los que explorar\, investigar y desarrollar habilidades motoras y cognitivas\, capacidades de concentración\, atención y escucha. Este espacio compartido facilitará la comunicación\, socialización\, expresión y fortalecimiento de los progenitores y los peques de la casa. \nMúsica en familia con los más peques es para familias con menores de 6 meses a 3 años. \nMás información
URL:https://preproduccion.alpedrete.es/evento/musica-familia-los-mas-peques/
LOCATION:Escuela Infantil El Nogal\,  Calle de Santiago Ramón y Cajal\, 0\, \, Alpedrete\, Madrid\, 28430\, España
CATEGORIES:Escuela de Familia
ATTACH;FMTTYPE=image/jpeg:https://preproduccion.alpedrete.es/wp-content/uploads/2017/11/Escuela-de-familia-430x323.jpg
GEO:40.6563881;-4.0218663
X-APPLE-STRUCTURED-LOCATION;VALUE=URI;X-ADDRESS=Escuela Infantil El Nogal  Calle de Santiago Ramón y Cajal 0  Alpedrete Madrid 28430 España;X-APPLE-RADIUS=500;X-TITLE=Calle de Santiago Ramón y Cajal\, 0\,:geo:-4.0218663,40.6563881
END:VEVENT
BEGIN:VEVENT
DTSTART;TZID=Europe/Madrid:20170315T170000
DTEND;TZID=Europe/Madrid:20170315T180000
DTSTAMP:20260420T072810
CREATED:20170124T123848Z
LAST-MODIFIED:20170124T123848Z
UID:11461-1489597200-1489600800@preproduccion.alpedrete.es
SUMMARY:Explorando con los cinco sentidos: taller para los más peques
DESCRIPTION:La Mancomunidad THAM de Servicios Sociales (Torrelodones\, Hoyo de Manzanares\, Alpedrete y Moralzarzal) ha puesto en marcha los cursos de la Escuela de Familia para el primer trimestre de 2017. \nPara familias con menores hasta 15 meses. Con servicio de cuidados infantiles gratuíto solicitándolo en el momento de la inscripción previa. \nMás información en el Centro Municipal de Servicios Sociales (91 850 80 80) y en www.mancomunidad-tham.es
URL:https://preproduccion.alpedrete.es/evento/explorando-los-cinco-sentidos-taller-los-mas-peques/
LOCATION:Escuela Infantil El Nogal\,  Calle de Santiago Ramón y Cajal\, 0\, \, Alpedrete\, Madrid\, 28430\, España
CATEGORIES:Escuela de Familia
ATTACH;FMTTYPE=image/jpeg:https://preproduccion.alpedrete.es/wp-content/uploads/2016/09/Escuela-de-familia.jpg
GEO:40.6563881;-4.0218663
X-APPLE-STRUCTURED-LOCATION;VALUE=URI;X-ADDRESS=Escuela Infantil El Nogal  Calle de Santiago Ramón y Cajal 0  Alpedrete Madrid 28430 España;X-APPLE-RADIUS=500;X-TITLE=Calle de Santiago Ramón y Cajal\, 0\,:geo:-4.0218663,40.6563881
END:VEVENT
END:VCALENDAR