BEGIN:VCALENDAR
VERSION:2.0
PRODID:-//Web Ayuntamiento de Alpedrete - ECPv6.9.0//NONSGML v1.0//EN
CALSCALE:GREGORIAN
METHOD:PUBLISH
X-ORIGINAL-URL:https://preproduccion.alpedrete.es
X-WR-CALDESC:Eventos para Web Ayuntamiento de Alpedrete
REFRESH-INTERVAL;VALUE=DURATION:PT1H
X-Robots-Tag:noindex
X-PUBLISHED-TTL:PT1H
BEGIN:VTIMEZONE
TZID:Europe/Madrid
BEGIN:DAYLIGHT
TZOFFSETFROM:+0100
TZOFFSETTO:+0200
TZNAME:CEST
DTSTART:20170326T010000
END:DAYLIGHT
BEGIN:STANDARD
TZOFFSETFROM:+0200
TZOFFSETTO:+0100
TZNAME:CET
DTSTART:20171029T010000
END:STANDARD
END:VTIMEZONE
BEGIN:VEVENT
DTSTART;TZID=Europe/Madrid:20171018T143000
DTEND;TZID=Europe/Madrid:20171018T163000
DTSTAMP:20260420T145931
CREATED:20171016T121023Z
LAST-MODIFIED:20171016T121447Z
UID:17620-1508337000-1508344200@preproduccion.alpedrete.es
SUMMARY:Contabilidad para no contables
DESCRIPTION:Encuentro participativo dirigido a las mujeres emprendedoras que tienen dudas sobre qué tienen que saber y qué significan algunos términos habituales en la gestión contable de empresas. Organizado por la Mancomunidad de Servicios Sociales THAM. \nContenidos del taller: \n\nRequisitos y documentación administrativa de apertura.\nRequisitos y documentación administrativa para el alta en actividad.\nImpuestos.\nConceptos financieros y contables.\n\nMiércoles\, 18 de octubre de 14:30 a 16:30 horas. Más información en inscripciones Mancomunidad de Servicios Sociales THAM.
URL:https://preproduccion.alpedrete.es/evento/contabilidad-no-contables/
LOCATION:Mancomunidad de Servicios Sociales THAM\, Calle Pozo Nuevo 4-6\, Alpedrete\, Madrid\, 28430\, España
CATEGORIES:Taller
ATTACH;FMTTYPE=image/jpeg:https://preproduccion.alpedrete.es/wp-content/uploads/2017/10/contabilidad.jpg
GEO:40.6587762;-4.0257802
X-APPLE-STRUCTURED-LOCATION;VALUE=URI;X-ADDRESS=Mancomunidad de Servicios Sociales THAM Calle Pozo Nuevo 4-6 Alpedrete Madrid 28430 España;X-APPLE-RADIUS=500;X-TITLE=Calle Pozo Nuevo 4-6:geo:-4.0257802,40.6587762
END:VEVENT
BEGIN:VEVENT
DTSTART;TZID=Europe/Madrid:20170531T081500
DTEND;TZID=Europe/Madrid:20170531T140000
DTSTAMP:20260420T145931
CREATED:20170531T095643Z
LAST-MODIFIED:20170614T124547Z
UID:14997-1496218500-1496239200@preproduccion.alpedrete.es
SUMMARY:Inscripción en los "Días sin cole"
DESCRIPTION:Llegado el fin del curso escolar el Ayuntamiento de Alpedrete\, a través de la Mancomunidad de Servicios Sociales THAM\, ofrece el servicio “Días sin cole” con objeto de contribuir a la conciliación familiar durante las jornadas escolares no lectivas. Durante esta ocasión\, los días en los que se prestará este servicio son el 23\, 26\, 27\, 28\, 29 y 30 de junio. El eje temático de las actividades será “de viaje por los parques temáticos” y el lugar de realización de las actividades será el colegio El Peralejo. \nDirigido a los menores de 3 a 12 años\, el horario comprende desde las 9 a 13\,30 horas sin comedor\, y hasta las 15:00 ó 16:30 h con comedor. Además\, existe la posibilidad de utilizar un horario ampliado\, ofertándose tres franjas horarias adicionales: entrada a las 7:30 h\, entrada a las 8:00 h y salida a las 17:00 h. \nEl plazo de inscripción es hasta las 14:00 h del tercer día hábil anterior a la actividad\, no considerándose hábil el sábado. En esta ocasión\, hasta el 20 de junio. Las inscripciones se pueden realizar presencialmente en el Centro Municipal de Servicios Sociales o de forma telemática en la sede electrónica de la Mancomunidad THAM. \nMás información e impresos de inscripción: Días sin cole Mancomunidad THAM
URL:https://preproduccion.alpedrete.es/evento/inscripcion-los-dias-sin-cole/2017-05-31/
LOCATION:Mancomunidad de Servicios Sociales THAM\, Calle Pozo Nuevo 4-6\, Alpedrete\, Madrid\, 28430\, España
CATEGORIES:Educación
ATTACH;FMTTYPE=image/jpeg:https://preproduccion.alpedrete.es/wp-content/uploads/2017/05/dias-sin-cole-junio.jpg
GEO:40.6587762;-4.0257802
X-APPLE-STRUCTURED-LOCATION;VALUE=URI;X-ADDRESS=Mancomunidad de Servicios Sociales THAM Calle Pozo Nuevo 4-6 Alpedrete Madrid 28430 España;X-APPLE-RADIUS=500;X-TITLE=Calle Pozo Nuevo 4-6:geo:-4.0257802,40.6587762
END:VEVENT
BEGIN:VEVENT
DTSTART;TZID=Europe/Madrid:20170508T180000
DTEND;TZID=Europe/Madrid:20170508T200000
DTSTAMP:20260420T145931
CREATED:20170427T140623Z
LAST-MODIFIED:20170612T103447Z
UID:13416-1494266400-1494273600@preproduccion.alpedrete.es
SUMMARY:Taller: Autoconocimiento\, afectividad y sexualidad
DESCRIPTION:Dirigido a mujeres\, este taller tiene como objetivo principal proporcionar las herramientas necesarias para mejorar su vivencia sexual. Se impartirá los lunes de 18 a 20 h\,\, en el periodo comprendido entre el 8 de mayo al 19 de junio. \nActividad programada por la Mancomunidad de Servicios Sociales THAM. Inscripción previa en Servicios Sociales de Alpedrete. \nMás información: www.mancomunidad-tham.
URL:https://preproduccion.alpedrete.es/evento/taller-autoconocimiento-afectividad-sexualidad/2017-05-08/
LOCATION:Mancomunidad de Servicios Sociales THAM\, Calle Pozo Nuevo 4-6\, Alpedrete\, Madrid\, 28430\, España
CATEGORIES:Taller
ATTACH;FMTTYPE=image/jpeg:https://preproduccion.alpedrete.es/wp-content/uploads/2017/04/mujer.jpg
GEO:40.6587762;-4.0257802
X-APPLE-STRUCTURED-LOCATION;VALUE=URI;X-ADDRESS=Mancomunidad de Servicios Sociales THAM Calle Pozo Nuevo 4-6 Alpedrete Madrid 28430 España;X-APPLE-RADIUS=500;X-TITLE=Calle Pozo Nuevo 4-6:geo:-4.0257802,40.6587762
END:VEVENT
BEGIN:VEVENT
DTSTART;TZID=Europe/Madrid:20170505T180000
DTEND;TZID=Europe/Madrid:20170505T200000
DTSTAMP:20260420T145931
CREATED:20170427T133930Z
LAST-MODIFIED:20170427T135425Z
UID:13418-1494007200-1494014400@preproduccion.alpedrete.es
SUMMARY:Biodanza en familia
DESCRIPTION:Taller para toda la familia\, menores a partir de 5 años. Programado por la Mancomunidad de Servicios Sociales THAM. \nCon esta sesión queremos invitaros a compartir un momento especial de comunicación con vuestro/a hijo/a\, en el que favorecer la expresión y el vínculo a través del juego\, la música y la danza. Tomaremos conciencia de que los valores y las capacidades no tienen género y trabajaremos algunos estereotipos\, favoreciendo así comportamientos basados en la igualdad. \nActividad gratuita. Inscripción previa en Servicios Sociales de Alpedrete. \nMás información: www.mancomunidad-tham.es
URL:https://preproduccion.alpedrete.es/evento/biodanza-en-familia/
LOCATION:Mancomunidad de Servicios Sociales THAM\, Calle Pozo Nuevo 4-6\, Alpedrete\, Madrid\, 28430\, España
CATEGORIES:Baile/Danza
ATTACH;FMTTYPE=image/jpeg:https://preproduccion.alpedrete.es/wp-content/uploads/2017/04/biodanza2.jpg
GEO:40.6587762;-4.0257802
X-APPLE-STRUCTURED-LOCATION;VALUE=URI;X-ADDRESS=Mancomunidad de Servicios Sociales THAM Calle Pozo Nuevo 4-6 Alpedrete Madrid 28430 España;X-APPLE-RADIUS=500;X-TITLE=Calle Pozo Nuevo 4-6:geo:-4.0257802,40.6587762
END:VEVENT
BEGIN:VEVENT
DTSTART;VALUE=DATE:20170504
DTEND;VALUE=DATE:20170527
DTSTAMP:20260420T145931
CREATED:20170503T080314Z
LAST-MODIFIED:20170503T080314Z
UID:13500-1493856000-1495843199@preproduccion.alpedrete.es
SUMMARY:Matriculación en la Escuela de Verano
DESCRIPTION:El 4 de mayo comienza en el plazo de matriculación en “Veraneando en Alpedrete”\, la Escuela de Verano que cada año organiza la Mancomunidad THAM \, dirigida a niños y niñas de edades comprendidas entre los 3 y 12 años. \nEl plazo de inscripción se abre el 4 de mayo y finaliza el 26 del mismo mes. Se puede realizar de varias maneras: de lunes a viernes\, de 9:00 a 14:00 horas\, en el Centro Municipal de Servicios Sociales de Alpedrete y los lunes y martes en horario de 16:30 a 19:00 horas. Igualmente\, las inscripciones se podrán formalizar a través de la sede electrónica de la mancomunidad (https://sede.mancomunidad-tham.es). \nMás información: Veraneando en Alpedrete \n  \n  \n 
URL:https://preproduccion.alpedrete.es/evento/matriculacion-la-escuela-verano/
LOCATION:Mancomunidad de Servicios Sociales THAM\, Calle Pozo Nuevo 4-6\, Alpedrete\, Madrid\, 28430\, España
ATTACH;FMTTYPE=image/jpeg:https://preproduccion.alpedrete.es/wp-content/uploads/2017/05/Verano.jpg
GEO:40.6587762;-4.0257802
X-APPLE-STRUCTURED-LOCATION;VALUE=URI;X-ADDRESS=Mancomunidad de Servicios Sociales THAM Calle Pozo Nuevo 4-6 Alpedrete Madrid 28430 España;X-APPLE-RADIUS=500;X-TITLE=Calle Pozo Nuevo 4-6:geo:-4.0257802,40.6587762
END:VEVENT
END:VCALENDAR