BEGIN:VCALENDAR
VERSION:2.0
PRODID:-//Web Ayuntamiento de Alpedrete - ECPv6.9.0//NONSGML v1.0//EN
CALSCALE:GREGORIAN
METHOD:PUBLISH
X-WR-CALNAME:Web Ayuntamiento de Alpedrete
X-ORIGINAL-URL:https://preproduccion.alpedrete.es
X-WR-CALDESC:Eventos para Web Ayuntamiento de Alpedrete
REFRESH-INTERVAL;VALUE=DURATION:PT1H
X-Robots-Tag:noindex
X-PUBLISHED-TTL:PT1H
BEGIN:VTIMEZONE
TZID:Europe/Madrid
BEGIN:DAYLIGHT
TZOFFSETFROM:+0100
TZOFFSETTO:+0200
TZNAME:CEST
DTSTART:20170326T010000
END:DAYLIGHT
BEGIN:STANDARD
TZOFFSETFROM:+0200
TZOFFSETTO:+0100
TZNAME:CET
DTSTART:20171029T010000
END:STANDARD
BEGIN:DAYLIGHT
TZOFFSETFROM:+0100
TZOFFSETTO:+0200
TZNAME:CEST
DTSTART:20180325T010000
END:DAYLIGHT
BEGIN:STANDARD
TZOFFSETFROM:+0200
TZOFFSETTO:+0100
TZNAME:CET
DTSTART:20181028T010000
END:STANDARD
BEGIN:DAYLIGHT
TZOFFSETFROM:+0100
TZOFFSETTO:+0200
TZNAME:CEST
DTSTART:20190331T010000
END:DAYLIGHT
BEGIN:STANDARD
TZOFFSETFROM:+0200
TZOFFSETTO:+0100
TZNAME:CET
DTSTART:20191027T010000
END:STANDARD
BEGIN:DAYLIGHT
TZOFFSETFROM:+0100
TZOFFSETTO:+0200
TZNAME:CEST
DTSTART:20200329T010000
END:DAYLIGHT
BEGIN:STANDARD
TZOFFSETFROM:+0200
TZOFFSETTO:+0100
TZNAME:CET
DTSTART:20201025T010000
END:STANDARD
END:VTIMEZONE
BEGIN:VEVENT
DTSTART;TZID=Europe/Madrid:20200229T153000
DTEND;TZID=Europe/Madrid:20200229T235900
DTSTAMP:20260423T143817
CREATED:20200221T160642Z
LAST-MODIFIED:20200228T120630Z
UID:29593-1582990200-1583020740@preproduccion.alpedrete.es
SUMMARY:Gran Premio X- Sauce
DESCRIPTION:Los próximos 29 de febrero y 1 de marzo\, en el «circuito La Calleja»\, explanada situada en la rotonda de El Cantero\, se celebrará el IV Trofeo Excelentísimo Ayuntamiento de Alpedrete\, Open de Madrid XC olímpico y Giant Super Cup MTB. Todos los interesados pueden inscribirse hasta el jueves 27 de febrero a las 20:00 horas a través del siguiente enlace:  Inscipciones IV Trofeo Excelentísimo Ayuntamiento de Alpedrete \nMás Información sobre el evento \n 
URL:https://preproduccion.alpedrete.es/evento/gran-premio-x-sauce/2020-02-29/
LOCATION:Rotonda de El Cantero\, Rotonda de El Cantero\, Alpedrete\, 28430\, España
CATEGORIES:Deportes
ATTACH;FMTTYPE=image/jpeg:https://preproduccion.alpedrete.es/wp-content/uploads/2020/02/cartel-bicis.jpg
GEO:40.6591783;-4.031174
X-APPLE-STRUCTURED-LOCATION;VALUE=URI;X-ADDRESS=Rotonda de El Cantero Rotonda de El Cantero Alpedrete 28430 España;X-APPLE-RADIUS=500;X-TITLE=Rotonda de El Cantero:geo:-4.031174,40.6591783
END:VEVENT
BEGIN:VEVENT
DTSTART;TZID=Europe/Madrid:20170523T120000
DTEND;TZID=Europe/Madrid:20170523T130000
DTSTAMP:20260423T143817
CREATED:20170517T114843Z
LAST-MODIFIED:20170517T114843Z
UID:14376-1495540800-1495544400@preproduccion.alpedrete.es
SUMMARY:Encierro de la Trashumancia
DESCRIPTION:Martes 23 de mayo\, encierro de la trashumancia a las 12:00 h. Salida desde la Urbanización Los Berrocales por la calleja del Maestro\, hasta la Plaza de Toros.
URL:https://preproduccion.alpedrete.es/evento/encierro-la-trashumancia/
LOCATION:Rotonda de El Cantero\, Rotonda de El Cantero\, Alpedrete\, 28430\, España
CATEGORIES:Fiestas patronales
ATTACH;FMTTYPE=image/jpeg:https://preproduccion.alpedrete.es/wp-content/uploads/2017/05/10-Trashumancia-ok.jpg
GEO:40.6591783;-4.031174
X-APPLE-STRUCTURED-LOCATION;VALUE=URI;X-ADDRESS=Rotonda de El Cantero Rotonda de El Cantero Alpedrete 28430 España;X-APPLE-RADIUS=500;X-TITLE=Rotonda de El Cantero:geo:-4.031174,40.6591783
END:VEVENT
BEGIN:VEVENT
DTSTART;TZID=Europe/Madrid:20170522T200000
DTEND;TZID=Europe/Madrid:20170522T213000
DTSTAMP:20260423T143817
CREATED:20170517T090845Z
LAST-MODIFIED:20170517T090845Z
UID:14352-1495483200-1495488600@preproduccion.alpedrete.es
SUMMARY:Capea y finalización del concurso de peñas
DESCRIPTION:En la Plaza de Toros\, rotonda de El Cantero\,  a las 20:00 h.
URL:https://preproduccion.alpedrete.es/evento/capea-finalizacion-del-concurso-penas/
LOCATION:Rotonda de El Cantero\, Rotonda de El Cantero\, Alpedrete\, 28430\, España
CATEGORIES:Concurso,Fiestas patronales
ATTACH;FMTTYPE=image/jpeg:https://preproduccion.alpedrete.es/wp-content/uploads/2017/05/capea.jpg
GEO:40.6591783;-4.031174
X-APPLE-STRUCTURED-LOCATION;VALUE=URI;X-ADDRESS=Rotonda de El Cantero Rotonda de El Cantero Alpedrete 28430 España;X-APPLE-RADIUS=500;X-TITLE=Rotonda de El Cantero:geo:-4.031174,40.6591783
END:VEVENT
BEGIN:VEVENT
DTSTART;TZID=Europe/Madrid:20170521T183000
DTEND;TZID=Europe/Madrid:20170521T203000
DTSTAMP:20260423T143817
CREATED:20170515T121036Z
LAST-MODIFIED:20170516T081338Z
UID:14298-1495391400-1495398600@preproduccion.alpedrete.es
SUMMARY:Novillada sin picadores
DESCRIPTION:Plaza de Toros\, rotonda de El Cantero. Entrada en taquilla y en centros colaboradores. En colaboración con el Centro de Asuntos Taurinos de la Comunidad de Madrid.
URL:https://preproduccion.alpedrete.es/evento/novillada-sin-picadores/
LOCATION:Rotonda de El Cantero\, Rotonda de El Cantero\, Alpedrete\, 28430\, España
CATEGORIES:Fiestas patronales
ATTACH;FMTTYPE=image/jpeg:https://preproduccion.alpedrete.es/wp-content/uploads/2017/05/toros2.jpg
GEO:40.6591783;-4.031174
X-APPLE-STRUCTURED-LOCATION;VALUE=URI;X-ADDRESS=Rotonda de El Cantero Rotonda de El Cantero Alpedrete 28430 España;X-APPLE-RADIUS=500;X-TITLE=Rotonda de El Cantero:geo:-4.031174,40.6591783
END:VEVENT
BEGIN:VEVENT
DTSTART;TZID=Europe/Madrid:20170520T190000
DTEND;TZID=Europe/Madrid:20170520T203000
DTSTAMP:20260423T143817
CREATED:20170515T102849Z
LAST-MODIFIED:20170516T080145Z
UID:14273-1495306800-1495312200@preproduccion.alpedrete.es
SUMMARY:Concurso de Recortes
DESCRIPTION:A las 19:00 h\, en la Plaza de Toros situada en la rotonda de El Cantero. Entrada en taquilla y en centros colaboradores.
URL:https://preproduccion.alpedrete.es/evento/concurso-de-recortes/
LOCATION:Rotonda de El Cantero\, Rotonda de El Cantero\, Alpedrete\, 28430\, España
CATEGORIES:Concurso,Fiestas patronales
ATTACH;FMTTYPE=image/jpeg:https://preproduccion.alpedrete.es/wp-content/uploads/2017/05/RECORTES.jpg
GEO:40.6591783;-4.031174
X-APPLE-STRUCTURED-LOCATION;VALUE=URI;X-ADDRESS=Rotonda de El Cantero Rotonda de El Cantero Alpedrete 28430 España;X-APPLE-RADIUS=500;X-TITLE=Rotonda de El Cantero:geo:-4.031174,40.6591783
END:VEVENT
BEGIN:VEVENT
DTSTART;TZID=Europe/Madrid:20170520T120000
DTEND;TZID=Europe/Madrid:20170520T140000
DTSTAMP:20260423T143817
CREATED:20170512T135545Z
LAST-MODIFIED:20170520T101738Z
UID:13748-1495281600-1495288800@preproduccion.alpedrete.es
SUMMARY:Encierros
DESCRIPTION:Sábado 20 y domingo 21 de mayo. Encierro infantil a las 12:00 h\, acompañado de gigantes y cabezudos en calle Collado Mediano. Después encierro para adultos con suelta de vaquilla a las 13:00 h\, en la Plaza de Toros\, rotonda de El Cantero. \n 
URL:https://preproduccion.alpedrete.es/evento/encierros/2017-05-20/
LOCATION:Rotonda de El Cantero\, Rotonda de El Cantero\, Alpedrete\, 28430\, España
CATEGORIES:Fiestas patronales
ATTACH;FMTTYPE=image/jpeg:https://preproduccion.alpedrete.es/wp-content/uploads/2017/05/9-Encierros.jpg
GEO:40.6591783;-4.031174
X-APPLE-STRUCTURED-LOCATION;VALUE=URI;X-ADDRESS=Rotonda de El Cantero Rotonda de El Cantero Alpedrete 28430 España;X-APPLE-RADIUS=500;X-TITLE=Rotonda de El Cantero:geo:-4.031174,40.6591783
END:VEVENT
BEGIN:VEVENT
DTSTART;TZID=Europe/Madrid:20170519T000000
DTEND;TZID=Europe/Madrid:20170520T003000
DTSTAMP:20260423T143817
CREATED:20170512T130205Z
LAST-MODIFIED:20170517T082813Z
UID:13738-1495152000-1495240200@preproduccion.alpedrete.es
SUMMARY:Vaquilla nocturna
DESCRIPTION:Madrugada del viernes 19 de mayo\, vaquilla nocturna. Plaza de Toros\, rotonda de El Cantero.
URL:https://preproduccion.alpedrete.es/evento/vaquilla-nocturna/
LOCATION:Rotonda de El Cantero\, Rotonda de El Cantero\, Alpedrete\, 28430\, España
CATEGORIES:Fiestas patronales
ATTACH;FMTTYPE=image/jpeg:https://preproduccion.alpedrete.es/wp-content/uploads/2017/05/7-Vaquilla-nocturna.jpg
GEO:40.6591783;-4.031174
X-APPLE-STRUCTURED-LOCATION;VALUE=URI;X-ADDRESS=Rotonda de El Cantero Rotonda de El Cantero Alpedrete 28430 España;X-APPLE-RADIUS=500;X-TITLE=Rotonda de El Cantero:geo:-4.031174,40.6591783
END:VEVENT
END:VCALENDAR