BEGIN:VCALENDAR
VERSION:2.0
PRODID:-//Web Ayuntamiento de Alpedrete - ECPv6.9.0//NONSGML v1.0//EN
CALSCALE:GREGORIAN
METHOD:PUBLISH
X-WR-CALNAME:Web Ayuntamiento de Alpedrete
X-ORIGINAL-URL:https://preproduccion.alpedrete.es
X-WR-CALDESC:Eventos para Web Ayuntamiento de Alpedrete
REFRESH-INTERVAL;VALUE=DURATION:PT1H
X-Robots-Tag:noindex
X-PUBLISHED-TTL:PT1H
BEGIN:VTIMEZONE
TZID:Europe/Madrid
BEGIN:DAYLIGHT
TZOFFSETFROM:+0100
TZOFFSETTO:+0200
TZNAME:CEST
DTSTART:20160327T010000
END:DAYLIGHT
BEGIN:STANDARD
TZOFFSETFROM:+0200
TZOFFSETTO:+0100
TZNAME:CET
DTSTART:20161030T010000
END:STANDARD
BEGIN:DAYLIGHT
TZOFFSETFROM:+0100
TZOFFSETTO:+0200
TZNAME:CEST
DTSTART:20170326T010000
END:DAYLIGHT
BEGIN:STANDARD
TZOFFSETFROM:+0200
TZOFFSETTO:+0100
TZNAME:CET
DTSTART:20171029T010000
END:STANDARD
BEGIN:DAYLIGHT
TZOFFSETFROM:+0100
TZOFFSETTO:+0200
TZNAME:CEST
DTSTART:20180325T010000
END:DAYLIGHT
BEGIN:STANDARD
TZOFFSETFROM:+0200
TZOFFSETTO:+0100
TZNAME:CET
DTSTART:20181028T010000
END:STANDARD
BEGIN:DAYLIGHT
TZOFFSETFROM:+0100
TZOFFSETTO:+0200
TZNAME:CEST
DTSTART:20190331T010000
END:DAYLIGHT
BEGIN:STANDARD
TZOFFSETFROM:+0200
TZOFFSETTO:+0100
TZNAME:CET
DTSTART:20191027T010000
END:STANDARD
BEGIN:DAYLIGHT
TZOFFSETFROM:+0100
TZOFFSETTO:+0200
TZNAME:CEST
DTSTART:20200329T010000
END:DAYLIGHT
BEGIN:STANDARD
TZOFFSETFROM:+0200
TZOFFSETTO:+0100
TZNAME:CET
DTSTART:20201025T010000
END:STANDARD
END:VTIMEZONE
BEGIN:VEVENT
DTSTART;TZID=Europe/Madrid:20201203T173000
DTEND;TZID=Europe/Madrid:20201203T193000
DTSTAMP:20260421T004946
CREATED:20201110T090019Z
LAST-MODIFIED:20201126T141848Z
UID:33051-1607016600-1607023800@preproduccion.alpedrete.es
SUMMARY:Prevenir en familia para evitar dolores de cabeza
DESCRIPTION:Desde el Ayuntamiento de Alpedrete y la Mancomunidad de Servicios Sociales THAM\, se ofrece este taller dentro del programa «Espacio para familias»\, en torno a temas de interés relacionados con la educación de los menores y la convivencia familiar. \nLa familia tiene una amplia capacidad de influencia sobre los menores para poder prevenir conductas de riesgo\, entre ellas\, la del consumo de drogas. \nCelebraremos cuatro sesiones con el título «Prevenir en familia para evitar dolores de cabeza» con el objetivo de que las familias tomen conciencia de la gran capacidad de influencia que tienen sobre sus hijos en la prevención de conductas de riesgo\, entre ellas\, la del consumo de drogas. Queremos mostrar todos los recursos que tienen disponibles para que sus hijos e hijas estén protegidos frente a los consumos y otros riesgos\, empezando por la adopción de actitudes y la adquisición de habilidades relacionadas con un adecuado clima afectivo y de comunicación en la familia. \nSesiones a cargo de profesionales del programa En familia. Educar para la vida\, de la Fad (Fundación de Ayuda contra la Drogadicción). \nDebido a la situación actual las sesiones se impartirán en un doble formato: presencial\, con limitación de aforo\, y simultáneamente on line para el resto de personas interesadas\, a través de la plataforma Zoom. Para asistir será imprescindible inscribirse previamente por teléfono o correo electrónico: thamfamilia@mancomunidad-tham.org – 918508080. \nPor el momento\, este curso no habrá servicio de cuidados infantiles para quienes opten por participar de manera presencial. \nJueves 12\, 19 y 26 de noviembre y 3 de diciembre de 17:30 a 19:30 \nLas sesiones son independientes\, aunque relacionadas\, por lo que no es necesario participar en todas ellas. \nDurante las dos primeras sesiones (12 y 19 de noviembre)\, se ha abordado la prevención familiar (la influencia de las pautas familiares en la reducción de los factores de riesgo y en la potenciación de los factores de protección para evitar conductas de riesgo) y un acercamiento a las drogas (información sobre las sustancias\, consecuencias de su consumo y cómo dialogar sobre ellas). \nLas próximas sesiones se realizarán los jueves 26 de noviembre y 3 de diciembre de 17:30 a 19 horas con los siguientes contenidos: \n\nNosotr@s\, madres y padres: parentalidad positiva y responsable \, respuesta a las necesidades de la sociedad actual\, inteligencia emocional en el ámbito familiar\, cómo comunicarnos\, mindfulness o atención plena.\nEscuela de comunicación: cómo propiciar espacios de comunicación en la familia y comunicación positiva.\n\nSesiones a cargo de profesionales del programa En familia. Educar para la vida\, de la Fad (Fundación de Ayuda contra la Drogadicción).
URL:https://preproduccion.alpedrete.es/evento/prevenir-en-familia-para-evitar-dolores-de-cabeza-4/
LOCATION:Mancomunidad THAM. Sede central Torrelodones\, Avenida de la Dehesa\, 63\, Torrelodones\, España
ATTACH;FMTTYPE=image/jpeg:https://preproduccion.alpedrete.es/wp-content/uploads/2020/11/padre-hijo-adolescente.jpg
GEO:40.5811519;-3.9292476
X-APPLE-STRUCTURED-LOCATION;VALUE=URI;X-ADDRESS=Mancomunidad THAM. Sede central Torrelodones Avenida de la Dehesa 63 Torrelodones España;X-APPLE-RADIUS=500;X-TITLE=Avenida de la Dehesa\, 63:geo:-3.9292476,40.5811519
END:VEVENT
BEGIN:VEVENT
DTSTART;TZID=Europe/Madrid:20201126T173000
DTEND;TZID=Europe/Madrid:20201126T193000
DTSTAMP:20260421T004946
CREATED:20201110T090051Z
LAST-MODIFIED:20201126T141931Z
UID:33047-1606411800-1606419000@preproduccion.alpedrete.es
SUMMARY:Prevenir en familia para evitar dolores de cabeza
DESCRIPTION:Desde el Ayuntamiento de Alpedrete y la Mancomunidad de Servicios Sociales THAM\, se ofrece este taller dentro del programa «Espacio para familias»\, en torno a temas de interés relacionados con la educación de los menores y la convivencia familiar. \nLa familia tiene una amplia capacidad de influencia sobre los menores para poder prevenir conductas de riesgo\, entre ellas\, la del consumo de drogas. \nCelebraremos cuatro sesiones con el título «Prevenir en familia para evitar dolores de cabeza» con el objetivo de que las familias tomen conciencia de la gran capacidad de influencia que tienen sobre sus hijos en la prevención de conductas de riesgo\, entre ellas\, la del consumo de drogas. Queremos mostrar todos los recursos que tienen disponibles para que sus hijos e hijas estén protegidos frente a los consumos y otros riesgos\, empezando por la adopción de actitudes y la adquisición de habilidades relacionadas con un adecuado clima afectivo y de comunicación en la familia. \nSesiones a cargo de profesionales del programa En familia. Educar para la vida\, de la Fad (Fundación de Ayuda contra la Drogadicción). \nDebido a la situación actual las sesiones se impartirán en un doble formato: presencial\, con limitación de aforo\, y simultáneamente on line para el resto de personas interesadas\, a través de la plataforma Zoom. Para asistir será imprescindible inscribirse previamente por teléfono o correo electrónico: thamfamilia@mancomunidad-tham.org – 918508080. \nPor el momento\, este curso no habrá servicio de cuidados infantiles para quienes opten por participar de manera presencial. \nJueves 12\, 19 y 26 de noviembre y 3 de diciembre de 17:30 a 19:30 \nLas sesiones son independientes\, aunque relacionadas\, por lo que no es necesario participar en todas ellas. \nDurante las dos primeras sesiones (12 y 19 de noviembre)\, se ha abordado la prevención familiar (la influencia de las pautas familiares en la reducción de los factores de riesgo y en la potenciación de los factores de protección para evitar conductas de riesgo) y un acercamiento a las drogas (información sobre las sustancias\, consecuencias de su consumo y cómo dialogar sobre ellas). \nLas próximas sesiones se realizarán los jueves 26 de noviembre y 3 de diciembre de 17:30 a 19 horas con los siguientes contenidos: \n\nNosotr@s\, madres y padres: parentalidad positiva y responsable \, respuesta a las necesidades de la sociedad actual\, inteligencia emocional en el ámbito familiar\, cómo comunicarnos\, mindfulness o atención plena.\nEscuela de comunicación: cómo propiciar espacios de comunicación en la familia y comunicación positiva.\n\nSesiones a cargo de profesionales del programa En familia. Educar para la vida\, de la Fad (Fundación de Ayuda contra la Drogadicción).
URL:https://preproduccion.alpedrete.es/evento/prevenir-en-familia-para-evitar-dolores-de-cabeza-3/
LOCATION:Mancomunidad THAM. Sede central Torrelodones\, Avenida de la Dehesa\, 63\, Torrelodones\, España
ATTACH;FMTTYPE=image/jpeg:https://preproduccion.alpedrete.es/wp-content/uploads/2020/11/padre-hijo-adolescente.jpg
GEO:40.5811519;-3.9292476
X-APPLE-STRUCTURED-LOCATION;VALUE=URI;X-ADDRESS=Mancomunidad THAM. Sede central Torrelodones Avenida de la Dehesa 63 Torrelodones España;X-APPLE-RADIUS=500;X-TITLE=Avenida de la Dehesa\, 63:geo:-3.9292476,40.5811519
END:VEVENT
BEGIN:VEVENT
DTSTART;TZID=Europe/Madrid:20201112T173000
DTEND;TZID=Europe/Madrid:20201112T193000
DTSTAMP:20260421T004946
CREATED:20201110T090037Z
LAST-MODIFIED:20201110T204956Z
UID:32877-1605202200-1605209400@preproduccion.alpedrete.es
SUMMARY:Prevenir en familia para evitar dolores de cabeza
DESCRIPTION:Desde el Ayuntamiento de Alpedrete y la Mancomunidad de Servicios Sociales THAM\, se ofrece este taller dentro del programa «Espacio para familias»\, en torno a temas de interés relacionados con la educación de los menores y la convivencia familiar. \nLa familia tiene una amplia capacidad de influencia sobre los menores para poder prevenir conductas de riesgo\, entre ellas\, la del consumo de drogas. \nCelebraremos cuatro sesiones con el título «Prevenir en familia para evitar dolores de cabeza» con el objetivo de que las familias tomen conciencia de la gran capacidad de influencia que tienen sobre sus hijos en la prevención de conductas de riesgo\, entre ellas\, la del consumo de drogas. Queremos mostrar todos los recursos que tienen disponibles para que sus hijos e hijas estén protegidos frente a los consumos y otros riesgos\, empezando por la adopción de actitudes y la adquisición de habilidades relacionadas con un adecuado clima afectivo y de comunicación en la familia. \nSesiones a cargo de profesionales del programa En familia. Educar para la vida\, de la Fad (Fundación de Ayuda contra la Drogadicción). \nDebido a la situación actual las sesiones se impartirán en un doble formato: presencial\, con limitación de aforo\, y simultáneamente on line para el resto de personas interesadas\, a través de la plataforma Zoom. Para asistir será imprescindible inscribirse previamente por teléfono o correo electrónico: thamfamilia@mancomunidad-tham.org – 918508080. \nPor el momento\, este curso no habrá servicio de cuidados infantiles para quienes opten por participar de manera presencial. \nJueves 12\, 19 y 26 de noviembre y 3 de diciembre de 17:30 a 19:30
URL:https://preproduccion.alpedrete.es/evento/prevenir-en-familia-para-evitar-dolores-de-cabeza/
LOCATION:Mancomunidad THAM. Sede central Torrelodones\, Avenida de la Dehesa\, 63\, Torrelodones\, España
CATEGORIES:Escuela de Familia
ATTACH;FMTTYPE=image/jpeg:https://preproduccion.alpedrete.es/wp-content/uploads/2020/11/padre-hijo-adolescente.jpg
GEO:40.5811519;-3.9292476
X-APPLE-STRUCTURED-LOCATION;VALUE=URI;X-ADDRESS=Mancomunidad THAM. Sede central Torrelodones Avenida de la Dehesa 63 Torrelodones España;X-APPLE-RADIUS=500;X-TITLE=Avenida de la Dehesa\, 63:geo:-3.9292476,40.5811519
END:VEVENT
BEGIN:VEVENT
DTSTART;TZID=Europe/Madrid:20201021T173000
DTEND;TZID=Europe/Madrid:20201021T193000
DTSTAMP:20260421T004946
CREATED:20201020T122213Z
LAST-MODIFIED:20201020T122213Z
UID:32781-1603301400-1603308600@preproduccion.alpedrete.es
SUMMARY:Espacio para Familias: "Estrés digital en la familia"
DESCRIPTION:Desde el Ayuntamiento de Alpedrete\, a través del programa “Espacio para familias” organizado por la Mancomunidad de Servicios Sociales THAM\, ofrecemos una charla informativa centrada en el estres producido por la situación actual derivada de la COVID-19 y\, en particular\, el derivado de la generalización de las herramientas digitales. \nEn esta sesión\, analizaremos su impacto en el organismo\, en las relaciones sociales\, en el rendimiento escolar de nuestros hijos e hijas\, y en general\, en nuestra vida. Además\, hablaremos de cómo actuar ante esta situación. \nPara ello contaremos con Guillermo Cánovas\, Director del Observatorio para el Uso Saludable de la Tecnología -EducaLIKE- y Director del Centro de Seguridad en Internet para los menores en España. \nDebido a la situación actual\, la sesión se impartirá en un doble formato: presencial\, con limitación de aforo\, y simultáneamente en formato on line para el resto de personas interesadas. Por ello\, será imprescindible inscribirse previamente por teléfono o correo electrónico: thamfamilia@mancomunidad-tham.org – 918508080 \nPor el momento\, este curso no habrá servicio de cuidados infantiles para quienes opten por participar de manera presencial. \nLa sesión se celebrará el martes\, 21 de octubre de 17:30 a 19:30 horas en la sede de la Mancomunidad THAMen Torrelodones: Av. de la Dehesa\, 63\, Torrelodones
URL:https://preproduccion.alpedrete.es/evento/espacio-para-familias-estres-digital-en-la-familia/
LOCATION:Mancomunidad THAM. Sede central Torrelodones\, Avenida de la Dehesa\, 63\, Torrelodones\, España
CATEGORIES:Escuela de Familia
ATTACH;FMTTYPE=image/jpeg:https://preproduccion.alpedrete.es/wp-content/uploads/2020/10/estres-digital-4.jpg
GEO:40.5811519;-3.9292476
X-APPLE-STRUCTURED-LOCATION;VALUE=URI;X-ADDRESS=Mancomunidad THAM. Sede central Torrelodones Avenida de la Dehesa 63 Torrelodones España;X-APPLE-RADIUS=500;X-TITLE=Avenida de la Dehesa\, 63:geo:-3.9292476,40.5811519
END:VEVENT
BEGIN:VEVENT
DTSTART;TZID=Europe/Madrid:20200306T170000
DTEND;TZID=Europe/Madrid:20200306T190000
DTSTAMP:20260421T004946
CREATED:20200302T112554Z
LAST-MODIFIED:20200302T112554Z
UID:29776-1583514000-1583521200@preproduccion.alpedrete.es
SUMMARY:Taller emprendedoras “Avanzamos\, creando red”
DESCRIPTION:El día 6 de marzo\, de 17 a 20 horas\, en el Centro de Servicios Sociales de Torrelodones\, se realizará una sesión dirigida a emprendedoras con el objetivo de ayudar a la visibilización y desarrollo de las mujeres emprendedoras de nuestro entorno. “Avanzamos\, creando red” contará con una ponencia inicial a cargo de Ana Fernández-Villarreal\, directora y coach de Bright Empresa y Salud. \nPosteriormente se trabajará la venta de productos\, la personalización de servicios y las estrategias de capación de clientes. El acceso es libre y gratuito hasta completar aforo. \n 
URL:https://preproduccion.alpedrete.es/evento/taller-emprendedoras-avanzamos-creando-red/
LOCATION:Mancomunidad THAM. Sede central Torrelodones\, Avenida de la Dehesa\, 63\, Torrelodones\, España
CATEGORIES:Taller
ATTACH;FMTTYPE=image/jpeg:https://preproduccion.alpedrete.es/wp-content/uploads/2020/03/mujer-emprendedora.jpg
GEO:40.5811519;-3.9292476
X-APPLE-STRUCTURED-LOCATION;VALUE=URI;X-ADDRESS=Mancomunidad THAM. Sede central Torrelodones Avenida de la Dehesa 63 Torrelodones España;X-APPLE-RADIUS=500;X-TITLE=Avenida de la Dehesa\, 63:geo:-3.9292476,40.5811519
END:VEVENT
BEGIN:VEVENT
DTSTART;TZID=Europe/Madrid:20160610T093000
DTEND;TZID=Europe/Madrid:20160610T140000
DTSTAMP:20260421T004946
CREATED:20160608T102659Z
LAST-MODIFIED:20160608T102659Z
UID:8084-1465551000-1465567200@preproduccion.alpedrete.es
SUMMARY:Prevención de la violencia contra las mujeres
DESCRIPTION:El viernes 10 de junio se celebra la V Jornada Técnica de prevención de la violencia contra las mujeres\, bajo el título “Desvelar violencias”. La cita será por la mañana (de 9\,30 a 14 horas) en la sede de la Mancomunidad\, situada en el Centro de Servicios Sociales de Torrelodones (Avda. de la Dehesa 63). El acceso será libre y gratuito\, previa inscripción en el correo electrónico igualdad@mancomunidad-tham.orgo en el fax 918562152.
URL:https://preproduccion.alpedrete.es/evento/prevencion-la-violencia-las-mujeres/
LOCATION:Mancomunidad THAM. Sede central Torrelodones\, Avenida de la Dehesa\, 63\, Torrelodones\, España
ATTACH;FMTTYPE=image/jpeg:https://preproduccion.alpedrete.es/wp-content/uploads/2016/06/no.jpg
GEO:40.5811519;-3.9292476
X-APPLE-STRUCTURED-LOCATION;VALUE=URI;X-ADDRESS=Mancomunidad THAM. Sede central Torrelodones Avenida de la Dehesa 63 Torrelodones España;X-APPLE-RADIUS=500;X-TITLE=Avenida de la Dehesa\, 63:geo:-3.9292476,40.5811519
END:VEVENT
END:VCALENDAR