BEGIN:VCALENDAR
VERSION:2.0
PRODID:-//Web Ayuntamiento de Alpedrete - ECPv6.9.0//NONSGML v1.0//EN
CALSCALE:GREGORIAN
METHOD:PUBLISH
X-ORIGINAL-URL:https://preproduccion.alpedrete.es
X-WR-CALDESC:Eventos para Web Ayuntamiento de Alpedrete
REFRESH-INTERVAL;VALUE=DURATION:PT1H
X-Robots-Tag:noindex
X-PUBLISHED-TTL:PT1H
BEGIN:VTIMEZONE
TZID:Europe/Madrid
BEGIN:DAYLIGHT
TZOFFSETFROM:+0100
TZOFFSETTO:+0200
TZNAME:CEST
DTSTART:20160327T010000
END:DAYLIGHT
BEGIN:STANDARD
TZOFFSETFROM:+0200
TZOFFSETTO:+0100
TZNAME:CET
DTSTART:20161030T010000
END:STANDARD
BEGIN:DAYLIGHT
TZOFFSETFROM:+0100
TZOFFSETTO:+0200
TZNAME:CEST
DTSTART:20170326T010000
END:DAYLIGHT
BEGIN:STANDARD
TZOFFSETFROM:+0200
TZOFFSETTO:+0100
TZNAME:CET
DTSTART:20171029T010000
END:STANDARD
BEGIN:DAYLIGHT
TZOFFSETFROM:+0100
TZOFFSETTO:+0200
TZNAME:CEST
DTSTART:20180325T010000
END:DAYLIGHT
BEGIN:STANDARD
TZOFFSETFROM:+0200
TZOFFSETTO:+0100
TZNAME:CET
DTSTART:20181028T010000
END:STANDARD
BEGIN:DAYLIGHT
TZOFFSETFROM:+0100
TZOFFSETTO:+0200
TZNAME:CEST
DTSTART:20190331T010000
END:DAYLIGHT
BEGIN:STANDARD
TZOFFSETFROM:+0200
TZOFFSETTO:+0100
TZNAME:CET
DTSTART:20191027T010000
END:STANDARD
END:VTIMEZONE
BEGIN:VEVENT
DTSTART;TZID=Europe/Madrid:20191026T110000
DTEND;TZID=Europe/Madrid:20191026T130000
DTSTAMP:20260420T064145
CREATED:20191015T141608Z
LAST-MODIFIED:20191025T121208Z
UID:28023-1572087600-1572094800@preproduccion.alpedrete.es
SUMMARY:Presentación literaria
DESCRIPTION:“El psicópata que amaba a Beethoven y otros cien apuntes de música y cine”\, de Lamberto del Álamo\,  te ayudará a entender cómo funciona la música en el cine. Este libro escrito por Lamberto del Álamo (profesor de música y musicólogo) va dirigido a quienes aman el cine y quieren descubrir la secreta influencia de la música cinematográfica. \n \n 
URL:https://preproduccion.alpedrete.es/evento/presentacion-del-libro-el-psicopata-que-amaba-a-beethoven-y-otros-cien-apuntes-de-musica-y-cine-lamberto-del-alamo/
LOCATION:Biblioteca Municipal de Alpedrete\, Plaza Francisco Rabal\, 2\, Alpedrete\, 28430 \, España
CATEGORIES:Literatura
ATTACH;FMTTYPE=image/png:https://preproduccion.alpedrete.es/wp-content/uploads/2019/10/Imagen4.png
GEO:40.6621635;-4.031169
X-APPLE-STRUCTURED-LOCATION;VALUE=URI;X-ADDRESS=Biblioteca Municipal de Alpedrete Plaza Francisco Rabal 2 Alpedrete 28430  España;X-APPLE-RADIUS=500;X-TITLE=Plaza Francisco Rabal\, 2:geo:-4.031169,40.6621635
END:VEVENT
BEGIN:VEVENT
DTSTART;VALUE=DATE:20191024
DTEND;VALUE=DATE:20191107
DTSTAMP:20260420T064145
CREATED:20191015T144728Z
LAST-MODIFIED:20191017T115104Z
UID:28029-1571875200-1573084799@preproduccion.alpedrete.es
SUMMARY:Exposición "Naturephotography"
DESCRIPTION:“Naturephotography” es un proyecto de largo tiempo de viajes de trabajo y miles de kilómetros. La afición a la fotografía le llega de la mano de su profesión ligada a la óptica\, viajando a nivel nacional e internacional \, tras el trabajo y su pasión por la montaña\, empieza a descubrir entornos y lugares dignos de inmortalizar. \nLa exposición podrá visitarse en horario de 9.00 a 22.00h de lunes a viernes y los sábados de 9.30 a 14.30h. \n 
URL:https://preproduccion.alpedrete.es/evento/exposicion/
LOCATION:Casa de Cultura Asunción Balaguer\, Plaza Francisco Rabal\, 2\, Alpedrete\, Madrid\, 28430 \, España
CATEGORIES:Exposición
ATTACH;FMTTYPE=image/png:https://preproduccion.alpedrete.es/wp-content/uploads/2019/10/Imagen5.png
GEO:40.6621635;-4.031169
X-APPLE-STRUCTURED-LOCATION;VALUE=URI;X-ADDRESS=Casa de Cultura Asunción Balaguer Plaza Francisco Rabal 2 Alpedrete Madrid 28430  España;X-APPLE-RADIUS=500;X-TITLE=Plaza Francisco Rabal\, 2:geo:-4.031169,40.6621635
END:VEVENT
BEGIN:VEVENT
DTSTART;TZID=Europe/Madrid:20191019T190000
DTEND;TZID=Europe/Madrid:20191019T220000
DTSTAMP:20260420T064145
CREATED:20191016T104554Z
LAST-MODIFIED:20191017T082705Z
UID:28059-1571511600-1571522400@preproduccion.alpedrete.es
SUMMARY:Fiesta inauguración «Noche Joven» curso 2019/20
DESCRIPTION:Juegos absurdos y divertidos\, merendola y risas aseguradas. \n  \nToda la informacion sobre la noche joven aquí: \nVuelve la «Noche Joven» a Alpedrete
URL:https://preproduccion.alpedrete.es/evento/fiesta-inauguracion-noche-joven-curso-2019-20/
LOCATION:Centro de Juventud\, Félix Díaz\, 5\, Alpedrete\, España
CATEGORIES:Juventud
ATTACH;FMTTYPE=image/jpeg:https://preproduccion.alpedrete.es/wp-content/uploads/2019/10/Octubre-2019-Noche-Joven.jpg
GEO:40.6602847;-4.0252745
X-APPLE-STRUCTURED-LOCATION;VALUE=URI;X-ADDRESS=Centro de Juventud Félix Díaz 5 Alpedrete España;X-APPLE-RADIUS=500;X-TITLE=Félix Díaz\, 5:geo:-4.0252745,40.6602847
END:VEVENT
BEGIN:VEVENT
DTSTART;TZID=Europe/Madrid:20191017T090000
DTEND;TZID=Europe/Madrid:20191017T110000
DTSTAMP:20260420T064145
CREATED:20191016T101459Z
LAST-MODIFIED:20191204T124754Z
UID:28048-1571302800-1571310000@preproduccion.alpedrete.es
SUMMARY:Pleno Extraordinario
DESCRIPTION:El jueves 17 de octubre de 2019 a las 9:00 horas\, se celebra sesión de Pleno Extraordinario de la Corporación. El orden del día es el siguiente: \n\nPRIMERO. Sorteo miembros mesas electorales 10 de noviembre de 2019.\nSEGUNDO. Fiestas Laborales Locales 2020.\nTERCERO. Aplicación RDL 24/2018 (incrementos y masa salarial).\nCUARTO. Aprobación provisional del cierre al tráfico de la calle Real en fines de semana.\n\nDecreto de convocatoria de Pleno Extraordinario. 17 de octubre de 2019
URL:https://preproduccion.alpedrete.es/evento/pleno-extraordinario-9/
LOCATION:Casa de Cultura Asunción Balaguer\, Plaza Francisco Rabal\, 2\, Alpedrete\, Madrid\, 28430 \, España
CATEGORIES:Pleno
ATTACH;FMTTYPE=image/jpeg:https://preproduccion.alpedrete.es/wp-content/uploads/2019/09/Pleno-corporacion-19-23.jpg
GEO:40.6621635;-4.031169
X-APPLE-STRUCTURED-LOCATION;VALUE=URI;X-ADDRESS=Casa de Cultura Asunción Balaguer Plaza Francisco Rabal 2 Alpedrete Madrid 28430  España;X-APPLE-RADIUS=500;X-TITLE=Plaza Francisco Rabal\, 2:geo:-4.031169,40.6621635
END:VEVENT
BEGIN:VEVENT
DTSTART;TZID=Europe/Madrid:20190727T220000
DTEND;TZID=Europe/Madrid:20190727T233000
DTSTAMP:20260420T064145
CREATED:20190627T093044Z
LAST-MODIFIED:20190718T122455Z
UID:27088-1564264800-1564270200@preproduccion.alpedrete.es
SUMMARY:Concierto. "Strad\, el violinista rebelde"
DESCRIPTION:STRAD\, un espectáculo único y sin complejos para hacer vibrar al público a través de la música. Con Strad vivirás una revolución musical en la que se aúnan diferentes estilos para formar el suyo propio; uno donde no falta el humor y la diversión. \nSTRAD es fusión\, comenzando por los instrumentos\, mitad clásicos (teclado\, contrabajo\, violín\, etc.) mitad más rockeros (bajo eléctrico\, guitarra eléctrica\, batería\, etc.)  pasando por los estilos\, clásico\, rock\, flamenco\, celta\, jazz\, electrónica\, etc.… y así\, lo mismo podemos escuchar instrumentación de temas de Queen\, AC/DC\, Led Zeppelin\, Michael Jackson\, Serrat\, etc.…\, como podemos disfrutar de temas clásico como V. Monti\, Mozart\, etc.… y otros propios originales de la banda. \n \n 
URL:https://preproduccion.alpedrete.es/evento/concierto-strad-el-violinista-rebelde/
LOCATION:Plaza de Francisco Rabal\, Plaza de Francisco Rabal s/n\, Alpedrete\, Madrid\, 28430\, España
CATEGORIES:Concierto
ATTACH;FMTTYPE=image/jpeg:https://preproduccion.alpedrete.es/wp-content/uploads/2019/06/CARTEL-A3-GUAY-STRAD_ALPEDRETE.jpg
GEO:40.6621635;-4.031169
X-APPLE-STRUCTURED-LOCATION;VALUE=URI;X-ADDRESS=Plaza de Francisco Rabal Plaza de Francisco Rabal s/n Alpedrete Madrid 28430 España;X-APPLE-RADIUS=500;X-TITLE=Plaza de Francisco Rabal s/n:geo:-4.031169,40.6621635
END:VEVENT
BEGIN:VEVENT
DTSTART;VALUE=DATE:20160115
DTEND;VALUE=DATE:20160116
DTSTAMP:20260420T064145
CREATED:20160203T111900Z
LAST-MODIFIED:20160203T111900Z
UID:4149-1452816000-1452902399@preproduccion.alpedrete.es
SUMMARY:La Sardina más grande del Carnaval
DESCRIPTION:Los niños y niñas que participan en un taller de manualidades en la Biblioteca Municipal durante el mes de enero son los encargados de construir las tres sardinas gigantes que se quemarán el 10 de febrero. Los talleres tienen lugar los viernes 15\, 22 y 29 de enero en dos turnos. El primero a las 17:30 y el segundo a las 19:00 de la tarde.
URL:https://preproduccion.alpedrete.es/evento/la-sardina-mas-grande-del-carnaval/
LOCATION:Biblioteca Municipal de Alpedrete\, Plaza Francisco Rabal\, 2\, Alpedrete\, 28430 \, España
GEO:40.6621635;-4.031169
X-APPLE-STRUCTURED-LOCATION;VALUE=URI;X-ADDRESS=Biblioteca Municipal de Alpedrete Plaza Francisco Rabal 2 Alpedrete 28430  España;X-APPLE-RADIUS=500;X-TITLE=Plaza Francisco Rabal\, 2:geo:-4.031169,40.6621635
END:VEVENT
END:VCALENDAR